BEGIN:VCALENDAR
VERSION:2.0
PRODID:-//achurchnearyou.com//eventfeed//EN
CALSCALE:GREGORIAN
METHOD:PUBLISH
X-WR-TIMEZONE:UTC
BEGIN:VEVENT
SUMMARY:Messy Church
DTSTART;TZID=Europe/London:20260428T153000
DTEND;TZID=Europe/London:20260428T170000
DTSTAMP:20260422T021430Z
UID:11407922026-04-28 15:30:00+01:00achurchnearyou
CATEGORIES:
DESCRIPTION:Family service with bible stories\, crafts\, songs. Children a
 ge 3+\nMust be accompanied by an adult
GEO:0.005276;51.159674
LOCATION:Dormansland\, St John the Evangelist
URL:https://www.achurchnearyou.com/church/623/service-and-events/events/11
 40792/
END:VEVENT
BEGIN:VEVENT
SUMMARY:Messy Church
DTSTART;TZID=Europe/London:20260505T153000
DTEND;TZID=Europe/London:20260505T170000
DTSTAMP:20260422T021430Z
UID:11407922026-05-05 15:30:00+01:00achurchnearyou
CATEGORIES:
DESCRIPTION:Family service with bible stories\, crafts\, songs. Children a
 ge 3+\nMust be accompanied by an adult
GEO:0.005276;51.159674
LOCATION:Dormansland\, St John the Evangelist
URL:https://www.achurchnearyou.com/church/623/service-and-events/events/11
 40792/
END:VEVENT
BEGIN:VEVENT
SUMMARY:Messy Church
DTSTART;TZID=Europe/London:20260526T153000
DTEND;TZID=Europe/London:20260526T170000
DTSTAMP:20260422T021430Z
UID:11407922026-05-26 15:30:00+01:00achurchnearyou
CATEGORIES:
DESCRIPTION:Family service with bible stories\, crafts\, songs. Children a
 ge 3+\nMust be accompanied by an adult
GEO:0.005276;51.159674
LOCATION:Dormansland\, St John the Evangelist
URL:https://www.achurchnearyou.com/church/623/service-and-events/events/11
 40792/
END:VEVENT
BEGIN:VEVENT
SUMMARY:Messy Church
DTSTART;TZID=Europe/London:20260602T153000
DTEND;TZID=Europe/London:20260602T170000
DTSTAMP:20260422T021430Z
UID:11407922026-06-02 15:30:00+01:00achurchnearyou
CATEGORIES:
DESCRIPTION:Family service with bible stories\, crafts\, songs. Children a
 ge 3+\nMust be accompanied by an adult
GEO:0.005276;51.159674
LOCATION:Dormansland\, St John the Evangelist
URL:https://www.achurchnearyou.com/church/623/service-and-events/events/11
 40792/
END:VEVENT
BEGIN:VEVENT
SUMMARY:Messy Church
DTSTART;TZID=Europe/London:20260630T153000
DTEND;TZID=Europe/London:20260630T170000
DTSTAMP:20260422T021430Z
UID:11407922026-06-30 15:30:00+01:00achurchnearyou
CATEGORIES:
DESCRIPTION:Family service with bible stories\, crafts\, songs. Children a
 ge 3+\nMust be accompanied by an adult
GEO:0.005276;51.159674
LOCATION:Dormansland\, St John the Evangelist
URL:https://www.achurchnearyou.com/church/623/service-and-events/events/11
 40792/
END:VEVENT
BEGIN:VEVENT
SUMMARY:Messy Church
DTSTART;TZID=Europe/London:20260707T153000
DTEND;TZID=Europe/London:20260707T170000
DTSTAMP:20260422T021430Z
UID:11407922026-07-07 15:30:00+01:00achurchnearyou
CATEGORIES:
DESCRIPTION:Family service with bible stories\, crafts\, songs. Children a
 ge 3+\nMust be accompanied by an adult
GEO:0.005276;51.159674
LOCATION:Dormansland\, St John the Evangelist
URL:https://www.achurchnearyou.com/church/623/service-and-events/events/11
 40792/
END:VEVENT
BEGIN:VEVENT
SUMMARY:Messy Church
DTSTART;TZID=Europe/London:20260728T153000
DTEND;TZID=Europe/London:20260728T170000
DTSTAMP:20260422T021430Z
UID:11407922026-07-28 15:30:00+01:00achurchnearyou
CATEGORIES:
DESCRIPTION:Family service with bible stories\, crafts\, songs. Children a
 ge 3+\nMust be accompanied by an adult
GEO:0.005276;51.159674
LOCATION:Dormansland\, St John the Evangelist
URL:https://www.achurchnearyou.com/church/623/service-and-events/events/11
 40792/
END:VEVENT
BEGIN:VEVENT
SUMMARY:Messy Church
DTSTART;TZID=Europe/London:20260804T153000
DTEND;TZID=Europe/London:20260804T170000
DTSTAMP:20260422T021430Z
UID:11407922026-08-04 15:30:00+01:00achurchnearyou
CATEGORIES:
DESCRIPTION:Family service with bible stories\, crafts\, songs. Children a
 ge 3+\nMust be accompanied by an adult
GEO:0.005276;51.159674
LOCATION:Dormansland\, St John the Evangelist
URL:https://www.achurchnearyou.com/church/623/service-and-events/events/11
 40792/
END:VEVENT
BEGIN:VEVENT
SUMMARY:Messy Church
DTSTART;TZID=Europe/London:20260825T153000
DTEND;TZID=Europe/London:20260825T170000
DTSTAMP:20260422T021430Z
UID:11407922026-08-25 15:30:00+01:00achurchnearyou
CATEGORIES:
DESCRIPTION:Family service with bible stories\, crafts\, songs. Children a
 ge 3+\nMust be accompanied by an adult
GEO:0.005276;51.159674
LOCATION:Dormansland\, St John the Evangelist
URL:https://www.achurchnearyou.com/church/623/service-and-events/events/11
 40792/
END:VEVENT
BEGIN:VEVENT
SUMMARY:Messy Church
DTSTART;TZID=Europe/London:20260901T153000
DTEND;TZID=Europe/London:20260901T170000
DTSTAMP:20260422T021430Z
UID:11407922026-09-01 15:30:00+01:00achurchnearyou
CATEGORIES:
DESCRIPTION:Family service with bible stories\, crafts\, songs. Children a
 ge 3+\nMust be accompanied by an adult
GEO:0.005276;51.159674
LOCATION:Dormansland\, St John the Evangelist
URL:https://www.achurchnearyou.com/church/623/service-and-events/events/11
 40792/
END:VEVENT
BEGIN:VEVENT
SUMMARY:Messy Church
DTSTART;TZID=Europe/London:20260929T153000
DTEND;TZID=Europe/London:20260929T170000
DTSTAMP:20260422T021430Z
UID:11407922026-09-29 15:30:00+01:00achurchnearyou
CATEGORIES:
DESCRIPTION:Family service with bible stories\, crafts\, songs. Children a
 ge 3+\nMust be accompanied by an adult
GEO:0.005276;51.159674
LOCATION:Dormansland\, St John the Evangelist
URL:https://www.achurchnearyou.com/church/623/service-and-events/events/11
 40792/
END:VEVENT
BEGIN:VEVENT
SUMMARY:Messy Church
DTSTART;TZID=Europe/London:20261006T153000
DTEND;TZID=Europe/London:20261006T170000
DTSTAMP:20260422T021430Z
UID:11407922026-10-06 15:30:00+01:00achurchnearyou
CATEGORIES:
DESCRIPTION:Family service with bible stories\, crafts\, songs. Children a
 ge 3+\nMust be accompanied by an adult
GEO:0.005276;51.159674
LOCATION:Dormansland\, St John the Evangelist
URL:https://www.achurchnearyou.com/church/623/service-and-events/events/11
 40792/
END:VEVENT
BEGIN:VEVENT
SUMMARY:Messy Church
DTSTART;TZID=Europe/London:20261027T153000
DTEND;TZID=Europe/London:20261027T170000
DTSTAMP:20260422T021430Z
UID:11407922026-10-27 15:30:00+00:00achurchnearyou
CATEGORIES:
DESCRIPTION:Family service with bible stories\, crafts\, songs. Children a
 ge 3+\nMust be accompanied by an adult
GEO:0.005276;51.159674
LOCATION:Dormansland\, St John the Evangelist
URL:https://www.achurchnearyou.com/church/623/service-and-events/events/11
 40792/
END:VEVENT
BEGIN:VEVENT
SUMMARY:Messy Church
DTSTART;TZID=Europe/London:20261103T153000
DTEND;TZID=Europe/London:20261103T170000
DTSTAMP:20260422T021430Z
UID:11407922026-11-03 15:30:00+00:00achurchnearyou
CATEGORIES:
DESCRIPTION:Family service with bible stories\, crafts\, songs. Children a
 ge 3+\nMust be accompanied by an adult
GEO:0.005276;51.159674
LOCATION:Dormansland\, St John the Evangelist
URL:https://www.achurchnearyou.com/church/623/service-and-events/events/11
 40792/
END:VEVENT
BEGIN:VEVENT
SUMMARY:Messy Church
DTSTART;TZID=Europe/London:20261124T153000
DTEND;TZID=Europe/London:20261124T170000
DTSTAMP:20260422T021430Z
UID:11407922026-11-24 15:30:00+00:00achurchnearyou
CATEGORIES:
DESCRIPTION:Family service with bible stories\, crafts\, songs. Children a
 ge 3+\nMust be accompanied by an adult
GEO:0.005276;51.159674
LOCATION:Dormansland\, St John the Evangelist
URL:https://www.achurchnearyou.com/church/623/service-and-events/events/11
 40792/
END:VEVENT
BEGIN:VEVENT
SUMMARY:Messy Church
DTSTART;TZID=Europe/London:20261201T153000
DTEND;TZID=Europe/London:20261201T170000
DTSTAMP:20260422T021430Z
UID:11407922026-12-01 15:30:00+00:00achurchnearyou
CATEGORIES:
DESCRIPTION:Family service with bible stories\, crafts\, songs. Children a
 ge 3+\nMust be accompanied by an adult
GEO:0.005276;51.159674
LOCATION:Dormansland\, St John the Evangelist
URL:https://www.achurchnearyou.com/church/623/service-and-events/events/11
 40792/
END:VEVENT
BEGIN:VEVENT
SUMMARY:Messy Church
DTSTART;TZID=Europe/London:20261229T153000
DTEND;TZID=Europe/London:20261229T170000
DTSTAMP:20260422T021430Z
UID:11407922026-12-29 15:30:00+00:00achurchnearyou
CATEGORIES:
DESCRIPTION:Family service with bible stories\, crafts\, songs. Children a
 ge 3+\nMust be accompanied by an adult
GEO:0.005276;51.159674
LOCATION:Dormansland\, St John the Evangelist
URL:https://www.achurchnearyou.com/church/623/service-and-events/events/11
 40792/
END:VEVENT
BEGIN:VEVENT
SUMMARY:Messy Church
DTSTART;TZID=Europe/London:20270105T153000
DTEND;TZID=Europe/London:20270105T170000
DTSTAMP:20260422T021430Z
UID:11407922027-01-05 15:30:00+00:00achurchnearyou
CATEGORIES:
DESCRIPTION:Family service with bible stories\, crafts\, songs. Children a
 ge 3+\nMust be accompanied by an adult
GEO:0.005276;51.159674
LOCATION:Dormansland\, St John the Evangelist
URL:https://www.achurchnearyou.com/church/623/service-and-events/events/11
 40792/
END:VEVENT
BEGIN:VEVENT
SUMMARY:Messy Church
DTSTART;TZID=Europe/London:20270126T153000
DTEND;TZID=Europe/London:20270126T170000
DTSTAMP:20260422T021430Z
UID:11407922027-01-26 15:30:00+00:00achurchnearyou
CATEGORIES:
DESCRIPTION:Family service with bible stories\, crafts\, songs. Children a
 ge 3+\nMust be accompanied by an adult
GEO:0.005276;51.159674
LOCATION:Dormansland\, St John the Evangelist
URL:https://www.achurchnearyou.com/church/623/service-and-events/events/11
 40792/
END:VEVENT
BEGIN:VEVENT
SUMMARY:Messy Church
DTSTART;TZID=Europe/London:20270202T153000
DTEND;TZID=Europe/London:20270202T170000
DTSTAMP:20260422T021430Z
UID:11407922027-02-02 15:30:00+00:00achurchnearyou
CATEGORIES:
DESCRIPTION:Family service with bible stories\, crafts\, songs. Children a
 ge 3+\nMust be accompanied by an adult
GEO:0.005276;51.159674
LOCATION:Dormansland\, St John the Evangelist
URL:https://www.achurchnearyou.com/church/623/service-and-events/events/11
 40792/
END:VEVENT
BEGIN:VEVENT
SUMMARY:Messy Church
DTSTART;TZID=Europe/London:20270223T153000
DTEND;TZID=Europe/London:20270223T170000
DTSTAMP:20260422T021430Z
UID:11407922027-02-23 15:30:00+00:00achurchnearyou
CATEGORIES:
DESCRIPTION:Family service with bible stories\, crafts\, songs. Children a
 ge 3+\nMust be accompanied by an adult
GEO:0.005276;51.159674
LOCATION:Dormansland\, St John the Evangelist
URL:https://www.achurchnearyou.com/church/623/service-and-events/events/11
 40792/
END:VEVENT
BEGIN:VEVENT
SUMMARY:Messy Church
DTSTART;TZID=Europe/London:20270302T153000
DTEND;TZID=Europe/London:20270302T170000
DTSTAMP:20260422T021430Z
UID:11407922027-03-02 15:30:00+00:00achurchnearyou
CATEGORIES:
DESCRIPTION:Family service with bible stories\, crafts\, songs. Children a
 ge 3+\nMust be accompanied by an adult
GEO:0.005276;51.159674
LOCATION:Dormansland\, St John the Evangelist
URL:https://www.achurchnearyou.com/church/623/service-and-events/events/11
 40792/
END:VEVENT
BEGIN:VEVENT
SUMMARY:Messy Church
DTSTART;TZID=Europe/London:20270330T153000
DTEND;TZID=Europe/London:20270330T170000
DTSTAMP:20260422T021430Z
UID:11407922027-03-30 15:30:00+01:00achurchnearyou
CATEGORIES:
DESCRIPTION:Family service with bible stories\, crafts\, songs. Children a
 ge 3+\nMust be accompanied by an adult
GEO:0.005276;51.159674
LOCATION:Dormansland\, St John the Evangelist
URL:https://www.achurchnearyou.com/church/623/service-and-events/events/11
 40792/
END:VEVENT
BEGIN:VEVENT
SUMMARY:Messy Church
DTSTART;TZID=Europe/London:20270406T153000
DTEND;TZID=Europe/London:20270406T170000
DTSTAMP:20260422T021430Z
UID:11407922027-04-06 15:30:00+01:00achurchnearyou
CATEGORIES:
DESCRIPTION:Family service with bible stories\, crafts\, songs. Children a
 ge 3+\nMust be accompanied by an adult
GEO:0.005276;51.159674
LOCATION:Dormansland\, St John the Evangelist
URL:https://www.achurchnearyou.com/church/623/service-and-events/events/11
 40792/
END:VEVENT
END:VCALENDAR
