BEGIN:VCALENDAR
VERSION:2.0
PRODID:-//achurchnearyou.com//eventfeed//EN
CALSCALE:GREGORIAN
METHOD:PUBLISH
X-WR-TIMEZONE:UTC
BEGIN:VEVENT
SUMMARY:Holy Communion with Ashing
DTSTART:20260218T193000Z
DTEND:20260218T203000Z
DTSTAMP:20260424T164040Z
UID:10318162026-02-18 19:30:00+00:00achurchnearyou
CATEGORIES:
DESCRIPTION:Ash Wednesday focuses the Christian’s heart on repentance an
 d prayer\, usually through personal and communal confession.\nEach year\, 
 Ash Wednesday marks the beginning of Lent and is always 46 days before Eas
 ter Sunday. Lent is a 40-day season (not counting Sundays) marked by repen
 tance\, fasting\, reflection\, and ultimately celebration. The 40-day peri
 od represents Christ’s time of temptation in the wilderness\, where he f
 asted and where Satan tempted him. Lent asks believers to set aside a time
  each year for similar fasting\, marking an intentional season of focus on
  Christ’s life\, ministry\, sacrifice\, and resurrection.\n(from Christi
 anity.com).
LOCATION:All Saints'\, Chigwell Row
URL:https://www.achurchnearyou.com/church/6233/service-and-events/events/1
 031816/
END:VEVENT
END:VCALENDAR
