BEGIN:VCALENDAR
VERSION:2.0
PRODID:-//achurchnearyou.com//eventfeed//EN
CALSCALE:GREGORIAN
METHOD:PUBLISH
X-WR-TIMEZONE:UTC
BEGIN:VEVENT
SUMMARY:Community Carol Singing
DTSTART:20251213T180000Z
DTEND:20251213T193000Z
DTSTAMP:20260425T012603Z
UID:11274792025-12-13 18:00:00+00:00achurchnearyou
CATEGORIES:
DESCRIPTION:Come along to listen\, or join in if you wish\, with singers f
 rom our community as we sing the traditional Christmas carols at this most
  wonderful time of the year!
LOCATION:The Three Jolly Wheelers
URL:https://www.achurchnearyou.com/church/6233/service-and-events/events/1
 127479/
END:VEVENT
END:VCALENDAR
