BEGIN:VCALENDAR
VERSION:2.0
PRODID:-//achurchnearyou.com//eventfeed//EN
CALSCALE:GREGORIAN
METHOD:PUBLISH
X-WR-TIMEZONE:UTC
BEGIN:VEVENT
SUMMARY:Ladies' breakfast
DTSTART;TZID=Europe/London:20220416T083000
DTEND;TZID=Europe/London:20220416T094500
DTSTAMP:20260424T103052Z
UID:8265212022-04-16 08:30:00+01:00achurchnearyou
CATEGORIES:
DESCRIPTION:Come along for a lovely\, leisurely breakfast and spend time w
 ith friends old and new!  All ladies welcome to join us.
GEO:0.080341;51.624576
LOCATION:St Mary's\, Chigwell
URL:https://www.achurchnearyou.com/church/6233/service-and-events/events/8
 26521/
END:VEVENT
BEGIN:VEVENT
SUMMARY:Ladies' breakfast
DTSTART;TZID=Europe/London:20220521T083000
DTEND;TZID=Europe/London:20220521T094500
DTSTAMP:20260424T103052Z
UID:8265212022-05-21 08:30:00+01:00achurchnearyou
CATEGORIES:
DESCRIPTION:Come along for a lovely\, leisurely breakfast and spend time w
 ith friends old and new!  All ladies welcome to join us.
GEO:0.080341;51.624576
LOCATION:St Mary's\, Chigwell
URL:https://www.achurchnearyou.com/church/6233/service-and-events/events/8
 26521/
END:VEVENT
BEGIN:VEVENT
SUMMARY:Ladies' breakfast
DTSTART;TZID=Europe/London:20220618T083000
DTEND;TZID=Europe/London:20220618T094500
DTSTAMP:20260424T103052Z
UID:8265212022-06-18 08:30:00+01:00achurchnearyou
CATEGORIES:
DESCRIPTION:Come along for a lovely\, leisurely breakfast and spend time w
 ith friends old and new!  All ladies welcome to join us.
GEO:0.080341;51.624576
LOCATION:St Mary's\, Chigwell
URL:https://www.achurchnearyou.com/church/6233/service-and-events/events/8
 26521/
END:VEVENT
BEGIN:VEVENT
SUMMARY:Ladies' breakfast
DTSTART;TZID=Europe/London:20220716T083000
DTEND;TZID=Europe/London:20220716T094500
DTSTAMP:20260424T103052Z
UID:8265212022-07-16 08:30:00+01:00achurchnearyou
CATEGORIES:
DESCRIPTION:Come along for a lovely\, leisurely breakfast and spend time w
 ith friends old and new!  All ladies welcome to join us.
GEO:0.080341;51.624576
LOCATION:St Mary's\, Chigwell
URL:https://www.achurchnearyou.com/church/6233/service-and-events/events/8
 26521/
END:VEVENT
BEGIN:VEVENT
SUMMARY:Ladies' breakfast
DTSTART;TZID=Europe/London:20220917T083000
DTEND;TZID=Europe/London:20220917T094500
DTSTAMP:20260424T103052Z
UID:8265212022-09-17 08:30:00+01:00achurchnearyou
CATEGORIES:
DESCRIPTION:Come along for a lovely\, leisurely breakfast and spend time w
 ith friends old and new!  All ladies welcome to join us.
GEO:0.080341;51.624576
LOCATION:St Mary's\, Chigwell
URL:https://www.achurchnearyou.com/church/6233/service-and-events/events/8
 26521/
END:VEVENT
BEGIN:VEVENT
SUMMARY:Ladies' breakfast
DTSTART;TZID=Europe/London:20221015T083000
DTEND;TZID=Europe/London:20221015T094500
DTSTAMP:20260424T103052Z
UID:8265212022-10-15 08:30:00+01:00achurchnearyou
CATEGORIES:
DESCRIPTION:Come along for a lovely\, leisurely breakfast and spend time w
 ith friends old and new!  All ladies welcome to join us.
GEO:0.080341;51.624576
LOCATION:St Mary's\, Chigwell
URL:https://www.achurchnearyou.com/church/6233/service-and-events/events/8
 26521/
END:VEVENT
BEGIN:VEVENT
SUMMARY:Ladies' breakfast
DTSTART;TZID=Europe/London:20221119T083000
DTEND;TZID=Europe/London:20221119T094500
DTSTAMP:20260424T103052Z
UID:8265212022-11-19 08:30:00+00:00achurchnearyou
CATEGORIES:
DESCRIPTION:Come along for a lovely\, leisurely breakfast and spend time w
 ith friends old and new!  All ladies welcome to join us.
GEO:0.080341;51.624576
LOCATION:St Mary's\, Chigwell
URL:https://www.achurchnearyou.com/church/6233/service-and-events/events/8
 26521/
END:VEVENT
BEGIN:VEVENT
SUMMARY:Ladies' breakfast
DTSTART;TZID=Europe/London:20221217T083000
DTEND;TZID=Europe/London:20221217T094500
DTSTAMP:20260424T103052Z
UID:8265212022-12-17 08:30:00+00:00achurchnearyou
CATEGORIES:
DESCRIPTION:Come along for a lovely\, leisurely breakfast and spend time w
 ith friends old and new!  All ladies welcome to join us.
GEO:0.080341;51.624576
LOCATION:St Mary's\, Chigwell
URL:https://www.achurchnearyou.com/church/6233/service-and-events/events/8
 26521/
END:VEVENT
BEGIN:VEVENT
SUMMARY:Ladies' breakfast
DTSTART;TZID=Europe/London:20230121T083000
DTEND;TZID=Europe/London:20230121T094500
DTSTAMP:20260424T103052Z
UID:8265212023-01-21 08:30:00+00:00achurchnearyou
CATEGORIES:
DESCRIPTION:Come along for a lovely\, leisurely breakfast and spend time w
 ith friends old and new!  All ladies welcome to join us.
GEO:0.080341;51.624576
LOCATION:St Mary's\, Chigwell
URL:https://www.achurchnearyou.com/church/6233/service-and-events/events/8
 26521/
END:VEVENT
BEGIN:VEVENT
SUMMARY:Ladies' breakfast
DTSTART;TZID=Europe/London:20230218T083000
DTEND;TZID=Europe/London:20230218T094500
DTSTAMP:20260424T103052Z
UID:8265212023-02-18 08:30:00+00:00achurchnearyou
CATEGORIES:
DESCRIPTION:Come along for a lovely\, leisurely breakfast and spend time w
 ith friends old and new!  All ladies welcome to join us.
GEO:0.080341;51.624576
LOCATION:St Mary's\, Chigwell
URL:https://www.achurchnearyou.com/church/6233/service-and-events/events/8
 26521/
END:VEVENT
BEGIN:VEVENT
SUMMARY:Ladies' breakfast
DTSTART;TZID=Europe/London:20230318T083000
DTEND;TZID=Europe/London:20230318T094500
DTSTAMP:20260424T103052Z
UID:8265212023-03-18 08:30:00+00:00achurchnearyou
CATEGORIES:
DESCRIPTION:Come along for a lovely\, leisurely breakfast and spend time w
 ith friends old and new!  All ladies welcome to join us.
GEO:0.080341;51.624576
LOCATION:St Mary's\, Chigwell
URL:https://www.achurchnearyou.com/church/6233/service-and-events/events/8
 26521/
END:VEVENT
BEGIN:VEVENT
SUMMARY:Ladies' breakfast
DTSTART;TZID=Europe/London:20230415T083000
DTEND;TZID=Europe/London:20230415T094500
DTSTAMP:20260424T103052Z
UID:8265212023-04-15 08:30:00+01:00achurchnearyou
CATEGORIES:
DESCRIPTION:Come along for a lovely\, leisurely breakfast and spend time w
 ith friends old and new!  All ladies welcome to join us.
GEO:0.080341;51.624576
LOCATION:St Mary's\, Chigwell
URL:https://www.achurchnearyou.com/church/6233/service-and-events/events/8
 26521/
END:VEVENT
BEGIN:VEVENT
SUMMARY:Ladies' breakfast
DTSTART;TZID=Europe/London:20230520T083000
DTEND;TZID=Europe/London:20230520T094500
DTSTAMP:20260424T103052Z
UID:8265212023-05-20 08:30:00+01:00achurchnearyou
CATEGORIES:
DESCRIPTION:Come along for a lovely\, leisurely breakfast and spend time w
 ith friends old and new!  All ladies welcome to join us.
GEO:0.080341;51.624576
LOCATION:St Mary's\, Chigwell
URL:https://www.achurchnearyou.com/church/6233/service-and-events/events/8
 26521/
END:VEVENT
BEGIN:VEVENT
SUMMARY:Ladies' breakfast
DTSTART;TZID=Europe/London:20230617T083000
DTEND;TZID=Europe/London:20230617T094500
DTSTAMP:20260424T103052Z
UID:8265212023-06-17 08:30:00+01:00achurchnearyou
CATEGORIES:
DESCRIPTION:Come along for a lovely\, leisurely breakfast and spend time w
 ith friends old and new!  All ladies welcome to join us.
GEO:0.080341;51.624576
LOCATION:St Mary's\, Chigwell
URL:https://www.achurchnearyou.com/church/6233/service-and-events/events/8
 26521/
END:VEVENT
BEGIN:VEVENT
SUMMARY:Ladies' breakfast
DTSTART;TZID=Europe/London:20230715T083000
DTEND;TZID=Europe/London:20230715T094500
DTSTAMP:20260424T103052Z
UID:8265212023-07-15 08:30:00+01:00achurchnearyou
CATEGORIES:
DESCRIPTION:Come along for a lovely\, leisurely breakfast and spend time w
 ith friends old and new!  All ladies welcome to join us.
GEO:0.080341;51.624576
LOCATION:St Mary's\, Chigwell
URL:https://www.achurchnearyou.com/church/6233/service-and-events/events/8
 26521/
END:VEVENT
BEGIN:VEVENT
SUMMARY:Ladies' breakfast
DTSTART;TZID=Europe/London:20230916T083000
DTEND;TZID=Europe/London:20230916T094500
DTSTAMP:20260424T103052Z
UID:8265212023-09-16 08:30:00+01:00achurchnearyou
CATEGORIES:
DESCRIPTION:Come along for a lovely\, leisurely breakfast and spend time w
 ith friends old and new!  All ladies welcome to join us.
GEO:0.080341;51.624576
LOCATION:St Mary's\, Chigwell
URL:https://www.achurchnearyou.com/church/6233/service-and-events/events/8
 26521/
END:VEVENT
BEGIN:VEVENT
SUMMARY:Ladies' breakfast
DTSTART;TZID=Europe/London:20231021T083000
DTEND;TZID=Europe/London:20231021T094500
DTSTAMP:20260424T103052Z
UID:8265212023-10-21 08:30:00+01:00achurchnearyou
CATEGORIES:
DESCRIPTION:Come along for a lovely\, leisurely breakfast and spend time w
 ith friends old and new!  All ladies welcome to join us.
GEO:0.080341;51.624576
LOCATION:St Mary's\, Chigwell
URL:https://www.achurchnearyou.com/church/6233/service-and-events/events/8
 26521/
END:VEVENT
BEGIN:VEVENT
SUMMARY:Ladies' breakfast
DTSTART;TZID=Europe/London:20231118T083000
DTEND;TZID=Europe/London:20231118T094500
DTSTAMP:20260424T103052Z
UID:8265212023-11-18 08:30:00+00:00achurchnearyou
CATEGORIES:
DESCRIPTION:Come along for a lovely\, leisurely breakfast and spend time w
 ith friends old and new!  All ladies welcome to join us.
GEO:0.080341;51.624576
LOCATION:St Mary's\, Chigwell
URL:https://www.achurchnearyou.com/church/6233/service-and-events/events/8
 26521/
END:VEVENT
BEGIN:VEVENT
SUMMARY:Ladies' breakfast
DTSTART;TZID=Europe/London:20231216T083000
DTEND;TZID=Europe/London:20231216T094500
DTSTAMP:20260424T103052Z
UID:8265212023-12-16 08:30:00+00:00achurchnearyou
CATEGORIES:
DESCRIPTION:Come along for a lovely\, leisurely breakfast and spend time w
 ith friends old and new!  All ladies welcome to join us.
GEO:0.080341;51.624576
LOCATION:St Mary's\, Chigwell
URL:https://www.achurchnearyou.com/church/6233/service-and-events/events/8
 26521/
END:VEVENT
BEGIN:VEVENT
SUMMARY:Ladies' breakfast
DTSTART;TZID=Europe/London:20240120T083000
DTEND;TZID=Europe/London:20240120T094500
DTSTAMP:20260424T103052Z
UID:8265212024-01-20 08:30:00+00:00achurchnearyou
CATEGORIES:
DESCRIPTION:Come along for a lovely\, leisurely breakfast and spend time w
 ith friends old and new!  All ladies welcome to join us.
GEO:0.080341;51.624576
LOCATION:St Mary's\, Chigwell
URL:https://www.achurchnearyou.com/church/6233/service-and-events/events/8
 26521/
END:VEVENT
BEGIN:VEVENT
SUMMARY:Ladies' breakfast
DTSTART;TZID=Europe/London:20240217T083000
DTEND;TZID=Europe/London:20240217T094500
DTSTAMP:20260424T103052Z
UID:8265212024-02-17 08:30:00+00:00achurchnearyou
CATEGORIES:
DESCRIPTION:Come along for a lovely\, leisurely breakfast and spend time w
 ith friends old and new!  All ladies welcome to join us.
GEO:0.080341;51.624576
LOCATION:St Mary's\, Chigwell
URL:https://www.achurchnearyou.com/church/6233/service-and-events/events/8
 26521/
END:VEVENT
BEGIN:VEVENT
SUMMARY:Ladies' breakfast
DTSTART;TZID=Europe/London:20240316T083000
DTEND;TZID=Europe/London:20240316T094500
DTSTAMP:20260424T103052Z
UID:8265212024-03-16 08:30:00+00:00achurchnearyou
CATEGORIES:
DESCRIPTION:Come along for a lovely\, leisurely breakfast and spend time w
 ith friends old and new!  All ladies welcome to join us.
GEO:0.080341;51.624576
LOCATION:St Mary's\, Chigwell
URL:https://www.achurchnearyou.com/church/6233/service-and-events/events/8
 26521/
END:VEVENT
BEGIN:VEVENT
SUMMARY:Ladies' breakfast
DTSTART;TZID=Europe/London:20240420T083000
DTEND;TZID=Europe/London:20240420T094500
DTSTAMP:20260424T103052Z
UID:8265212024-04-20 08:30:00+01:00achurchnearyou
CATEGORIES:
DESCRIPTION:Come along for a lovely\, leisurely breakfast and spend time w
 ith friends old and new!  All ladies welcome to join us.
GEO:0.080341;51.624576
LOCATION:St Mary's\, Chigwell
URL:https://www.achurchnearyou.com/church/6233/service-and-events/events/8
 26521/
END:VEVENT
BEGIN:VEVENT
SUMMARY:Ladies' breakfast
DTSTART;TZID=Europe/London:20240518T083000
DTEND;TZID=Europe/London:20240518T094500
DTSTAMP:20260424T103052Z
UID:8265212024-05-18 08:30:00+01:00achurchnearyou
CATEGORIES:
DESCRIPTION:Come along for a lovely\, leisurely breakfast and spend time w
 ith friends old and new!  All ladies welcome to join us.
GEO:0.080341;51.624576
LOCATION:St Mary's\, Chigwell
URL:https://www.achurchnearyou.com/church/6233/service-and-events/events/8
 26521/
END:VEVENT
BEGIN:VEVENT
SUMMARY:Ladies' breakfast
DTSTART;TZID=Europe/London:20240615T083000
DTEND;TZID=Europe/London:20240615T094500
DTSTAMP:20260424T103052Z
UID:8265212024-06-15 08:30:00+01:00achurchnearyou
CATEGORIES:
DESCRIPTION:Come along for a lovely\, leisurely breakfast and spend time w
 ith friends old and new!  All ladies welcome to join us.
GEO:0.080341;51.624576
LOCATION:St Mary's\, Chigwell
URL:https://www.achurchnearyou.com/church/6233/service-and-events/events/8
 26521/
END:VEVENT
BEGIN:VEVENT
SUMMARY:Ladies' breakfast
DTSTART;TZID=Europe/London:20240720T083000
DTEND;TZID=Europe/London:20240720T094500
DTSTAMP:20260424T103052Z
UID:8265212024-07-20 08:30:00+01:00achurchnearyou
CATEGORIES:
DESCRIPTION:Come along for a lovely\, leisurely breakfast and spend time w
 ith friends old and new!  All ladies welcome to join us.
GEO:0.080341;51.624576
LOCATION:St Mary's\, Chigwell
URL:https://www.achurchnearyou.com/church/6233/service-and-events/events/8
 26521/
END:VEVENT
BEGIN:VEVENT
SUMMARY:Ladies' breakfast
DTSTART;TZID=Europe/London:20240921T083000
DTEND;TZID=Europe/London:20240921T094500
DTSTAMP:20260424T103052Z
UID:8265212024-09-21 08:30:00+01:00achurchnearyou
CATEGORIES:
DESCRIPTION:Come along for a lovely\, leisurely breakfast and spend time w
 ith friends old and new!  All ladies welcome to join us.
GEO:0.080341;51.624576
LOCATION:St Mary's\, Chigwell
URL:https://www.achurchnearyou.com/church/6233/service-and-events/events/8
 26521/
END:VEVENT
BEGIN:VEVENT
SUMMARY:Ladies' breakfast
DTSTART;TZID=Europe/London:20241019T083000
DTEND;TZID=Europe/London:20241019T094500
DTSTAMP:20260424T103052Z
UID:8265212024-10-19 08:30:00+01:00achurchnearyou
CATEGORIES:
DESCRIPTION:Come along for a lovely\, leisurely breakfast and spend time w
 ith friends old and new!  All ladies welcome to join us.
GEO:0.080341;51.624576
LOCATION:St Mary's\, Chigwell
URL:https://www.achurchnearyou.com/church/6233/service-and-events/events/8
 26521/
END:VEVENT
BEGIN:VEVENT
SUMMARY:Ladies' breakfast
DTSTART;TZID=Europe/London:20241116T083000
DTEND;TZID=Europe/London:20241116T094500
DTSTAMP:20260424T103052Z
UID:8265212024-11-16 08:30:00+00:00achurchnearyou
CATEGORIES:
DESCRIPTION:Come along for a lovely\, leisurely breakfast and spend time w
 ith friends old and new!  All ladies welcome to join us.
GEO:0.080341;51.624576
LOCATION:St Mary's\, Chigwell
URL:https://www.achurchnearyou.com/church/6233/service-and-events/events/8
 26521/
END:VEVENT
BEGIN:VEVENT
SUMMARY:Ladies' breakfast
DTSTART;TZID=Europe/London:20241221T083000
DTEND;TZID=Europe/London:20241221T094500
DTSTAMP:20260424T103052Z
UID:8265212024-12-21 08:30:00+00:00achurchnearyou
CATEGORIES:
DESCRIPTION:Come along for a lovely\, leisurely breakfast and spend time w
 ith friends old and new!  All ladies welcome to join us.
GEO:0.080341;51.624576
LOCATION:St Mary's\, Chigwell
URL:https://www.achurchnearyou.com/church/6233/service-and-events/events/8
 26521/
END:VEVENT
BEGIN:VEVENT
SUMMARY:Ladies' breakfast
DTSTART;TZID=Europe/London:20250118T083000
DTEND;TZID=Europe/London:20250118T094500
DTSTAMP:20260424T103052Z
UID:8265212025-01-18 08:30:00+00:00achurchnearyou
CATEGORIES:
DESCRIPTION:Come along for a lovely\, leisurely breakfast and spend time w
 ith friends old and new!  All ladies welcome to join us.
GEO:0.080341;51.624576
LOCATION:St Mary's\, Chigwell
URL:https://www.achurchnearyou.com/church/6233/service-and-events/events/8
 26521/
END:VEVENT
BEGIN:VEVENT
SUMMARY:Ladies' breakfast
DTSTART;TZID=Europe/London:20250215T083000
DTEND;TZID=Europe/London:20250215T094500
DTSTAMP:20260424T103052Z
UID:8265212025-02-15 08:30:00+00:00achurchnearyou
CATEGORIES:
DESCRIPTION:Come along for a lovely\, leisurely breakfast and spend time w
 ith friends old and new!  All ladies welcome to join us.
GEO:0.080341;51.624576
LOCATION:St Mary's\, Chigwell
URL:https://www.achurchnearyou.com/church/6233/service-and-events/events/8
 26521/
END:VEVENT
BEGIN:VEVENT
SUMMARY:Ladies' breakfast
DTSTART;TZID=Europe/London:20250315T083000
DTEND;TZID=Europe/London:20250315T094500
DTSTAMP:20260424T103052Z
UID:8265212025-03-15 08:30:00+00:00achurchnearyou
CATEGORIES:
DESCRIPTION:Come along for a lovely\, leisurely breakfast and spend time w
 ith friends old and new!  All ladies welcome to join us.
GEO:0.080341;51.624576
LOCATION:St Mary's\, Chigwell
URL:https://www.achurchnearyou.com/church/6233/service-and-events/events/8
 26521/
END:VEVENT
BEGIN:VEVENT
SUMMARY:Ladies' breakfast
DTSTART;TZID=Europe/London:20250419T083000
DTEND;TZID=Europe/London:20250419T094500
DTSTAMP:20260424T103052Z
UID:8265212025-04-19 08:30:00+01:00achurchnearyou
CATEGORIES:
DESCRIPTION:Come along for a lovely\, leisurely breakfast and spend time w
 ith friends old and new!  All ladies welcome to join us.
GEO:0.080341;51.624576
LOCATION:St Mary's\, Chigwell
URL:https://www.achurchnearyou.com/church/6233/service-and-events/events/8
 26521/
END:VEVENT
BEGIN:VEVENT
SUMMARY:Ladies' breakfast
DTSTART;TZID=Europe/London:20250517T083000
DTEND;TZID=Europe/London:20250517T094500
DTSTAMP:20260424T103052Z
UID:8265212025-05-17 08:30:00+01:00achurchnearyou
CATEGORIES:
DESCRIPTION:Come along for a lovely\, leisurely breakfast and spend time w
 ith friends old and new!  All ladies welcome to join us.
GEO:0.080341;51.624576
LOCATION:St Mary's\, Chigwell
URL:https://www.achurchnearyou.com/church/6233/service-and-events/events/8
 26521/
END:VEVENT
BEGIN:VEVENT
SUMMARY:Ladies' breakfast
DTSTART;TZID=Europe/London:20250621T083000
DTEND;TZID=Europe/London:20250621T094500
DTSTAMP:20260424T103052Z
UID:8265212025-06-21 08:30:00+01:00achurchnearyou
CATEGORIES:
DESCRIPTION:Come along for a lovely\, leisurely breakfast and spend time w
 ith friends old and new!  All ladies welcome to join us.
GEO:0.080341;51.624576
LOCATION:St Mary's\, Chigwell
URL:https://www.achurchnearyou.com/church/6233/service-and-events/events/8
 26521/
END:VEVENT
BEGIN:VEVENT
SUMMARY:Ladies' breakfast
DTSTART;TZID=Europe/London:20250719T083000
DTEND;TZID=Europe/London:20250719T094500
DTSTAMP:20260424T103052Z
UID:8265212025-07-19 08:30:00+01:00achurchnearyou
CATEGORIES:
DESCRIPTION:Come along for a lovely\, leisurely breakfast and spend time w
 ith friends old and new!  All ladies welcome to join us.
GEO:0.080341;51.624576
LOCATION:St Mary's\, Chigwell
URL:https://www.achurchnearyou.com/church/6233/service-and-events/events/8
 26521/
END:VEVENT
BEGIN:VEVENT
SUMMARY:Ladies' breakfast
DTSTART;TZID=Europe/London:20250920T083000
DTEND;TZID=Europe/London:20250920T094500
DTSTAMP:20260424T103052Z
UID:8265212025-09-20 08:30:00+01:00achurchnearyou
CATEGORIES:
DESCRIPTION:Come along for a lovely\, leisurely breakfast and spend time w
 ith friends old and new!  All ladies welcome to join us.
GEO:0.080341;51.624576
LOCATION:St Mary's\, Chigwell
URL:https://www.achurchnearyou.com/church/6233/service-and-events/events/8
 26521/
END:VEVENT
BEGIN:VEVENT
SUMMARY:Ladies' breakfast
DTSTART;TZID=Europe/London:20251018T083000
DTEND;TZID=Europe/London:20251018T094500
DTSTAMP:20260424T103052Z
UID:8265212025-10-18 08:30:00+01:00achurchnearyou
CATEGORIES:
DESCRIPTION:Come along for a lovely\, leisurely breakfast and spend time w
 ith friends old and new!  All ladies welcome to join us.
GEO:0.080341;51.624576
LOCATION:St Mary's\, Chigwell
URL:https://www.achurchnearyou.com/church/6233/service-and-events/events/8
 26521/
END:VEVENT
BEGIN:VEVENT
SUMMARY:Ladies' breakfast
DTSTART;TZID=Europe/London:20251115T083000
DTEND;TZID=Europe/London:20251115T094500
DTSTAMP:20260424T103052Z
UID:8265212025-11-15 08:30:00+00:00achurchnearyou
CATEGORIES:
DESCRIPTION:Come along for a lovely\, leisurely breakfast and spend time w
 ith friends old and new!  All ladies welcome to join us.
GEO:0.080341;51.624576
LOCATION:St Mary's\, Chigwell
URL:https://www.achurchnearyou.com/church/6233/service-and-events/events/8
 26521/
END:VEVENT
BEGIN:VEVENT
SUMMARY:Ladies' breakfast
DTSTART;TZID=Europe/London:20251220T083000
DTEND;TZID=Europe/London:20251220T094500
DTSTAMP:20260424T103052Z
UID:8265212025-12-20 08:30:00+00:00achurchnearyou
CATEGORIES:
DESCRIPTION:Come along for a lovely\, leisurely breakfast and spend time w
 ith friends old and new!  All ladies welcome to join us.
GEO:0.080341;51.624576
LOCATION:St Mary's\, Chigwell
URL:https://www.achurchnearyou.com/church/6233/service-and-events/events/8
 26521/
END:VEVENT
BEGIN:VEVENT
SUMMARY:Ladies' breakfast
DTSTART;TZID=Europe/London:20260117T083000
DTEND;TZID=Europe/London:20260117T094500
DTSTAMP:20260424T103052Z
UID:8265212026-01-17 08:30:00+00:00achurchnearyou
CATEGORIES:
DESCRIPTION:Come along for a lovely\, leisurely breakfast and spend time w
 ith friends old and new!  All ladies welcome to join us.
GEO:0.080341;51.624576
LOCATION:St Mary's\, Chigwell
URL:https://www.achurchnearyou.com/church/6233/service-and-events/events/8
 26521/
END:VEVENT
BEGIN:VEVENT
SUMMARY:Ladies' breakfast
DTSTART;TZID=Europe/London:20260221T083000
DTEND;TZID=Europe/London:20260221T094500
DTSTAMP:20260424T103052Z
UID:8265212026-02-21 08:30:00+00:00achurchnearyou
CATEGORIES:
DESCRIPTION:Come along for a lovely\, leisurely breakfast and spend time w
 ith friends old and new!  All ladies welcome to join us.
GEO:0.080341;51.624576
LOCATION:St Mary's\, Chigwell
URL:https://www.achurchnearyou.com/church/6233/service-and-events/events/8
 26521/
END:VEVENT
BEGIN:VEVENT
SUMMARY:Ladies' breakfast
DTSTART;TZID=Europe/London:20260321T083000
DTEND;TZID=Europe/London:20260321T094500
DTSTAMP:20260424T103052Z
UID:8265212026-03-21 08:30:00+00:00achurchnearyou
CATEGORIES:
DESCRIPTION:Come along for a lovely\, leisurely breakfast and spend time w
 ith friends old and new!  All ladies welcome to join us.
GEO:0.080341;51.624576
LOCATION:St Mary's\, Chigwell
URL:https://www.achurchnearyou.com/church/6233/service-and-events/events/8
 26521/
END:VEVENT
BEGIN:VEVENT
SUMMARY:Ladies' breakfast
DTSTART;TZID=Europe/London:20260418T083000
DTEND;TZID=Europe/London:20260418T094500
DTSTAMP:20260424T103052Z
UID:8265212026-04-18 08:30:00+01:00achurchnearyou
CATEGORIES:
DESCRIPTION:Come along for a lovely\, leisurely breakfast and spend time w
 ith friends old and new!  All ladies welcome to join us.
GEO:0.080341;51.624576
LOCATION:St Mary's\, Chigwell
URL:https://www.achurchnearyou.com/church/6233/service-and-events/events/8
 26521/
END:VEVENT
BEGIN:VEVENT
SUMMARY:Ladies' breakfast
DTSTART;TZID=Europe/London:20260516T083000
DTEND;TZID=Europe/London:20260516T094500
DTSTAMP:20260424T103052Z
UID:8265212026-05-16 08:30:00+01:00achurchnearyou
CATEGORIES:
DESCRIPTION:Come along for a lovely\, leisurely breakfast and spend time w
 ith friends old and new!  All ladies welcome to join us.
GEO:0.080341;51.624576
LOCATION:St Mary's\, Chigwell
URL:https://www.achurchnearyou.com/church/6233/service-and-events/events/8
 26521/
END:VEVENT
BEGIN:VEVENT
SUMMARY:Ladies' breakfast
DTSTART;TZID=Europe/London:20260620T083000
DTEND;TZID=Europe/London:20260620T094500
DTSTAMP:20260424T103052Z
UID:8265212026-06-20 08:30:00+01:00achurchnearyou
CATEGORIES:
DESCRIPTION:Come along for a lovely\, leisurely breakfast and spend time w
 ith friends old and new!  All ladies welcome to join us.
GEO:0.080341;51.624576
LOCATION:St Mary's\, Chigwell
URL:https://www.achurchnearyou.com/church/6233/service-and-events/events/8
 26521/
END:VEVENT
BEGIN:VEVENT
SUMMARY:Ladies' breakfast
DTSTART;TZID=Europe/London:20260718T083000
DTEND;TZID=Europe/London:20260718T094500
DTSTAMP:20260424T103052Z
UID:8265212026-07-18 08:30:00+01:00achurchnearyou
CATEGORIES:
DESCRIPTION:Come along for a lovely\, leisurely breakfast and spend time w
 ith friends old and new!  All ladies welcome to join us.
GEO:0.080341;51.624576
LOCATION:St Mary's\, Chigwell
URL:https://www.achurchnearyou.com/church/6233/service-and-events/events/8
 26521/
END:VEVENT
BEGIN:VEVENT
SUMMARY:Ladies' breakfast
DTSTART;TZID=Europe/London:20260919T083000
DTEND;TZID=Europe/London:20260919T094500
DTSTAMP:20260424T103052Z
UID:8265212026-09-19 08:30:00+01:00achurchnearyou
CATEGORIES:
DESCRIPTION:Come along for a lovely\, leisurely breakfast and spend time w
 ith friends old and new!  All ladies welcome to join us.
GEO:0.080341;51.624576
LOCATION:St Mary's\, Chigwell
URL:https://www.achurchnearyou.com/church/6233/service-and-events/events/8
 26521/
END:VEVENT
BEGIN:VEVENT
SUMMARY:Ladies' breakfast
DTSTART;TZID=Europe/London:20261017T083000
DTEND;TZID=Europe/London:20261017T094500
DTSTAMP:20260424T103052Z
UID:8265212026-10-17 08:30:00+01:00achurchnearyou
CATEGORIES:
DESCRIPTION:Come along for a lovely\, leisurely breakfast and spend time w
 ith friends old and new!  All ladies welcome to join us.
GEO:0.080341;51.624576
LOCATION:St Mary's\, Chigwell
URL:https://www.achurchnearyou.com/church/6233/service-and-events/events/8
 26521/
END:VEVENT
BEGIN:VEVENT
SUMMARY:Ladies' breakfast
DTSTART;TZID=Europe/London:20261121T083000
DTEND;TZID=Europe/London:20261121T094500
DTSTAMP:20260424T103052Z
UID:8265212026-11-21 08:30:00+00:00achurchnearyou
CATEGORIES:
DESCRIPTION:Come along for a lovely\, leisurely breakfast and spend time w
 ith friends old and new!  All ladies welcome to join us.
GEO:0.080341;51.624576
LOCATION:St Mary's\, Chigwell
URL:https://www.achurchnearyou.com/church/6233/service-and-events/events/8
 26521/
END:VEVENT
BEGIN:VEVENT
SUMMARY:Ladies' breakfast
DTSTART;TZID=Europe/London:20261219T083000
DTEND;TZID=Europe/London:20261219T094500
DTSTAMP:20260424T103052Z
UID:8265212026-12-19 08:30:00+00:00achurchnearyou
CATEGORIES:
DESCRIPTION:Come along for a lovely\, leisurely breakfast and spend time w
 ith friends old and new!  All ladies welcome to join us.
GEO:0.080341;51.624576
LOCATION:St Mary's\, Chigwell
URL:https://www.achurchnearyou.com/church/6233/service-and-events/events/8
 26521/
END:VEVENT
BEGIN:VEVENT
SUMMARY:Ladies' breakfast
DTSTART;TZID=Europe/London:20270116T083000
DTEND;TZID=Europe/London:20270116T094500
DTSTAMP:20260424T103052Z
UID:8265212027-01-16 08:30:00+00:00achurchnearyou
CATEGORIES:
DESCRIPTION:Come along for a lovely\, leisurely breakfast and spend time w
 ith friends old and new!  All ladies welcome to join us.
GEO:0.080341;51.624576
LOCATION:St Mary's\, Chigwell
URL:https://www.achurchnearyou.com/church/6233/service-and-events/events/8
 26521/
END:VEVENT
BEGIN:VEVENT
SUMMARY:Ladies' breakfast
DTSTART;TZID=Europe/London:20270220T083000
DTEND;TZID=Europe/London:20270220T094500
DTSTAMP:20260424T103052Z
UID:8265212027-02-20 08:30:00+00:00achurchnearyou
CATEGORIES:
DESCRIPTION:Come along for a lovely\, leisurely breakfast and spend time w
 ith friends old and new!  All ladies welcome to join us.
GEO:0.080341;51.624576
LOCATION:St Mary's\, Chigwell
URL:https://www.achurchnearyou.com/church/6233/service-and-events/events/8
 26521/
END:VEVENT
BEGIN:VEVENT
SUMMARY:Ladies' breakfast
DTSTART;TZID=Europe/London:20270320T083000
DTEND;TZID=Europe/London:20270320T094500
DTSTAMP:20260424T103052Z
UID:8265212027-03-20 08:30:00+00:00achurchnearyou
CATEGORIES:
DESCRIPTION:Come along for a lovely\, leisurely breakfast and spend time w
 ith friends old and new!  All ladies welcome to join us.
GEO:0.080341;51.624576
LOCATION:St Mary's\, Chigwell
URL:https://www.achurchnearyou.com/church/6233/service-and-events/events/8
 26521/
END:VEVENT
BEGIN:VEVENT
SUMMARY:Ladies' breakfast
DTSTART;TZID=Europe/London:20270417T083000
DTEND;TZID=Europe/London:20270417T094500
DTSTAMP:20260424T103052Z
UID:8265212027-04-17 08:30:00+01:00achurchnearyou
CATEGORIES:
DESCRIPTION:Come along for a lovely\, leisurely breakfast and spend time w
 ith friends old and new!  All ladies welcome to join us.
GEO:0.080341;51.624576
LOCATION:St Mary's\, Chigwell
URL:https://www.achurchnearyou.com/church/6233/service-and-events/events/8
 26521/
END:VEVENT
END:VCALENDAR
