BEGIN:VCALENDAR
VERSION:2.0
PRODID:-//achurchnearyou.com//eventfeed//EN
CALSCALE:GREGORIAN
METHOD:PUBLISH
X-WR-TIMEZONE:UTC
BEGIN:VEVENT
SUMMARY:Family Eucharist
DTSTART;TZID=Europe/London:20260517T100000
DTEND;TZID=Europe/London:20260517T111000
DTSTAMP:20260423T103354Z
UID:243572026-05-17 10:00:00+01:00achurchnearyou
CATEGORIES:
DESCRIPTION:An informal Eucharist with a tailored liturgy. The liturgy var
 ies from month to month.
GEO:0.000544;51.61697
LOCATION:Chingford: St Anne
URL:https://www.achurchnearyou.com/church/6237/service-and-events/events/2
 4357/
END:VEVENT
BEGIN:VEVENT
SUMMARY:Family Eucharist
DTSTART;TZID=Europe/London:20260621T100000
DTEND;TZID=Europe/London:20260621T111000
DTSTAMP:20260423T103354Z
UID:243572026-06-21 10:00:00+01:00achurchnearyou
CATEGORIES:
DESCRIPTION:An informal Eucharist with a tailored liturgy. The liturgy var
 ies from month to month.
GEO:0.000544;51.61697
LOCATION:Chingford: St Anne
URL:https://www.achurchnearyou.com/church/6237/service-and-events/events/2
 4357/
END:VEVENT
BEGIN:VEVENT
SUMMARY:Family Eucharist
DTSTART;TZID=Europe/London:20260719T100000
DTEND;TZID=Europe/London:20260719T111000
DTSTAMP:20260423T103354Z
UID:243572026-07-19 10:00:00+01:00achurchnearyou
CATEGORIES:
DESCRIPTION:An informal Eucharist with a tailored liturgy. The liturgy var
 ies from month to month.
GEO:0.000544;51.61697
LOCATION:Chingford: St Anne
URL:https://www.achurchnearyou.com/church/6237/service-and-events/events/2
 4357/
END:VEVENT
BEGIN:VEVENT
SUMMARY:Family Eucharist
DTSTART;TZID=Europe/London:20260816T100000
DTEND;TZID=Europe/London:20260816T111000
DTSTAMP:20260423T103354Z
UID:243572026-08-16 10:00:00+01:00achurchnearyou
CATEGORIES:
DESCRIPTION:An informal Eucharist with a tailored liturgy. The liturgy var
 ies from month to month.
GEO:0.000544;51.61697
LOCATION:Chingford: St Anne
URL:https://www.achurchnearyou.com/church/6237/service-and-events/events/2
 4357/
END:VEVENT
BEGIN:VEVENT
SUMMARY:Family Eucharist
DTSTART;TZID=Europe/London:20260920T100000
DTEND;TZID=Europe/London:20260920T111000
DTSTAMP:20260423T103354Z
UID:243572026-09-20 10:00:00+01:00achurchnearyou
CATEGORIES:
DESCRIPTION:An informal Eucharist with a tailored liturgy. The liturgy var
 ies from month to month.
GEO:0.000544;51.61697
LOCATION:Chingford: St Anne
URL:https://www.achurchnearyou.com/church/6237/service-and-events/events/2
 4357/
END:VEVENT
BEGIN:VEVENT
SUMMARY:Family Eucharist
DTSTART;TZID=Europe/London:20261018T100000
DTEND;TZID=Europe/London:20261018T111000
DTSTAMP:20260423T103354Z
UID:243572026-10-18 10:00:00+01:00achurchnearyou
CATEGORIES:
DESCRIPTION:An informal Eucharist with a tailored liturgy. The liturgy var
 ies from month to month.
GEO:0.000544;51.61697
LOCATION:Chingford: St Anne
URL:https://www.achurchnearyou.com/church/6237/service-and-events/events/2
 4357/
END:VEVENT
BEGIN:VEVENT
SUMMARY:Family Eucharist
DTSTART;TZID=Europe/London:20261115T100000
DTEND;TZID=Europe/London:20261115T111000
DTSTAMP:20260423T103354Z
UID:243572026-11-15 10:00:00+00:00achurchnearyou
CATEGORIES:
DESCRIPTION:An informal Eucharist with a tailored liturgy. The liturgy var
 ies from month to month.
GEO:0.000544;51.61697
LOCATION:Chingford: St Anne
URL:https://www.achurchnearyou.com/church/6237/service-and-events/events/2
 4357/
END:VEVENT
BEGIN:VEVENT
SUMMARY:Family Eucharist
DTSTART;TZID=Europe/London:20261220T100000
DTEND;TZID=Europe/London:20261220T111000
DTSTAMP:20260423T103354Z
UID:243572026-12-20 10:00:00+00:00achurchnearyou
CATEGORIES:
DESCRIPTION:An informal Eucharist with a tailored liturgy. The liturgy var
 ies from month to month.
GEO:0.000544;51.61697
LOCATION:Chingford: St Anne
URL:https://www.achurchnearyou.com/church/6237/service-and-events/events/2
 4357/
END:VEVENT
BEGIN:VEVENT
SUMMARY:Family Eucharist
DTSTART;TZID=Europe/London:20270117T100000
DTEND;TZID=Europe/London:20270117T111000
DTSTAMP:20260423T103354Z
UID:243572027-01-17 10:00:00+00:00achurchnearyou
CATEGORIES:
DESCRIPTION:An informal Eucharist with a tailored liturgy. The liturgy var
 ies from month to month.
GEO:0.000544;51.61697
LOCATION:Chingford: St Anne
URL:https://www.achurchnearyou.com/church/6237/service-and-events/events/2
 4357/
END:VEVENT
BEGIN:VEVENT
SUMMARY:Family Eucharist
DTSTART;TZID=Europe/London:20270221T100000
DTEND;TZID=Europe/London:20270221T111000
DTSTAMP:20260423T103354Z
UID:243572027-02-21 10:00:00+00:00achurchnearyou
CATEGORIES:
DESCRIPTION:An informal Eucharist with a tailored liturgy. The liturgy var
 ies from month to month.
GEO:0.000544;51.61697
LOCATION:Chingford: St Anne
URL:https://www.achurchnearyou.com/church/6237/service-and-events/events/2
 4357/
END:VEVENT
BEGIN:VEVENT
SUMMARY:Family Eucharist
DTSTART;TZID=Europe/London:20270321T100000
DTEND;TZID=Europe/London:20270321T111000
DTSTAMP:20260423T103354Z
UID:243572027-03-21 10:00:00+00:00achurchnearyou
CATEGORIES:
DESCRIPTION:An informal Eucharist with a tailored liturgy. The liturgy var
 ies from month to month.
GEO:0.000544;51.61697
LOCATION:Chingford: St Anne
URL:https://www.achurchnearyou.com/church/6237/service-and-events/events/2
 4357/
END:VEVENT
BEGIN:VEVENT
SUMMARY:Family Eucharist
DTSTART;TZID=Europe/London:20270418T100000
DTEND;TZID=Europe/London:20270418T111000
DTSTAMP:20260423T103354Z
UID:243572027-04-18 10:00:00+01:00achurchnearyou
CATEGORIES:
DESCRIPTION:An informal Eucharist with a tailored liturgy. The liturgy var
 ies from month to month.
GEO:0.000544;51.61697
LOCATION:Chingford: St Anne
URL:https://www.achurchnearyou.com/church/6237/service-and-events/events/2
 4357/
END:VEVENT
END:VCALENDAR
