BEGIN:VCALENDAR
VERSION:2.0
PRODID:-//achurchnearyou.com//eventfeed//EN
CALSCALE:GREGORIAN
METHOD:PUBLISH
X-WR-TIMEZONE:UTC
BEGIN:VEVENT
SUMMARY:Midnight Communion
DTSTART:20251224T113000Z
DTEND:20251225T004500Z
DTSTAMP:20260424T073402Z
UID:12516052025-12-24 11:30:00+00:00achurchnearyou
CATEGORIES:
DESCRIPTION:Join us at Christ’s Chapel for Midnight Communion sung by th
 e Choirs of St Barnabas and Christ’s Chapel
LOCATION:Christ’s Chapel
URL:https://www.achurchnearyou.com/church/625/service-and-events/events/12
 51605/
END:VEVENT
END:VCALENDAR
