BEGIN:VCALENDAR
VERSION:2.0
PRODID:-//achurchnearyou.com//eventfeed//EN
CALSCALE:GREGORIAN
METHOD:PUBLISH
X-WR-TIMEZONE:UTC
BEGIN:VEVENT
SUMMARY:Holy Communion for Maundy Thursday
DTSTART:20260402T190000Z
DTEND:20260402T201500Z
DTSTAMP:20260423T150008Z
UID:13084182026-04-02 19:00:00+00:00achurchnearyou
CATEGORIES:
DESCRIPTION:with foot washing
GEO:-0.082419;51.45288
LOCATION:Dulwich\, St Barnabas
URL:https://www.achurchnearyou.com/church/625/service-and-events/events/13
 08418/
END:VEVENT
END:VCALENDAR
