BEGIN:VCALENDAR
VERSION:2.0
PRODID:-//achurchnearyou.com//eventfeed//EN
CALSCALE:GREGORIAN
METHOD:PUBLISH
X-WR-TIMEZONE:UTC
BEGIN:VEVENT
SUMMARY:Candlelight Carol Service
DTSTART:20251214T153000Z
DTEND:20251214T163000Z
DTSTAMP:20260424T044656Z
UID:12692392025-12-14 15:30:00+00:00achurchnearyou
CATEGORIES:
DESCRIPTION:A beautiful traditional candlelight carol service.  Please joi
 n us to sing Carols and join us for refreshments after.
GEO:0.925553;51.870683
LOCATION:St. Barnabas Church
URL:https://www.achurchnearyou.com/church/6252/service-and-events/events/1
 269239/
END:VEVENT
END:VCALENDAR
