BEGIN:VCALENDAR
VERSION:2.0
PRODID:-//achurchnearyou.com//eventfeed//EN
CALSCALE:GREGORIAN
METHOD:PUBLISH
X-WR-TIMEZONE:UTC
BEGIN:VEVENT
SUMMARY:Midday Prayer
DTSTART;TZID=Europe/London:20260401T120000
DTEND;TZID=Europe/London:20260401T130000
DTSTAMP:20260423T084521Z
UID:12092901775041200.0achurchnearyou
CATEGORIES:
DESCRIPTION:A peaceful opportunity for a mixture of quiet and prayer for t
 he City
GEO:0.90425;51.887053
LOCATION:St Botolph's Church Colchester
URL:https://www.achurchnearyou.com/church/6253/service-and-events/events/1
 209290/
END:VEVENT
BEGIN:VEVENT
SUMMARY:Brick Cafe
DTSTART;TZID=Europe/London:20260404T100000
DTEND;TZID=Europe/London:20260404T113000
DTSTAMP:20260423T084521Z
UID:12093731775293200.0achurchnearyou
CATEGORIES:
DESCRIPTION:Come and create at our Colchester City Brick Cafe - hosted at 
 St Botolph's Church on the first Saturday of the month\n\n10.00 - 11.30am\
 n\nCome and create\n\nFree entry\n\nChildren must be accompanied by an adu
 lt
GEO:0.90425;51.887053
LOCATION:St Botolph's Church Colchester
URL:https://stbotolphs.org/brick-cafe/
END:VEVENT
BEGIN:VEVENT
SUMMARY:Sunday Morning Service
DTSTART;TZID=Europe/London:20260405T103000
DTEND;TZID=Europe/London:20260405T113000
DTSTAMP:20260423T084521Z
UID:7164041775381400.0achurchnearyou
CATEGORIES:
DESCRIPTION:Everyone is welcome at St Botolph's Church - Holy Communion\, 
 Morning Worship and a new monthly Junior Church.
GEO:0.90425;51.887053
LOCATION:St Botolph's Church Colchester
URL:https://stbotolphs.org/services/
END:VEVENT
BEGIN:VEVENT
SUMMARY:Midday Prayer
DTSTART;TZID=Europe/London:20260408T120000
DTEND;TZID=Europe/London:20260408T130000
DTSTAMP:20260423T084521Z
UID:12092901775646000.0achurchnearyou
CATEGORIES:
DESCRIPTION:A peaceful opportunity for a mixture of quiet and prayer for t
 he City
GEO:0.90425;51.887053
LOCATION:St Botolph's Church Colchester
URL:https://www.achurchnearyou.com/church/6253/service-and-events/events/1
 209290/
END:VEVENT
BEGIN:VEVENT
SUMMARY:Sunday Morning Service
DTSTART;TZID=Europe/London:20260412T103000
DTEND;TZID=Europe/London:20260412T113000
DTSTAMP:20260423T084521Z
UID:7164041775986200.0achurchnearyou
CATEGORIES:
DESCRIPTION:Everyone is welcome at St Botolph's Church - Holy Communion\, 
 Morning Worship and a new monthly Junior Church.
GEO:0.90425;51.887053
LOCATION:St Botolph's Church Colchester
URL:https://stbotolphs.org/services/
END:VEVENT
BEGIN:VEVENT
SUMMARY:Midday Prayer
DTSTART;TZID=Europe/London:20260415T120000
DTEND;TZID=Europe/London:20260415T130000
DTSTAMP:20260423T084521Z
UID:12092901776250800.0achurchnearyou
CATEGORIES:
DESCRIPTION:A peaceful opportunity for a mixture of quiet and prayer for t
 he City
GEO:0.90425;51.887053
LOCATION:St Botolph's Church Colchester
URL:https://www.achurchnearyou.com/church/6253/service-and-events/events/1
 209290/
END:VEVENT
BEGIN:VEVENT
SUMMARY:Sunday Morning Service
DTSTART;TZID=Europe/London:20260419T103000
DTEND;TZID=Europe/London:20260419T113000
DTSTAMP:20260423T084521Z
UID:7164041776591000.0achurchnearyou
CATEGORIES:
DESCRIPTION:Everyone is welcome at St Botolph's Church - Holy Communion\, 
 Morning Worship and a new monthly Junior Church.
GEO:0.90425;51.887053
LOCATION:St Botolph's Church Colchester
URL:https://stbotolphs.org/services/
END:VEVENT
BEGIN:VEVENT
SUMMARY:Midday Prayer
DTSTART;TZID=Europe/London:20260422T120000
DTEND;TZID=Europe/London:20260422T130000
DTSTAMP:20260423T084521Z
UID:12092901776855600.0achurchnearyou
CATEGORIES:
DESCRIPTION:A peaceful opportunity for a mixture of quiet and prayer for t
 he City
GEO:0.90425;51.887053
LOCATION:St Botolph's Church Colchester
URL:https://www.achurchnearyou.com/church/6253/service-and-events/events/1
 209290/
END:VEVENT
BEGIN:VEVENT
SUMMARY:Sunday Morning Service
DTSTART;TZID=Europe/London:20260426T103000
DTEND;TZID=Europe/London:20260426T113000
DTSTAMP:20260423T084521Z
UID:7164041777195800.0achurchnearyou
CATEGORIES:
DESCRIPTION:Everyone is welcome at St Botolph's Church - Holy Communion\, 
 Morning Worship and a new monthly Junior Church.
GEO:0.90425;51.887053
LOCATION:St Botolph's Church Colchester
URL:https://stbotolphs.org/services/
END:VEVENT
BEGIN:VEVENT
SUMMARY:Midday Prayer
DTSTART;TZID=Europe/London:20260429T120000
DTEND;TZID=Europe/London:20260429T130000
DTSTAMP:20260423T084521Z
UID:12092901777460400.0achurchnearyou
CATEGORIES:
DESCRIPTION:A peaceful opportunity for a mixture of quiet and prayer for t
 he City
GEO:0.90425;51.887053
LOCATION:St Botolph's Church Colchester
URL:https://www.achurchnearyou.com/church/6253/service-and-events/events/1
 209290/
END:VEVENT
BEGIN:VEVENT
SUMMARY:Brick Cafe
DTSTART;TZID=Europe/London:20260502T100000
DTEND;TZID=Europe/London:20260502T113000
DTSTAMP:20260423T084521Z
UID:12093731777712400.0achurchnearyou
CATEGORIES:
DESCRIPTION:Come and create at our Colchester City Brick Cafe - hosted at 
 St Botolph's Church on the first Saturday of the month\n\n10.00 - 11.30am\
 n\nCome and create\n\nFree entry\n\nChildren must be accompanied by an adu
 lt
GEO:0.90425;51.887053
LOCATION:St Botolph's Church Colchester
URL:https://stbotolphs.org/brick-cafe/
END:VEVENT
BEGIN:VEVENT
SUMMARY:Sunday Morning Service
DTSTART;TZID=Europe/London:20260503T103000
DTEND;TZID=Europe/London:20260503T113000
DTSTAMP:20260423T084521Z
UID:7164041777800600.0achurchnearyou
CATEGORIES:
DESCRIPTION:Everyone is welcome at St Botolph's Church - Holy Communion\, 
 Morning Worship and a new monthly Junior Church.
GEO:0.90425;51.887053
LOCATION:St Botolph's Church Colchester
URL:https://stbotolphs.org/services/
END:VEVENT
BEGIN:VEVENT
SUMMARY:Midday Prayer
DTSTART;TZID=Europe/London:20260506T120000
DTEND;TZID=Europe/London:20260506T130000
DTSTAMP:20260423T084521Z
UID:12092901778065200.0achurchnearyou
CATEGORIES:
DESCRIPTION:A peaceful opportunity for a mixture of quiet and prayer for t
 he City
GEO:0.90425;51.887053
LOCATION:St Botolph's Church Colchester
URL:https://www.achurchnearyou.com/church/6253/service-and-events/events/1
 209290/
END:VEVENT
BEGIN:VEVENT
SUMMARY:Sunday Morning Service
DTSTART;TZID=Europe/London:20260510T103000
DTEND;TZID=Europe/London:20260510T113000
DTSTAMP:20260423T084521Z
UID:7164041778405400.0achurchnearyou
CATEGORIES:
DESCRIPTION:Everyone is welcome at St Botolph's Church - Holy Communion\, 
 Morning Worship and a new monthly Junior Church.
GEO:0.90425;51.887053
LOCATION:St Botolph's Church Colchester
URL:https://stbotolphs.org/services/
END:VEVENT
BEGIN:VEVENT
SUMMARY:Midday Prayer
DTSTART;TZID=Europe/London:20260513T120000
DTEND;TZID=Europe/London:20260513T130000
DTSTAMP:20260423T084521Z
UID:12092901778670000.0achurchnearyou
CATEGORIES:
DESCRIPTION:A peaceful opportunity for a mixture of quiet and prayer for t
 he City
GEO:0.90425;51.887053
LOCATION:St Botolph's Church Colchester
URL:https://www.achurchnearyou.com/church/6253/service-and-events/events/1
 209290/
END:VEVENT
BEGIN:VEVENT
SUMMARY:Sunday Morning Service
DTSTART;TZID=Europe/London:20260517T103000
DTEND;TZID=Europe/London:20260517T113000
DTSTAMP:20260423T084521Z
UID:7164041779010200.0achurchnearyou
CATEGORIES:
DESCRIPTION:Everyone is welcome at St Botolph's Church - Holy Communion\, 
 Morning Worship and a new monthly Junior Church.
GEO:0.90425;51.887053
LOCATION:St Botolph's Church Colchester
URL:https://stbotolphs.org/services/
END:VEVENT
BEGIN:VEVENT
SUMMARY:Midday Prayer
DTSTART;TZID=Europe/London:20260520T120000
DTEND;TZID=Europe/London:20260520T130000
DTSTAMP:20260423T084521Z
UID:12092901779274800.0achurchnearyou
CATEGORIES:
DESCRIPTION:A peaceful opportunity for a mixture of quiet and prayer for t
 he City
GEO:0.90425;51.887053
LOCATION:St Botolph's Church Colchester
URL:https://www.achurchnearyou.com/church/6253/service-and-events/events/1
 209290/
END:VEVENT
BEGIN:VEVENT
SUMMARY:Sunday Morning Service
DTSTART;TZID=Europe/London:20260524T103000
DTEND;TZID=Europe/London:20260524T113000
DTSTAMP:20260423T084521Z
UID:7164041779615000.0achurchnearyou
CATEGORIES:
DESCRIPTION:Everyone is welcome at St Botolph's Church - Holy Communion\, 
 Morning Worship and a new monthly Junior Church.
GEO:0.90425;51.887053
LOCATION:St Botolph's Church Colchester
URL:https://stbotolphs.org/services/
END:VEVENT
BEGIN:VEVENT
SUMMARY:Midday Prayer
DTSTART;TZID=Europe/London:20260527T120000
DTEND;TZID=Europe/London:20260527T130000
DTSTAMP:20260423T084521Z
UID:12092901779879600.0achurchnearyou
CATEGORIES:
DESCRIPTION:A peaceful opportunity for a mixture of quiet and prayer for t
 he City
GEO:0.90425;51.887053
LOCATION:St Botolph's Church Colchester
URL:https://www.achurchnearyou.com/church/6253/service-and-events/events/1
 209290/
END:VEVENT
BEGIN:VEVENT
SUMMARY:Sunday Morning Service
DTSTART;TZID=Europe/London:20260531T103000
DTEND;TZID=Europe/London:20260531T113000
DTSTAMP:20260423T084521Z
UID:7164041780219800.0achurchnearyou
CATEGORIES:
DESCRIPTION:Everyone is welcome at St Botolph's Church - Holy Communion\, 
 Morning Worship and a new monthly Junior Church.
GEO:0.90425;51.887053
LOCATION:St Botolph's Church Colchester
URL:https://stbotolphs.org/services/
END:VEVENT
BEGIN:VEVENT
SUMMARY:Midday Prayer
DTSTART;TZID=Europe/London:20260603T120000
DTEND;TZID=Europe/London:20260603T130000
DTSTAMP:20260423T084521Z
UID:12092901780484400.0achurchnearyou
CATEGORIES:
DESCRIPTION:A peaceful opportunity for a mixture of quiet and prayer for t
 he City
GEO:0.90425;51.887053
LOCATION:St Botolph's Church Colchester
URL:https://www.achurchnearyou.com/church/6253/service-and-events/events/1
 209290/
END:VEVENT
BEGIN:VEVENT
SUMMARY:Brick Cafe
DTSTART;TZID=Europe/London:20260606T100000
DTEND;TZID=Europe/London:20260606T113000
DTSTAMP:20260423T084521Z
UID:12093731780736400.0achurchnearyou
CATEGORIES:
DESCRIPTION:Come and create at our Colchester City Brick Cafe - hosted at 
 St Botolph's Church on the first Saturday of the month\n\n10.00 - 11.30am\
 n\nCome and create\n\nFree entry\n\nChildren must be accompanied by an adu
 lt
GEO:0.90425;51.887053
LOCATION:St Botolph's Church Colchester
URL:https://stbotolphs.org/brick-cafe/
END:VEVENT
BEGIN:VEVENT
SUMMARY:Sunday Morning Service
DTSTART;TZID=Europe/London:20260607T103000
DTEND;TZID=Europe/London:20260607T113000
DTSTAMP:20260423T084521Z
UID:7164041780824600.0achurchnearyou
CATEGORIES:
DESCRIPTION:Everyone is welcome at St Botolph's Church - Holy Communion\, 
 Morning Worship and a new monthly Junior Church.
GEO:0.90425;51.887053
LOCATION:St Botolph's Church Colchester
URL:https://stbotolphs.org/services/
END:VEVENT
BEGIN:VEVENT
SUMMARY:Midday Prayer
DTSTART;TZID=Europe/London:20260610T120000
DTEND;TZID=Europe/London:20260610T130000
DTSTAMP:20260423T084521Z
UID:12092901781089200.0achurchnearyou
CATEGORIES:
DESCRIPTION:A peaceful opportunity for a mixture of quiet and prayer for t
 he City
GEO:0.90425;51.887053
LOCATION:St Botolph's Church Colchester
URL:https://www.achurchnearyou.com/church/6253/service-and-events/events/1
 209290/
END:VEVENT
BEGIN:VEVENT
SUMMARY:Sunday Morning Service
DTSTART;TZID=Europe/London:20260614T103000
DTEND;TZID=Europe/London:20260614T113000
DTSTAMP:20260423T084521Z
UID:7164041781429400.0achurchnearyou
CATEGORIES:
DESCRIPTION:Everyone is welcome at St Botolph's Church - Holy Communion\, 
 Morning Worship and a new monthly Junior Church.
GEO:0.90425;51.887053
LOCATION:St Botolph's Church Colchester
URL:https://stbotolphs.org/services/
END:VEVENT
BEGIN:VEVENT
SUMMARY:Midday Prayer
DTSTART;TZID=Europe/London:20260617T120000
DTEND;TZID=Europe/London:20260617T130000
DTSTAMP:20260423T084521Z
UID:12092901781694000.0achurchnearyou
CATEGORIES:
DESCRIPTION:A peaceful opportunity for a mixture of quiet and prayer for t
 he City
GEO:0.90425;51.887053
LOCATION:St Botolph's Church Colchester
URL:https://www.achurchnearyou.com/church/6253/service-and-events/events/1
 209290/
END:VEVENT
BEGIN:VEVENT
SUMMARY:Sunday Morning Service
DTSTART;TZID=Europe/London:20260621T103000
DTEND;TZID=Europe/London:20260621T113000
DTSTAMP:20260423T084521Z
UID:7164041782034200.0achurchnearyou
CATEGORIES:
DESCRIPTION:Everyone is welcome at St Botolph's Church - Holy Communion\, 
 Morning Worship and a new monthly Junior Church.
GEO:0.90425;51.887053
LOCATION:St Botolph's Church Colchester
URL:https://stbotolphs.org/services/
END:VEVENT
BEGIN:VEVENT
SUMMARY:Midday Prayer
DTSTART;TZID=Europe/London:20260624T120000
DTEND;TZID=Europe/London:20260624T130000
DTSTAMP:20260423T084521Z
UID:12092901782298800.0achurchnearyou
CATEGORIES:
DESCRIPTION:A peaceful opportunity for a mixture of quiet and prayer for t
 he City
GEO:0.90425;51.887053
LOCATION:St Botolph's Church Colchester
URL:https://www.achurchnearyou.com/church/6253/service-and-events/events/1
 209290/
END:VEVENT
BEGIN:VEVENT
SUMMARY:Sunday Morning Service
DTSTART;TZID=Europe/London:20260628T103000
DTEND;TZID=Europe/London:20260628T113000
DTSTAMP:20260423T084521Z
UID:7164041782639000.0achurchnearyou
CATEGORIES:
DESCRIPTION:Everyone is welcome at St Botolph's Church - Holy Communion\, 
 Morning Worship and a new monthly Junior Church.
GEO:0.90425;51.887053
LOCATION:St Botolph's Church Colchester
URL:https://stbotolphs.org/services/
END:VEVENT
BEGIN:VEVENT
SUMMARY:Midday Prayer
DTSTART;TZID=Europe/London:20260701T120000
DTEND;TZID=Europe/London:20260701T130000
DTSTAMP:20260423T084521Z
UID:12092901782903600.0achurchnearyou
CATEGORIES:
DESCRIPTION:A peaceful opportunity for a mixture of quiet and prayer for t
 he City
GEO:0.90425;51.887053
LOCATION:St Botolph's Church Colchester
URL:https://www.achurchnearyou.com/church/6253/service-and-events/events/1
 209290/
END:VEVENT
BEGIN:VEVENT
SUMMARY:Brick Cafe
DTSTART;TZID=Europe/London:20260704T100000
DTEND;TZID=Europe/London:20260704T113000
DTSTAMP:20260423T084521Z
UID:12093731783155600.0achurchnearyou
CATEGORIES:
DESCRIPTION:Come and create at our Colchester City Brick Cafe - hosted at 
 St Botolph's Church on the first Saturday of the month\n\n10.00 - 11.30am\
 n\nCome and create\n\nFree entry\n\nChildren must be accompanied by an adu
 lt
GEO:0.90425;51.887053
LOCATION:St Botolph's Church Colchester
URL:https://stbotolphs.org/brick-cafe/
END:VEVENT
BEGIN:VEVENT
SUMMARY:Sunday Morning Service
DTSTART;TZID=Europe/London:20260705T103000
DTEND;TZID=Europe/London:20260705T113000
DTSTAMP:20260423T084521Z
UID:7164041783243800.0achurchnearyou
CATEGORIES:
DESCRIPTION:Everyone is welcome at St Botolph's Church - Holy Communion\, 
 Morning Worship and a new monthly Junior Church.
GEO:0.90425;51.887053
LOCATION:St Botolph's Church Colchester
URL:https://stbotolphs.org/services/
END:VEVENT
BEGIN:VEVENT
SUMMARY:Midday Prayer
DTSTART;TZID=Europe/London:20260708T120000
DTEND;TZID=Europe/London:20260708T130000
DTSTAMP:20260423T084521Z
UID:12092901783508400.0achurchnearyou
CATEGORIES:
DESCRIPTION:A peaceful opportunity for a mixture of quiet and prayer for t
 he City
GEO:0.90425;51.887053
LOCATION:St Botolph's Church Colchester
URL:https://www.achurchnearyou.com/church/6253/service-and-events/events/1
 209290/
END:VEVENT
BEGIN:VEVENT
SUMMARY:Sunday Morning Service
DTSTART;TZID=Europe/London:20260712T103000
DTEND;TZID=Europe/London:20260712T113000
DTSTAMP:20260423T084521Z
UID:7164041783848600.0achurchnearyou
CATEGORIES:
DESCRIPTION:Everyone is welcome at St Botolph's Church - Holy Communion\, 
 Morning Worship and a new monthly Junior Church.
GEO:0.90425;51.887053
LOCATION:St Botolph's Church Colchester
URL:https://stbotolphs.org/services/
END:VEVENT
BEGIN:VEVENT
SUMMARY:Midday Prayer
DTSTART;TZID=Europe/London:20260715T120000
DTEND;TZID=Europe/London:20260715T130000
DTSTAMP:20260423T084521Z
UID:12092901784113200.0achurchnearyou
CATEGORIES:
DESCRIPTION:A peaceful opportunity for a mixture of quiet and prayer for t
 he City
GEO:0.90425;51.887053
LOCATION:St Botolph's Church Colchester
URL:https://www.achurchnearyou.com/church/6253/service-and-events/events/1
 209290/
END:VEVENT
BEGIN:VEVENT
SUMMARY:Sunday Morning Service
DTSTART;TZID=Europe/London:20260719T103000
DTEND;TZID=Europe/London:20260719T113000
DTSTAMP:20260423T084521Z
UID:7164041784453400.0achurchnearyou
CATEGORIES:
DESCRIPTION:Everyone is welcome at St Botolph's Church - Holy Communion\, 
 Morning Worship and a new monthly Junior Church.
GEO:0.90425;51.887053
LOCATION:St Botolph's Church Colchester
URL:https://stbotolphs.org/services/
END:VEVENT
BEGIN:VEVENT
SUMMARY:Midday Prayer
DTSTART;TZID=Europe/London:20260722T120000
DTEND;TZID=Europe/London:20260722T130000
DTSTAMP:20260423T084521Z
UID:12092901784718000.0achurchnearyou
CATEGORIES:
DESCRIPTION:A peaceful opportunity for a mixture of quiet and prayer for t
 he City
GEO:0.90425;51.887053
LOCATION:St Botolph's Church Colchester
URL:https://www.achurchnearyou.com/church/6253/service-and-events/events/1
 209290/
END:VEVENT
BEGIN:VEVENT
SUMMARY:Sunday Morning Service
DTSTART;TZID=Europe/London:20260726T103000
DTEND;TZID=Europe/London:20260726T113000
DTSTAMP:20260423T084521Z
UID:7164041785058200.0achurchnearyou
CATEGORIES:
DESCRIPTION:Everyone is welcome at St Botolph's Church - Holy Communion\, 
 Morning Worship and a new monthly Junior Church.
GEO:0.90425;51.887053
LOCATION:St Botolph's Church Colchester
URL:https://stbotolphs.org/services/
END:VEVENT
BEGIN:VEVENT
SUMMARY:Midday Prayer
DTSTART;TZID=Europe/London:20260729T120000
DTEND;TZID=Europe/London:20260729T130000
DTSTAMP:20260423T084521Z
UID:12092901785322800.0achurchnearyou
CATEGORIES:
DESCRIPTION:A peaceful opportunity for a mixture of quiet and prayer for t
 he City
GEO:0.90425;51.887053
LOCATION:St Botolph's Church Colchester
URL:https://www.achurchnearyou.com/church/6253/service-and-events/events/1
 209290/
END:VEVENT
BEGIN:VEVENT
SUMMARY:Brick Cafe
DTSTART;TZID=Europe/London:20260801T100000
DTEND;TZID=Europe/London:20260801T113000
DTSTAMP:20260423T084521Z
UID:12093731785574800.0achurchnearyou
CATEGORIES:
DESCRIPTION:Come and create at our Colchester City Brick Cafe - hosted at 
 St Botolph's Church on the first Saturday of the month\n\n10.00 - 11.30am\
 n\nCome and create\n\nFree entry\n\nChildren must be accompanied by an adu
 lt
GEO:0.90425;51.887053
LOCATION:St Botolph's Church Colchester
URL:https://stbotolphs.org/brick-cafe/
END:VEVENT
BEGIN:VEVENT
SUMMARY:Sunday Morning Service
DTSTART;TZID=Europe/London:20260802T103000
DTEND;TZID=Europe/London:20260802T113000
DTSTAMP:20260423T084521Z
UID:7164041785663000.0achurchnearyou
CATEGORIES:
DESCRIPTION:Everyone is welcome at St Botolph's Church - Holy Communion\, 
 Morning Worship and a new monthly Junior Church.
GEO:0.90425;51.887053
LOCATION:St Botolph's Church Colchester
URL:https://stbotolphs.org/services/
END:VEVENT
BEGIN:VEVENT
SUMMARY:Midday Prayer
DTSTART;TZID=Europe/London:20260805T120000
DTEND;TZID=Europe/London:20260805T130000
DTSTAMP:20260423T084521Z
UID:12092901785927600.0achurchnearyou
CATEGORIES:
DESCRIPTION:A peaceful opportunity for a mixture of quiet and prayer for t
 he City
GEO:0.90425;51.887053
LOCATION:St Botolph's Church Colchester
URL:https://www.achurchnearyou.com/church/6253/service-and-events/events/1
 209290/
END:VEVENT
BEGIN:VEVENT
SUMMARY:Sunday Morning Service
DTSTART;TZID=Europe/London:20260809T103000
DTEND;TZID=Europe/London:20260809T113000
DTSTAMP:20260423T084521Z
UID:7164041786267800.0achurchnearyou
CATEGORIES:
DESCRIPTION:Everyone is welcome at St Botolph's Church - Holy Communion\, 
 Morning Worship and a new monthly Junior Church.
GEO:0.90425;51.887053
LOCATION:St Botolph's Church Colchester
URL:https://stbotolphs.org/services/
END:VEVENT
BEGIN:VEVENT
SUMMARY:Midday Prayer
DTSTART;TZID=Europe/London:20260812T120000
DTEND;TZID=Europe/London:20260812T130000
DTSTAMP:20260423T084521Z
UID:12092901786532400.0achurchnearyou
CATEGORIES:
DESCRIPTION:A peaceful opportunity for a mixture of quiet and prayer for t
 he City
GEO:0.90425;51.887053
LOCATION:St Botolph's Church Colchester
URL:https://www.achurchnearyou.com/church/6253/service-and-events/events/1
 209290/
END:VEVENT
BEGIN:VEVENT
SUMMARY:Sunday Morning Service
DTSTART;TZID=Europe/London:20260816T103000
DTEND;TZID=Europe/London:20260816T113000
DTSTAMP:20260423T084521Z
UID:7164041786872600.0achurchnearyou
CATEGORIES:
DESCRIPTION:Everyone is welcome at St Botolph's Church - Holy Communion\, 
 Morning Worship and a new monthly Junior Church.
GEO:0.90425;51.887053
LOCATION:St Botolph's Church Colchester
URL:https://stbotolphs.org/services/
END:VEVENT
BEGIN:VEVENT
SUMMARY:Midday Prayer
DTSTART;TZID=Europe/London:20260819T120000
DTEND;TZID=Europe/London:20260819T130000
DTSTAMP:20260423T084521Z
UID:12092901787137200.0achurchnearyou
CATEGORIES:
DESCRIPTION:A peaceful opportunity for a mixture of quiet and prayer for t
 he City
GEO:0.90425;51.887053
LOCATION:St Botolph's Church Colchester
URL:https://www.achurchnearyou.com/church/6253/service-and-events/events/1
 209290/
END:VEVENT
BEGIN:VEVENT
SUMMARY:Sunday Morning Service
DTSTART;TZID=Europe/London:20260823T103000
DTEND;TZID=Europe/London:20260823T113000
DTSTAMP:20260423T084521Z
UID:7164041787477400.0achurchnearyou
CATEGORIES:
DESCRIPTION:Everyone is welcome at St Botolph's Church - Holy Communion\, 
 Morning Worship and a new monthly Junior Church.
GEO:0.90425;51.887053
LOCATION:St Botolph's Church Colchester
URL:https://stbotolphs.org/services/
END:VEVENT
BEGIN:VEVENT
SUMMARY:Midday Prayer
DTSTART;TZID=Europe/London:20260826T120000
DTEND;TZID=Europe/London:20260826T130000
DTSTAMP:20260423T084521Z
UID:12092901787742000.0achurchnearyou
CATEGORIES:
DESCRIPTION:A peaceful opportunity for a mixture of quiet and prayer for t
 he City
GEO:0.90425;51.887053
LOCATION:St Botolph's Church Colchester
URL:https://www.achurchnearyou.com/church/6253/service-and-events/events/1
 209290/
END:VEVENT
BEGIN:VEVENT
SUMMARY:Sunday Morning Service
DTSTART;TZID=Europe/London:20260830T103000
DTEND;TZID=Europe/London:20260830T113000
DTSTAMP:20260423T084521Z
UID:7164041788082200.0achurchnearyou
CATEGORIES:
DESCRIPTION:Everyone is welcome at St Botolph's Church - Holy Communion\, 
 Morning Worship and a new monthly Junior Church.
GEO:0.90425;51.887053
LOCATION:St Botolph's Church Colchester
URL:https://stbotolphs.org/services/
END:VEVENT
BEGIN:VEVENT
SUMMARY:Midday Prayer
DTSTART;TZID=Europe/London:20260902T120000
DTEND;TZID=Europe/London:20260902T130000
DTSTAMP:20260423T084521Z
UID:12092901788346800.0achurchnearyou
CATEGORIES:
DESCRIPTION:A peaceful opportunity for a mixture of quiet and prayer for t
 he City
GEO:0.90425;51.887053
LOCATION:St Botolph's Church Colchester
URL:https://www.achurchnearyou.com/church/6253/service-and-events/events/1
 209290/
END:VEVENT
BEGIN:VEVENT
SUMMARY:Brick Cafe
DTSTART;TZID=Europe/London:20260905T100000
DTEND;TZID=Europe/London:20260905T113000
DTSTAMP:20260423T084521Z
UID:12093731788598800.0achurchnearyou
CATEGORIES:
DESCRIPTION:Come and create at our Colchester City Brick Cafe - hosted at 
 St Botolph's Church on the first Saturday of the month\n\n10.00 - 11.30am\
 n\nCome and create\n\nFree entry\n\nChildren must be accompanied by an adu
 lt
GEO:0.90425;51.887053
LOCATION:St Botolph's Church Colchester
URL:https://stbotolphs.org/brick-cafe/
END:VEVENT
BEGIN:VEVENT
SUMMARY:Sunday Morning Service
DTSTART;TZID=Europe/London:20260906T103000
DTEND;TZID=Europe/London:20260906T113000
DTSTAMP:20260423T084521Z
UID:7164041788687000.0achurchnearyou
CATEGORIES:
DESCRIPTION:Everyone is welcome at St Botolph's Church - Holy Communion\, 
 Morning Worship and a new monthly Junior Church.
GEO:0.90425;51.887053
LOCATION:St Botolph's Church Colchester
URL:https://stbotolphs.org/services/
END:VEVENT
BEGIN:VEVENT
SUMMARY:Midday Prayer
DTSTART;TZID=Europe/London:20260909T120000
DTEND;TZID=Europe/London:20260909T130000
DTSTAMP:20260423T084521Z
UID:12092901788951600.0achurchnearyou
CATEGORIES:
DESCRIPTION:A peaceful opportunity for a mixture of quiet and prayer for t
 he City
GEO:0.90425;51.887053
LOCATION:St Botolph's Church Colchester
URL:https://www.achurchnearyou.com/church/6253/service-and-events/events/1
 209290/
END:VEVENT
BEGIN:VEVENT
SUMMARY:Sunday Morning Service
DTSTART;TZID=Europe/London:20260913T103000
DTEND;TZID=Europe/London:20260913T113000
DTSTAMP:20260423T084521Z
UID:7164041789291800.0achurchnearyou
CATEGORIES:
DESCRIPTION:Everyone is welcome at St Botolph's Church - Holy Communion\, 
 Morning Worship and a new monthly Junior Church.
GEO:0.90425;51.887053
LOCATION:St Botolph's Church Colchester
URL:https://stbotolphs.org/services/
END:VEVENT
BEGIN:VEVENT
SUMMARY:Midday Prayer
DTSTART;TZID=Europe/London:20260916T120000
DTEND;TZID=Europe/London:20260916T130000
DTSTAMP:20260423T084521Z
UID:12092901789556400.0achurchnearyou
CATEGORIES:
DESCRIPTION:A peaceful opportunity for a mixture of quiet and prayer for t
 he City
GEO:0.90425;51.887053
LOCATION:St Botolph's Church Colchester
URL:https://www.achurchnearyou.com/church/6253/service-and-events/events/1
 209290/
END:VEVENT
BEGIN:VEVENT
SUMMARY:Sunday Morning Service
DTSTART;TZID=Europe/London:20260920T103000
DTEND;TZID=Europe/London:20260920T113000
DTSTAMP:20260423T084521Z
UID:7164041789896600.0achurchnearyou
CATEGORIES:
DESCRIPTION:Everyone is welcome at St Botolph's Church - Holy Communion\, 
 Morning Worship and a new monthly Junior Church.
GEO:0.90425;51.887053
LOCATION:St Botolph's Church Colchester
URL:https://stbotolphs.org/services/
END:VEVENT
BEGIN:VEVENT
SUMMARY:Midday Prayer
DTSTART;TZID=Europe/London:20260923T120000
DTEND;TZID=Europe/London:20260923T130000
DTSTAMP:20260423T084521Z
UID:12092901790161200.0achurchnearyou
CATEGORIES:
DESCRIPTION:A peaceful opportunity for a mixture of quiet and prayer for t
 he City
GEO:0.90425;51.887053
LOCATION:St Botolph's Church Colchester
URL:https://www.achurchnearyou.com/church/6253/service-and-events/events/1
 209290/
END:VEVENT
BEGIN:VEVENT
SUMMARY:Sunday Morning Service
DTSTART;TZID=Europe/London:20260927T103000
DTEND;TZID=Europe/London:20260927T113000
DTSTAMP:20260423T084521Z
UID:7164041790501400.0achurchnearyou
CATEGORIES:
DESCRIPTION:Everyone is welcome at St Botolph's Church - Holy Communion\, 
 Morning Worship and a new monthly Junior Church.
GEO:0.90425;51.887053
LOCATION:St Botolph's Church Colchester
URL:https://stbotolphs.org/services/
END:VEVENT
BEGIN:VEVENT
SUMMARY:Midday Prayer
DTSTART;TZID=Europe/London:20260930T120000
DTEND;TZID=Europe/London:20260930T130000
DTSTAMP:20260423T084521Z
UID:12092901790766000.0achurchnearyou
CATEGORIES:
DESCRIPTION:A peaceful opportunity for a mixture of quiet and prayer for t
 he City
GEO:0.90425;51.887053
LOCATION:St Botolph's Church Colchester
URL:https://www.achurchnearyou.com/church/6253/service-and-events/events/1
 209290/
END:VEVENT
END:VCALENDAR
