BEGIN:VCALENDAR
VERSION:2.0
PRODID:-//achurchnearyou.com//eventfeed//EN
CALSCALE:GREGORIAN
METHOD:PUBLISH
X-WR-TIMEZONE:UTC
BEGIN:VEVENT
SUMMARY:St George's Day event
DTSTART:20260425T100000Z
DTEND:20260425T150000Z
DTSTAMP:20260424T010934Z
UID:13254052026-04-25 10:00:00+00:00achurchnearyou
CATEGORIES:
DESCRIPTION:Please join us for tea\, cake\, singing and much more.
GEO:0.758471;51.656468
LOCATION:Althorne: St Andrew
URL:https://www.achurchnearyou.com/church/6268/service-and-events/events/1
 325405/
END:VEVENT
END:VCALENDAR
