BEGIN:VCALENDAR
VERSION:2.0
PRODID:-//achurchnearyou.com//eventfeed//EN
CALSCALE:GREGORIAN
METHOD:PUBLISH
X-WR-TIMEZONE:UTC
BEGIN:VEVENT
SUMMARY:Matins
DTSTART;TZID=Europe/London:20260531T100000
DTEND;TZID=Europe/London:20260531T104500
DTSTAMP:20260423T145739Z
UID:3841872026-05-31 10:00:00+01:00achurchnearyou
CATEGORIES:
DESCRIPTION:Sung Matins four times a year on the 5th Sunday of the Month
GEO:0.560349;51.68164
LOCATION:East Hanningfield: All Saints
URL:https://www.achurchnearyou.com/church/6294/service-and-events/events/3
 84187/
END:VEVENT
BEGIN:VEVENT
SUMMARY:Matins
DTSTART;TZID=Europe/London:20260830T100000
DTEND;TZID=Europe/London:20260830T104500
DTSTAMP:20260423T145739Z
UID:3841872026-08-30 10:00:00+01:00achurchnearyou
CATEGORIES:
DESCRIPTION:Sung Matins four times a year on the 5th Sunday of the Month
GEO:0.560349;51.68164
LOCATION:East Hanningfield: All Saints
URL:https://www.achurchnearyou.com/church/6294/service-and-events/events/3
 84187/
END:VEVENT
BEGIN:VEVENT
SUMMARY:Matins
DTSTART;TZID=Europe/London:20261129T100000
DTEND;TZID=Europe/London:20261129T104500
DTSTAMP:20260423T145739Z
UID:3841872026-11-29 10:00:00+00:00achurchnearyou
CATEGORIES:
DESCRIPTION:Sung Matins four times a year on the 5th Sunday of the Month
GEO:0.560349;51.68164
LOCATION:East Hanningfield: All Saints
URL:https://www.achurchnearyou.com/church/6294/service-and-events/events/3
 84187/
END:VEVENT
BEGIN:VEVENT
SUMMARY:Matins
DTSTART;TZID=Europe/London:20270131T100000
DTEND;TZID=Europe/London:20270131T104500
DTSTAMP:20260423T145739Z
UID:3841872027-01-31 10:00:00+00:00achurchnearyou
CATEGORIES:
DESCRIPTION:Sung Matins four times a year on the 5th Sunday of the Month
GEO:0.560349;51.68164
LOCATION:East Hanningfield: All Saints
URL:https://www.achurchnearyou.com/church/6294/service-and-events/events/3
 84187/
END:VEVENT
END:VCALENDAR
