BEGIN:VCALENDAR
VERSION:2.0
PRODID:-//achurchnearyou.com//eventfeed//EN
CALSCALE:GREGORIAN
METHOD:PUBLISH
X-WR-TIMEZONE:UTC
BEGIN:VEVENT
SUMMARY:Evening Prayer with Holy Communion
DTSTART;TZID=Europe/London:20260405T180000
DTEND;TZID=Europe/London:20260405T183000
DTSTAMP:20260421T164319Z
UID:3075131775408400.0achurchnearyou
CATEGORIES:
DESCRIPTION:
GEO:0.563586;51.820869
LOCATION:Fairstead: St Mary the Virgin
URL:https://www.achurchnearyou.com/church/6307/service-and-events/events/3
 07513/
END:VEVENT
BEGIN:VEVENT
SUMMARY:Mattins
DTSTART;TZID=Europe/London:20260412T090000
DTEND;TZID=Europe/London:20260412T093000
DTSTAMP:20260421T164319Z
UID:3075141775980800.0achurchnearyou
CATEGORIES:
DESCRIPTION:
GEO:0.563586;51.820869
LOCATION:Fairstead: St Mary the Virgin
URL:https://www.achurchnearyou.com/church/6307/service-and-events/events/3
 07514/
END:VEVENT
BEGIN:VEVENT
SUMMARY:Evening Prayer with Holy Communion
DTSTART;TZID=Europe/London:20260419T180000
DTEND;TZID=Europe/London:20260419T183000
DTSTAMP:20260421T164319Z
UID:3075131776618000.0achurchnearyou
CATEGORIES:
DESCRIPTION:
GEO:0.563586;51.820869
LOCATION:Fairstead: St Mary the Virgin
URL:https://www.achurchnearyou.com/church/6307/service-and-events/events/3
 07513/
END:VEVENT
BEGIN:VEVENT
SUMMARY:Mattins
DTSTART;TZID=Europe/London:20260426T090000
DTEND;TZID=Europe/London:20260426T093000
DTSTAMP:20260421T164319Z
UID:3075141777190400.0achurchnearyou
CATEGORIES:
DESCRIPTION:
GEO:0.563586;51.820869
LOCATION:Fairstead: St Mary the Virgin
URL:https://www.achurchnearyou.com/church/6307/service-and-events/events/3
 07514/
END:VEVENT
BEGIN:VEVENT
SUMMARY:Evening Prayer with Holy Communion
DTSTART;TZID=Europe/London:20260503T180000
DTEND;TZID=Europe/London:20260503T183000
DTSTAMP:20260421T164319Z
UID:3075131777827600.0achurchnearyou
CATEGORIES:
DESCRIPTION:
GEO:0.563586;51.820869
LOCATION:Fairstead: St Mary the Virgin
URL:https://www.achurchnearyou.com/church/6307/service-and-events/events/3
 07513/
END:VEVENT
BEGIN:VEVENT
SUMMARY:Mattins
DTSTART;TZID=Europe/London:20260510T090000
DTEND;TZID=Europe/London:20260510T093000
DTSTAMP:20260421T164319Z
UID:3075141778400000.0achurchnearyou
CATEGORIES:
DESCRIPTION:
GEO:0.563586;51.820869
LOCATION:Fairstead: St Mary the Virgin
URL:https://www.achurchnearyou.com/church/6307/service-and-events/events/3
 07514/
END:VEVENT
BEGIN:VEVENT
SUMMARY:Evening Prayer with Holy Communion
DTSTART;TZID=Europe/London:20260517T180000
DTEND;TZID=Europe/London:20260517T183000
DTSTAMP:20260421T164319Z
UID:3075131779037200.0achurchnearyou
CATEGORIES:
DESCRIPTION:
GEO:0.563586;51.820869
LOCATION:Fairstead: St Mary the Virgin
URL:https://www.achurchnearyou.com/church/6307/service-and-events/events/3
 07513/
END:VEVENT
BEGIN:VEVENT
SUMMARY:Mattins
DTSTART;TZID=Europe/London:20260524T090000
DTEND;TZID=Europe/London:20260524T093000
DTSTAMP:20260421T164319Z
UID:3075141779609600.0achurchnearyou
CATEGORIES:
DESCRIPTION:
GEO:0.563586;51.820869
LOCATION:Fairstead: St Mary the Virgin
URL:https://www.achurchnearyou.com/church/6307/service-and-events/events/3
 07514/
END:VEVENT
BEGIN:VEVENT
SUMMARY:Evening Prayer with Holy Communion
DTSTART;TZID=Europe/London:20260607T180000
DTEND;TZID=Europe/London:20260607T183000
DTSTAMP:20260421T164319Z
UID:3075131780851600.0achurchnearyou
CATEGORIES:
DESCRIPTION:
GEO:0.563586;51.820869
LOCATION:Fairstead: St Mary the Virgin
URL:https://www.achurchnearyou.com/church/6307/service-and-events/events/3
 07513/
END:VEVENT
BEGIN:VEVENT
SUMMARY:Mattins
DTSTART;TZID=Europe/London:20260614T090000
DTEND;TZID=Europe/London:20260614T093000
DTSTAMP:20260421T164319Z
UID:3075141781424000.0achurchnearyou
CATEGORIES:
DESCRIPTION:
GEO:0.563586;51.820869
LOCATION:Fairstead: St Mary the Virgin
URL:https://www.achurchnearyou.com/church/6307/service-and-events/events/3
 07514/
END:VEVENT
BEGIN:VEVENT
SUMMARY:Evening Prayer with Holy Communion
DTSTART;TZID=Europe/London:20260621T180000
DTEND;TZID=Europe/London:20260621T183000
DTSTAMP:20260421T164319Z
UID:3075131782061200.0achurchnearyou
CATEGORIES:
DESCRIPTION:
GEO:0.563586;51.820869
LOCATION:Fairstead: St Mary the Virgin
URL:https://www.achurchnearyou.com/church/6307/service-and-events/events/3
 07513/
END:VEVENT
BEGIN:VEVENT
SUMMARY:Mattins
DTSTART;TZID=Europe/London:20260628T090000
DTEND;TZID=Europe/London:20260628T093000
DTSTAMP:20260421T164319Z
UID:3075141782633600.0achurchnearyou
CATEGORIES:
DESCRIPTION:
GEO:0.563586;51.820869
LOCATION:Fairstead: St Mary the Virgin
URL:https://www.achurchnearyou.com/church/6307/service-and-events/events/3
 07514/
END:VEVENT
BEGIN:VEVENT
SUMMARY:Evening Prayer with Holy Communion
DTSTART;TZID=Europe/London:20260705T180000
DTEND;TZID=Europe/London:20260705T183000
DTSTAMP:20260421T164319Z
UID:3075131783270800.0achurchnearyou
CATEGORIES:
DESCRIPTION:
GEO:0.563586;51.820869
LOCATION:Fairstead: St Mary the Virgin
URL:https://www.achurchnearyou.com/church/6307/service-and-events/events/3
 07513/
END:VEVENT
BEGIN:VEVENT
SUMMARY:Mattins
DTSTART;TZID=Europe/London:20260712T090000
DTEND;TZID=Europe/London:20260712T093000
DTSTAMP:20260421T164319Z
UID:3075141783843200.0achurchnearyou
CATEGORIES:
DESCRIPTION:
GEO:0.563586;51.820869
LOCATION:Fairstead: St Mary the Virgin
URL:https://www.achurchnearyou.com/church/6307/service-and-events/events/3
 07514/
END:VEVENT
BEGIN:VEVENT
SUMMARY:Evening Prayer with Holy Communion
DTSTART;TZID=Europe/London:20260719T180000
DTEND;TZID=Europe/London:20260719T183000
DTSTAMP:20260421T164319Z
UID:3075131784480400.0achurchnearyou
CATEGORIES:
DESCRIPTION:
GEO:0.563586;51.820869
LOCATION:Fairstead: St Mary the Virgin
URL:https://www.achurchnearyou.com/church/6307/service-and-events/events/3
 07513/
END:VEVENT
BEGIN:VEVENT
SUMMARY:Mattins
DTSTART;TZID=Europe/London:20260726T090000
DTEND;TZID=Europe/London:20260726T093000
DTSTAMP:20260421T164319Z
UID:3075141785052800.0achurchnearyou
CATEGORIES:
DESCRIPTION:
GEO:0.563586;51.820869
LOCATION:Fairstead: St Mary the Virgin
URL:https://www.achurchnearyou.com/church/6307/service-and-events/events/3
 07514/
END:VEVENT
BEGIN:VEVENT
SUMMARY:Evening Prayer with Holy Communion
DTSTART;TZID=Europe/London:20260802T180000
DTEND;TZID=Europe/London:20260802T183000
DTSTAMP:20260421T164319Z
UID:3075131785690000.0achurchnearyou
CATEGORIES:
DESCRIPTION:
GEO:0.563586;51.820869
LOCATION:Fairstead: St Mary the Virgin
URL:https://www.achurchnearyou.com/church/6307/service-and-events/events/3
 07513/
END:VEVENT
BEGIN:VEVENT
SUMMARY:Mattins
DTSTART;TZID=Europe/London:20260809T090000
DTEND;TZID=Europe/London:20260809T093000
DTSTAMP:20260421T164319Z
UID:3075141786262400.0achurchnearyou
CATEGORIES:
DESCRIPTION:
GEO:0.563586;51.820869
LOCATION:Fairstead: St Mary the Virgin
URL:https://www.achurchnearyou.com/church/6307/service-and-events/events/3
 07514/
END:VEVENT
BEGIN:VEVENT
SUMMARY:Evening Prayer with Holy Communion
DTSTART;TZID=Europe/London:20260816T180000
DTEND;TZID=Europe/London:20260816T183000
DTSTAMP:20260421T164319Z
UID:3075131786899600.0achurchnearyou
CATEGORIES:
DESCRIPTION:
GEO:0.563586;51.820869
LOCATION:Fairstead: St Mary the Virgin
URL:https://www.achurchnearyou.com/church/6307/service-and-events/events/3
 07513/
END:VEVENT
BEGIN:VEVENT
SUMMARY:Mattins
DTSTART;TZID=Europe/London:20260823T090000
DTEND;TZID=Europe/London:20260823T093000
DTSTAMP:20260421T164319Z
UID:3075141787472000.0achurchnearyou
CATEGORIES:
DESCRIPTION:
GEO:0.563586;51.820869
LOCATION:Fairstead: St Mary the Virgin
URL:https://www.achurchnearyou.com/church/6307/service-and-events/events/3
 07514/
END:VEVENT
BEGIN:VEVENT
SUMMARY:Evening Prayer with Holy Communion
DTSTART;TZID=Europe/London:20260906T180000
DTEND;TZID=Europe/London:20260906T183000
DTSTAMP:20260421T164319Z
UID:3075131788714000.0achurchnearyou
CATEGORIES:
DESCRIPTION:
GEO:0.563586;51.820869
LOCATION:Fairstead: St Mary the Virgin
URL:https://www.achurchnearyou.com/church/6307/service-and-events/events/3
 07513/
END:VEVENT
BEGIN:VEVENT
SUMMARY:Mattins
DTSTART;TZID=Europe/London:20260913T090000
DTEND;TZID=Europe/London:20260913T093000
DTSTAMP:20260421T164319Z
UID:3075141789286400.0achurchnearyou
CATEGORIES:
DESCRIPTION:
GEO:0.563586;51.820869
LOCATION:Fairstead: St Mary the Virgin
URL:https://www.achurchnearyou.com/church/6307/service-and-events/events/3
 07514/
END:VEVENT
BEGIN:VEVENT
SUMMARY:Evening Prayer with Holy Communion
DTSTART;TZID=Europe/London:20260920T180000
DTEND;TZID=Europe/London:20260920T183000
DTSTAMP:20260421T164319Z
UID:3075131789923600.0achurchnearyou
CATEGORIES:
DESCRIPTION:
GEO:0.563586;51.820869
LOCATION:Fairstead: St Mary the Virgin
URL:https://www.achurchnearyou.com/church/6307/service-and-events/events/3
 07513/
END:VEVENT
BEGIN:VEVENT
SUMMARY:Mattins
DTSTART;TZID=Europe/London:20260927T090000
DTEND;TZID=Europe/London:20260927T093000
DTSTAMP:20260421T164319Z
UID:3075141790496000.0achurchnearyou
CATEGORIES:
DESCRIPTION:
GEO:0.563586;51.820869
LOCATION:Fairstead: St Mary the Virgin
URL:https://www.achurchnearyou.com/church/6307/service-and-events/events/3
 07514/
END:VEVENT
END:VCALENDAR
