BEGIN:VCALENDAR
VERSION:2.0
PRODID:-//achurchnearyou.com//eventfeed//EN
CALSCALE:GREGORIAN
METHOD:PUBLISH
X-WR-TIMEZONE:UTC
BEGIN:VEVENT
SUMMARY:Easter All Age Sunday Service
DTSTART:20250420T090000Z
DTEND:20250420T103000Z
DTSTAMP:20260422T105222Z
UID:11586522025-04-20 09:00:00+00:00achurchnearyou
CATEGORIES:
DESCRIPTION:Welcome!  Join us for our Easter Service as we celebrate what 
 Jesus did for us on the cross.
GEO:0.014805;51.543187
LOCATION:St Matthew\, West Ham
URL:https://www.achurchnearyou.com/church/6326/service-and-events/events/1
 158652/
END:VEVENT
END:VCALENDAR
