BEGIN:VCALENDAR
VERSION:2.0
PRODID:-//achurchnearyou.com//eventfeed//EN
CALSCALE:GREGORIAN
METHOD:PUBLISH
X-WR-TIMEZONE:UTC
BEGIN:VEVENT
SUMMARY:Evening Services
DTSTART;TZID=Europe/London:20260426T173000
DTEND;TZID=Europe/London:20260426T190000
DTSTAMP:20260421T050035Z
UID:9498242026-04-26 17:30:00+01:00achurchnearyou
CATEGORIES:
DESCRIPTION:Join us on Sunday evenings from 5:30pm to 7pm for our friendly
  and informal gathering where we come together to listen to God's word and
  talk over pizza afterwards.
GEO:0.014805;51.543187
LOCATION:St Matthew\, West Ham
URL:https://www.achurchnearyou.com/church/6326/service-and-events/events/9
 49824/
END:VEVENT
BEGIN:VEVENT
SUMMARY:Evening Services
DTSTART;TZID=Europe/London:20260503T173000
DTEND;TZID=Europe/London:20260503T190000
DTSTAMP:20260421T050035Z
UID:9498242026-05-03 17:30:00+01:00achurchnearyou
CATEGORIES:
DESCRIPTION:Join us on Sunday evenings from 5:30pm to 7pm for our friendly
  and informal gathering where we come together to listen to God's word and
  talk over pizza afterwards.
GEO:0.014805;51.543187
LOCATION:St Matthew\, West Ham
URL:https://www.achurchnearyou.com/church/6326/service-and-events/events/9
 49824/
END:VEVENT
BEGIN:VEVENT
SUMMARY:Evening Services
DTSTART;TZID=Europe/London:20260510T173000
DTEND;TZID=Europe/London:20260510T190000
DTSTAMP:20260421T050035Z
UID:9498242026-05-10 17:30:00+01:00achurchnearyou
CATEGORIES:
DESCRIPTION:Join us on Sunday evenings from 5:30pm to 7pm for our friendly
  and informal gathering where we come together to listen to God's word and
  talk over pizza afterwards.
GEO:0.014805;51.543187
LOCATION:St Matthew\, West Ham
URL:https://www.achurchnearyou.com/church/6326/service-and-events/events/9
 49824/
END:VEVENT
BEGIN:VEVENT
SUMMARY:Evening Services
DTSTART;TZID=Europe/London:20260517T173000
DTEND;TZID=Europe/London:20260517T190000
DTSTAMP:20260421T050035Z
UID:9498242026-05-17 17:30:00+01:00achurchnearyou
CATEGORIES:
DESCRIPTION:Join us on Sunday evenings from 5:30pm to 7pm for our friendly
  and informal gathering where we come together to listen to God's word and
  talk over pizza afterwards.
GEO:0.014805;51.543187
LOCATION:St Matthew\, West Ham
URL:https://www.achurchnearyou.com/church/6326/service-and-events/events/9
 49824/
END:VEVENT
BEGIN:VEVENT
SUMMARY:Evening Services
DTSTART;TZID=Europe/London:20260524T173000
DTEND;TZID=Europe/London:20260524T190000
DTSTAMP:20260421T050035Z
UID:9498242026-05-24 17:30:00+01:00achurchnearyou
CATEGORIES:
DESCRIPTION:Join us on Sunday evenings from 5:30pm to 7pm for our friendly
  and informal gathering where we come together to listen to God's word and
  talk over pizza afterwards.
GEO:0.014805;51.543187
LOCATION:St Matthew\, West Ham
URL:https://www.achurchnearyou.com/church/6326/service-and-events/events/9
 49824/
END:VEVENT
BEGIN:VEVENT
SUMMARY:Evening Services
DTSTART;TZID=Europe/London:20260531T173000
DTEND;TZID=Europe/London:20260531T190000
DTSTAMP:20260421T050035Z
UID:9498242026-05-31 17:30:00+01:00achurchnearyou
CATEGORIES:
DESCRIPTION:Join us on Sunday evenings from 5:30pm to 7pm for our friendly
  and informal gathering where we come together to listen to God's word and
  talk over pizza afterwards.
GEO:0.014805;51.543187
LOCATION:St Matthew\, West Ham
URL:https://www.achurchnearyou.com/church/6326/service-and-events/events/9
 49824/
END:VEVENT
BEGIN:VEVENT
SUMMARY:Evening Services
DTSTART;TZID=Europe/London:20260607T173000
DTEND;TZID=Europe/London:20260607T190000
DTSTAMP:20260421T050035Z
UID:9498242026-06-07 17:30:00+01:00achurchnearyou
CATEGORIES:
DESCRIPTION:Join us on Sunday evenings from 5:30pm to 7pm for our friendly
  and informal gathering where we come together to listen to God's word and
  talk over pizza afterwards.
GEO:0.014805;51.543187
LOCATION:St Matthew\, West Ham
URL:https://www.achurchnearyou.com/church/6326/service-and-events/events/9
 49824/
END:VEVENT
BEGIN:VEVENT
SUMMARY:Evening Services
DTSTART;TZID=Europe/London:20260614T173000
DTEND;TZID=Europe/London:20260614T190000
DTSTAMP:20260421T050035Z
UID:9498242026-06-14 17:30:00+01:00achurchnearyou
CATEGORIES:
DESCRIPTION:Join us on Sunday evenings from 5:30pm to 7pm for our friendly
  and informal gathering where we come together to listen to God's word and
  talk over pizza afterwards.
GEO:0.014805;51.543187
LOCATION:St Matthew\, West Ham
URL:https://www.achurchnearyou.com/church/6326/service-and-events/events/9
 49824/
END:VEVENT
BEGIN:VEVENT
SUMMARY:Evening Services
DTSTART;TZID=Europe/London:20260621T173000
DTEND;TZID=Europe/London:20260621T190000
DTSTAMP:20260421T050035Z
UID:9498242026-06-21 17:30:00+01:00achurchnearyou
CATEGORIES:
DESCRIPTION:Join us on Sunday evenings from 5:30pm to 7pm for our friendly
  and informal gathering where we come together to listen to God's word and
  talk over pizza afterwards.
GEO:0.014805;51.543187
LOCATION:St Matthew\, West Ham
URL:https://www.achurchnearyou.com/church/6326/service-and-events/events/9
 49824/
END:VEVENT
BEGIN:VEVENT
SUMMARY:Evening Services
DTSTART;TZID=Europe/London:20260628T173000
DTEND;TZID=Europe/London:20260628T190000
DTSTAMP:20260421T050035Z
UID:9498242026-06-28 17:30:00+01:00achurchnearyou
CATEGORIES:
DESCRIPTION:Join us on Sunday evenings from 5:30pm to 7pm for our friendly
  and informal gathering where we come together to listen to God's word and
  talk over pizza afterwards.
GEO:0.014805;51.543187
LOCATION:St Matthew\, West Ham
URL:https://www.achurchnearyou.com/church/6326/service-and-events/events/9
 49824/
END:VEVENT
BEGIN:VEVENT
SUMMARY:Evening Services
DTSTART;TZID=Europe/London:20260705T173000
DTEND;TZID=Europe/London:20260705T190000
DTSTAMP:20260421T050035Z
UID:9498242026-07-05 17:30:00+01:00achurchnearyou
CATEGORIES:
DESCRIPTION:Join us on Sunday evenings from 5:30pm to 7pm for our friendly
  and informal gathering where we come together to listen to God's word and
  talk over pizza afterwards.
GEO:0.014805;51.543187
LOCATION:St Matthew\, West Ham
URL:https://www.achurchnearyou.com/church/6326/service-and-events/events/9
 49824/
END:VEVENT
BEGIN:VEVENT
SUMMARY:Evening Services
DTSTART;TZID=Europe/London:20260712T173000
DTEND;TZID=Europe/London:20260712T190000
DTSTAMP:20260421T050035Z
UID:9498242026-07-12 17:30:00+01:00achurchnearyou
CATEGORIES:
DESCRIPTION:Join us on Sunday evenings from 5:30pm to 7pm for our friendly
  and informal gathering where we come together to listen to God's word and
  talk over pizza afterwards.
GEO:0.014805;51.543187
LOCATION:St Matthew\, West Ham
URL:https://www.achurchnearyou.com/church/6326/service-and-events/events/9
 49824/
END:VEVENT
BEGIN:VEVENT
SUMMARY:Evening Services
DTSTART;TZID=Europe/London:20260719T173000
DTEND;TZID=Europe/London:20260719T190000
DTSTAMP:20260421T050035Z
UID:9498242026-07-19 17:30:00+01:00achurchnearyou
CATEGORIES:
DESCRIPTION:Join us on Sunday evenings from 5:30pm to 7pm for our friendly
  and informal gathering where we come together to listen to God's word and
  talk over pizza afterwards.
GEO:0.014805;51.543187
LOCATION:St Matthew\, West Ham
URL:https://www.achurchnearyou.com/church/6326/service-and-events/events/9
 49824/
END:VEVENT
BEGIN:VEVENT
SUMMARY:Evening Services
DTSTART;TZID=Europe/London:20260726T173000
DTEND;TZID=Europe/London:20260726T190000
DTSTAMP:20260421T050035Z
UID:9498242026-07-26 17:30:00+01:00achurchnearyou
CATEGORIES:
DESCRIPTION:Join us on Sunday evenings from 5:30pm to 7pm for our friendly
  and informal gathering where we come together to listen to God's word and
  talk over pizza afterwards.
GEO:0.014805;51.543187
LOCATION:St Matthew\, West Ham
URL:https://www.achurchnearyou.com/church/6326/service-and-events/events/9
 49824/
END:VEVENT
BEGIN:VEVENT
SUMMARY:Evening Services
DTSTART;TZID=Europe/London:20260802T173000
DTEND;TZID=Europe/London:20260802T190000
DTSTAMP:20260421T050035Z
UID:9498242026-08-02 17:30:00+01:00achurchnearyou
CATEGORIES:
DESCRIPTION:Join us on Sunday evenings from 5:30pm to 7pm for our friendly
  and informal gathering where we come together to listen to God's word and
  talk over pizza afterwards.
GEO:0.014805;51.543187
LOCATION:St Matthew\, West Ham
URL:https://www.achurchnearyou.com/church/6326/service-and-events/events/9
 49824/
END:VEVENT
BEGIN:VEVENT
SUMMARY:Evening Services
DTSTART;TZID=Europe/London:20260809T173000
DTEND;TZID=Europe/London:20260809T190000
DTSTAMP:20260421T050035Z
UID:9498242026-08-09 17:30:00+01:00achurchnearyou
CATEGORIES:
DESCRIPTION:Join us on Sunday evenings from 5:30pm to 7pm for our friendly
  and informal gathering where we come together to listen to God's word and
  talk over pizza afterwards.
GEO:0.014805;51.543187
LOCATION:St Matthew\, West Ham
URL:https://www.achurchnearyou.com/church/6326/service-and-events/events/9
 49824/
END:VEVENT
BEGIN:VEVENT
SUMMARY:Evening Services
DTSTART;TZID=Europe/London:20260816T173000
DTEND;TZID=Europe/London:20260816T190000
DTSTAMP:20260421T050035Z
UID:9498242026-08-16 17:30:00+01:00achurchnearyou
CATEGORIES:
DESCRIPTION:Join us on Sunday evenings from 5:30pm to 7pm for our friendly
  and informal gathering where we come together to listen to God's word and
  talk over pizza afterwards.
GEO:0.014805;51.543187
LOCATION:St Matthew\, West Ham
URL:https://www.achurchnearyou.com/church/6326/service-and-events/events/9
 49824/
END:VEVENT
BEGIN:VEVENT
SUMMARY:Evening Services
DTSTART;TZID=Europe/London:20260823T173000
DTEND;TZID=Europe/London:20260823T190000
DTSTAMP:20260421T050035Z
UID:9498242026-08-23 17:30:00+01:00achurchnearyou
CATEGORIES:
DESCRIPTION:Join us on Sunday evenings from 5:30pm to 7pm for our friendly
  and informal gathering where we come together to listen to God's word and
  talk over pizza afterwards.
GEO:0.014805;51.543187
LOCATION:St Matthew\, West Ham
URL:https://www.achurchnearyou.com/church/6326/service-and-events/events/9
 49824/
END:VEVENT
BEGIN:VEVENT
SUMMARY:Evening Services
DTSTART;TZID=Europe/London:20260830T173000
DTEND;TZID=Europe/London:20260830T190000
DTSTAMP:20260421T050035Z
UID:9498242026-08-30 17:30:00+01:00achurchnearyou
CATEGORIES:
DESCRIPTION:Join us on Sunday evenings from 5:30pm to 7pm for our friendly
  and informal gathering where we come together to listen to God's word and
  talk over pizza afterwards.
GEO:0.014805;51.543187
LOCATION:St Matthew\, West Ham
URL:https://www.achurchnearyou.com/church/6326/service-and-events/events/9
 49824/
END:VEVENT
BEGIN:VEVENT
SUMMARY:Evening Services
DTSTART;TZID=Europe/London:20260906T173000
DTEND;TZID=Europe/London:20260906T190000
DTSTAMP:20260421T050035Z
UID:9498242026-09-06 17:30:00+01:00achurchnearyou
CATEGORIES:
DESCRIPTION:Join us on Sunday evenings from 5:30pm to 7pm for our friendly
  and informal gathering where we come together to listen to God's word and
  talk over pizza afterwards.
GEO:0.014805;51.543187
LOCATION:St Matthew\, West Ham
URL:https://www.achurchnearyou.com/church/6326/service-and-events/events/9
 49824/
END:VEVENT
BEGIN:VEVENT
SUMMARY:Evening Services
DTSTART;TZID=Europe/London:20260913T173000
DTEND;TZID=Europe/London:20260913T190000
DTSTAMP:20260421T050035Z
UID:9498242026-09-13 17:30:00+01:00achurchnearyou
CATEGORIES:
DESCRIPTION:Join us on Sunday evenings from 5:30pm to 7pm for our friendly
  and informal gathering where we come together to listen to God's word and
  talk over pizza afterwards.
GEO:0.014805;51.543187
LOCATION:St Matthew\, West Ham
URL:https://www.achurchnearyou.com/church/6326/service-and-events/events/9
 49824/
END:VEVENT
BEGIN:VEVENT
SUMMARY:Evening Services
DTSTART;TZID=Europe/London:20260920T173000
DTEND;TZID=Europe/London:20260920T190000
DTSTAMP:20260421T050035Z
UID:9498242026-09-20 17:30:00+01:00achurchnearyou
CATEGORIES:
DESCRIPTION:Join us on Sunday evenings from 5:30pm to 7pm for our friendly
  and informal gathering where we come together to listen to God's word and
  talk over pizza afterwards.
GEO:0.014805;51.543187
LOCATION:St Matthew\, West Ham
URL:https://www.achurchnearyou.com/church/6326/service-and-events/events/9
 49824/
END:VEVENT
BEGIN:VEVENT
SUMMARY:Evening Services
DTSTART;TZID=Europe/London:20260927T173000
DTEND;TZID=Europe/London:20260927T190000
DTSTAMP:20260421T050035Z
UID:9498242026-09-27 17:30:00+01:00achurchnearyou
CATEGORIES:
DESCRIPTION:Join us on Sunday evenings from 5:30pm to 7pm for our friendly
  and informal gathering where we come together to listen to God's word and
  talk over pizza afterwards.
GEO:0.014805;51.543187
LOCATION:St Matthew\, West Ham
URL:https://www.achurchnearyou.com/church/6326/service-and-events/events/9
 49824/
END:VEVENT
BEGIN:VEVENT
SUMMARY:Evening Services
DTSTART;TZID=Europe/London:20261004T173000
DTEND;TZID=Europe/London:20261004T190000
DTSTAMP:20260421T050035Z
UID:9498242026-10-04 17:30:00+01:00achurchnearyou
CATEGORIES:
DESCRIPTION:Join us on Sunday evenings from 5:30pm to 7pm for our friendly
  and informal gathering where we come together to listen to God's word and
  talk over pizza afterwards.
GEO:0.014805;51.543187
LOCATION:St Matthew\, West Ham
URL:https://www.achurchnearyou.com/church/6326/service-and-events/events/9
 49824/
END:VEVENT
BEGIN:VEVENT
SUMMARY:Evening Services
DTSTART;TZID=Europe/London:20261011T173000
DTEND;TZID=Europe/London:20261011T190000
DTSTAMP:20260421T050035Z
UID:9498242026-10-11 17:30:00+01:00achurchnearyou
CATEGORIES:
DESCRIPTION:Join us on Sunday evenings from 5:30pm to 7pm for our friendly
  and informal gathering where we come together to listen to God's word and
  talk over pizza afterwards.
GEO:0.014805;51.543187
LOCATION:St Matthew\, West Ham
URL:https://www.achurchnearyou.com/church/6326/service-and-events/events/9
 49824/
END:VEVENT
BEGIN:VEVENT
SUMMARY:Evening Services
DTSTART;TZID=Europe/London:20261018T173000
DTEND;TZID=Europe/London:20261018T190000
DTSTAMP:20260421T050035Z
UID:9498242026-10-18 17:30:00+01:00achurchnearyou
CATEGORIES:
DESCRIPTION:Join us on Sunday evenings from 5:30pm to 7pm for our friendly
  and informal gathering where we come together to listen to God's word and
  talk over pizza afterwards.
GEO:0.014805;51.543187
LOCATION:St Matthew\, West Ham
URL:https://www.achurchnearyou.com/church/6326/service-and-events/events/9
 49824/
END:VEVENT
BEGIN:VEVENT
SUMMARY:Evening Services
DTSTART;TZID=Europe/London:20261025T173000
DTEND;TZID=Europe/London:20261025T190000
DTSTAMP:20260421T050035Z
UID:9498242026-10-25 17:30:00+00:00achurchnearyou
CATEGORIES:
DESCRIPTION:Join us on Sunday evenings from 5:30pm to 7pm for our friendly
  and informal gathering where we come together to listen to God's word and
  talk over pizza afterwards.
GEO:0.014805;51.543187
LOCATION:St Matthew\, West Ham
URL:https://www.achurchnearyou.com/church/6326/service-and-events/events/9
 49824/
END:VEVENT
BEGIN:VEVENT
SUMMARY:Evening Services
DTSTART;TZID=Europe/London:20261101T173000
DTEND;TZID=Europe/London:20261101T190000
DTSTAMP:20260421T050035Z
UID:9498242026-11-01 17:30:00+00:00achurchnearyou
CATEGORIES:
DESCRIPTION:Join us on Sunday evenings from 5:30pm to 7pm for our friendly
  and informal gathering where we come together to listen to God's word and
  talk over pizza afterwards.
GEO:0.014805;51.543187
LOCATION:St Matthew\, West Ham
URL:https://www.achurchnearyou.com/church/6326/service-and-events/events/9
 49824/
END:VEVENT
BEGIN:VEVENT
SUMMARY:Evening Services
DTSTART;TZID=Europe/London:20261108T173000
DTEND;TZID=Europe/London:20261108T190000
DTSTAMP:20260421T050035Z
UID:9498242026-11-08 17:30:00+00:00achurchnearyou
CATEGORIES:
DESCRIPTION:Join us on Sunday evenings from 5:30pm to 7pm for our friendly
  and informal gathering where we come together to listen to God's word and
  talk over pizza afterwards.
GEO:0.014805;51.543187
LOCATION:St Matthew\, West Ham
URL:https://www.achurchnearyou.com/church/6326/service-and-events/events/9
 49824/
END:VEVENT
BEGIN:VEVENT
SUMMARY:Evening Services
DTSTART;TZID=Europe/London:20261115T173000
DTEND;TZID=Europe/London:20261115T190000
DTSTAMP:20260421T050035Z
UID:9498242026-11-15 17:30:00+00:00achurchnearyou
CATEGORIES:
DESCRIPTION:Join us on Sunday evenings from 5:30pm to 7pm for our friendly
  and informal gathering where we come together to listen to God's word and
  talk over pizza afterwards.
GEO:0.014805;51.543187
LOCATION:St Matthew\, West Ham
URL:https://www.achurchnearyou.com/church/6326/service-and-events/events/9
 49824/
END:VEVENT
BEGIN:VEVENT
SUMMARY:Evening Services
DTSTART;TZID=Europe/London:20261122T173000
DTEND;TZID=Europe/London:20261122T190000
DTSTAMP:20260421T050035Z
UID:9498242026-11-22 17:30:00+00:00achurchnearyou
CATEGORIES:
DESCRIPTION:Join us on Sunday evenings from 5:30pm to 7pm for our friendly
  and informal gathering where we come together to listen to God's word and
  talk over pizza afterwards.
GEO:0.014805;51.543187
LOCATION:St Matthew\, West Ham
URL:https://www.achurchnearyou.com/church/6326/service-and-events/events/9
 49824/
END:VEVENT
BEGIN:VEVENT
SUMMARY:Evening Services
DTSTART;TZID=Europe/London:20261129T173000
DTEND;TZID=Europe/London:20261129T190000
DTSTAMP:20260421T050035Z
UID:9498242026-11-29 17:30:00+00:00achurchnearyou
CATEGORIES:
DESCRIPTION:Join us on Sunday evenings from 5:30pm to 7pm for our friendly
  and informal gathering where we come together to listen to God's word and
  talk over pizza afterwards.
GEO:0.014805;51.543187
LOCATION:St Matthew\, West Ham
URL:https://www.achurchnearyou.com/church/6326/service-and-events/events/9
 49824/
END:VEVENT
BEGIN:VEVENT
SUMMARY:Evening Services
DTSTART;TZID=Europe/London:20261206T173000
DTEND;TZID=Europe/London:20261206T190000
DTSTAMP:20260421T050035Z
UID:9498242026-12-06 17:30:00+00:00achurchnearyou
CATEGORIES:
DESCRIPTION:Join us on Sunday evenings from 5:30pm to 7pm for our friendly
  and informal gathering where we come together to listen to God's word and
  talk over pizza afterwards.
GEO:0.014805;51.543187
LOCATION:St Matthew\, West Ham
URL:https://www.achurchnearyou.com/church/6326/service-and-events/events/9
 49824/
END:VEVENT
BEGIN:VEVENT
SUMMARY:Evening Services
DTSTART;TZID=Europe/London:20261213T173000
DTEND;TZID=Europe/London:20261213T190000
DTSTAMP:20260421T050035Z
UID:9498242026-12-13 17:30:00+00:00achurchnearyou
CATEGORIES:
DESCRIPTION:Join us on Sunday evenings from 5:30pm to 7pm for our friendly
  and informal gathering where we come together to listen to God's word and
  talk over pizza afterwards.
GEO:0.014805;51.543187
LOCATION:St Matthew\, West Ham
URL:https://www.achurchnearyou.com/church/6326/service-and-events/events/9
 49824/
END:VEVENT
BEGIN:VEVENT
SUMMARY:Evening Services
DTSTART;TZID=Europe/London:20261220T173000
DTEND;TZID=Europe/London:20261220T190000
DTSTAMP:20260421T050035Z
UID:9498242026-12-20 17:30:00+00:00achurchnearyou
CATEGORIES:
DESCRIPTION:Join us on Sunday evenings from 5:30pm to 7pm for our friendly
  and informal gathering where we come together to listen to God's word and
  talk over pizza afterwards.
GEO:0.014805;51.543187
LOCATION:St Matthew\, West Ham
URL:https://www.achurchnearyou.com/church/6326/service-and-events/events/9
 49824/
END:VEVENT
BEGIN:VEVENT
SUMMARY:Evening Services
DTSTART;TZID=Europe/London:20261227T173000
DTEND;TZID=Europe/London:20261227T190000
DTSTAMP:20260421T050035Z
UID:9498242026-12-27 17:30:00+00:00achurchnearyou
CATEGORIES:
DESCRIPTION:Join us on Sunday evenings from 5:30pm to 7pm for our friendly
  and informal gathering where we come together to listen to God's word and
  talk over pizza afterwards.
GEO:0.014805;51.543187
LOCATION:St Matthew\, West Ham
URL:https://www.achurchnearyou.com/church/6326/service-and-events/events/9
 49824/
END:VEVENT
BEGIN:VEVENT
SUMMARY:Evening Services
DTSTART;TZID=Europe/London:20270103T173000
DTEND;TZID=Europe/London:20270103T190000
DTSTAMP:20260421T050035Z
UID:9498242027-01-03 17:30:00+00:00achurchnearyou
CATEGORIES:
DESCRIPTION:Join us on Sunday evenings from 5:30pm to 7pm for our friendly
  and informal gathering where we come together to listen to God's word and
  talk over pizza afterwards.
GEO:0.014805;51.543187
LOCATION:St Matthew\, West Ham
URL:https://www.achurchnearyou.com/church/6326/service-and-events/events/9
 49824/
END:VEVENT
BEGIN:VEVENT
SUMMARY:Evening Services
DTSTART;TZID=Europe/London:20270110T173000
DTEND;TZID=Europe/London:20270110T190000
DTSTAMP:20260421T050035Z
UID:9498242027-01-10 17:30:00+00:00achurchnearyou
CATEGORIES:
DESCRIPTION:Join us on Sunday evenings from 5:30pm to 7pm for our friendly
  and informal gathering where we come together to listen to God's word and
  talk over pizza afterwards.
GEO:0.014805;51.543187
LOCATION:St Matthew\, West Ham
URL:https://www.achurchnearyou.com/church/6326/service-and-events/events/9
 49824/
END:VEVENT
BEGIN:VEVENT
SUMMARY:Evening Services
DTSTART;TZID=Europe/London:20270117T173000
DTEND;TZID=Europe/London:20270117T190000
DTSTAMP:20260421T050035Z
UID:9498242027-01-17 17:30:00+00:00achurchnearyou
CATEGORIES:
DESCRIPTION:Join us on Sunday evenings from 5:30pm to 7pm for our friendly
  and informal gathering where we come together to listen to God's word and
  talk over pizza afterwards.
GEO:0.014805;51.543187
LOCATION:St Matthew\, West Ham
URL:https://www.achurchnearyou.com/church/6326/service-and-events/events/9
 49824/
END:VEVENT
BEGIN:VEVENT
SUMMARY:Evening Services
DTSTART;TZID=Europe/London:20270124T173000
DTEND;TZID=Europe/London:20270124T190000
DTSTAMP:20260421T050035Z
UID:9498242027-01-24 17:30:00+00:00achurchnearyou
CATEGORIES:
DESCRIPTION:Join us on Sunday evenings from 5:30pm to 7pm for our friendly
  and informal gathering where we come together to listen to God's word and
  talk over pizza afterwards.
GEO:0.014805;51.543187
LOCATION:St Matthew\, West Ham
URL:https://www.achurchnearyou.com/church/6326/service-and-events/events/9
 49824/
END:VEVENT
BEGIN:VEVENT
SUMMARY:Evening Services
DTSTART;TZID=Europe/London:20270131T173000
DTEND;TZID=Europe/London:20270131T190000
DTSTAMP:20260421T050035Z
UID:9498242027-01-31 17:30:00+00:00achurchnearyou
CATEGORIES:
DESCRIPTION:Join us on Sunday evenings from 5:30pm to 7pm for our friendly
  and informal gathering where we come together to listen to God's word and
  talk over pizza afterwards.
GEO:0.014805;51.543187
LOCATION:St Matthew\, West Ham
URL:https://www.achurchnearyou.com/church/6326/service-and-events/events/9
 49824/
END:VEVENT
BEGIN:VEVENT
SUMMARY:Evening Services
DTSTART;TZID=Europe/London:20270207T173000
DTEND;TZID=Europe/London:20270207T190000
DTSTAMP:20260421T050035Z
UID:9498242027-02-07 17:30:00+00:00achurchnearyou
CATEGORIES:
DESCRIPTION:Join us on Sunday evenings from 5:30pm to 7pm for our friendly
  and informal gathering where we come together to listen to God's word and
  talk over pizza afterwards.
GEO:0.014805;51.543187
LOCATION:St Matthew\, West Ham
URL:https://www.achurchnearyou.com/church/6326/service-and-events/events/9
 49824/
END:VEVENT
BEGIN:VEVENT
SUMMARY:Evening Services
DTSTART;TZID=Europe/London:20270214T173000
DTEND;TZID=Europe/London:20270214T190000
DTSTAMP:20260421T050035Z
UID:9498242027-02-14 17:30:00+00:00achurchnearyou
CATEGORIES:
DESCRIPTION:Join us on Sunday evenings from 5:30pm to 7pm for our friendly
  and informal gathering where we come together to listen to God's word and
  talk over pizza afterwards.
GEO:0.014805;51.543187
LOCATION:St Matthew\, West Ham
URL:https://www.achurchnearyou.com/church/6326/service-and-events/events/9
 49824/
END:VEVENT
BEGIN:VEVENT
SUMMARY:Evening Services
DTSTART;TZID=Europe/London:20270221T173000
DTEND;TZID=Europe/London:20270221T190000
DTSTAMP:20260421T050035Z
UID:9498242027-02-21 17:30:00+00:00achurchnearyou
CATEGORIES:
DESCRIPTION:Join us on Sunday evenings from 5:30pm to 7pm for our friendly
  and informal gathering where we come together to listen to God's word and
  talk over pizza afterwards.
GEO:0.014805;51.543187
LOCATION:St Matthew\, West Ham
URL:https://www.achurchnearyou.com/church/6326/service-and-events/events/9
 49824/
END:VEVENT
BEGIN:VEVENT
SUMMARY:Evening Services
DTSTART;TZID=Europe/London:20270228T173000
DTEND;TZID=Europe/London:20270228T190000
DTSTAMP:20260421T050035Z
UID:9498242027-02-28 17:30:00+00:00achurchnearyou
CATEGORIES:
DESCRIPTION:Join us on Sunday evenings from 5:30pm to 7pm for our friendly
  and informal gathering where we come together to listen to God's word and
  talk over pizza afterwards.
GEO:0.014805;51.543187
LOCATION:St Matthew\, West Ham
URL:https://www.achurchnearyou.com/church/6326/service-and-events/events/9
 49824/
END:VEVENT
BEGIN:VEVENT
SUMMARY:Evening Services
DTSTART;TZID=Europe/London:20270307T173000
DTEND;TZID=Europe/London:20270307T190000
DTSTAMP:20260421T050035Z
UID:9498242027-03-07 17:30:00+00:00achurchnearyou
CATEGORIES:
DESCRIPTION:Join us on Sunday evenings from 5:30pm to 7pm for our friendly
  and informal gathering where we come together to listen to God's word and
  talk over pizza afterwards.
GEO:0.014805;51.543187
LOCATION:St Matthew\, West Ham
URL:https://www.achurchnearyou.com/church/6326/service-and-events/events/9
 49824/
END:VEVENT
BEGIN:VEVENT
SUMMARY:Evening Services
DTSTART;TZID=Europe/London:20270314T173000
DTEND;TZID=Europe/London:20270314T190000
DTSTAMP:20260421T050035Z
UID:9498242027-03-14 17:30:00+00:00achurchnearyou
CATEGORIES:
DESCRIPTION:Join us on Sunday evenings from 5:30pm to 7pm for our friendly
  and informal gathering where we come together to listen to God's word and
  talk over pizza afterwards.
GEO:0.014805;51.543187
LOCATION:St Matthew\, West Ham
URL:https://www.achurchnearyou.com/church/6326/service-and-events/events/9
 49824/
END:VEVENT
BEGIN:VEVENT
SUMMARY:Evening Services
DTSTART;TZID=Europe/London:20270321T173000
DTEND;TZID=Europe/London:20270321T190000
DTSTAMP:20260421T050035Z
UID:9498242027-03-21 17:30:00+00:00achurchnearyou
CATEGORIES:
DESCRIPTION:Join us on Sunday evenings from 5:30pm to 7pm for our friendly
  and informal gathering where we come together to listen to God's word and
  talk over pizza afterwards.
GEO:0.014805;51.543187
LOCATION:St Matthew\, West Ham
URL:https://www.achurchnearyou.com/church/6326/service-and-events/events/9
 49824/
END:VEVENT
BEGIN:VEVENT
SUMMARY:Evening Services
DTSTART;TZID=Europe/London:20270328T173000
DTEND;TZID=Europe/London:20270328T190000
DTSTAMP:20260421T050035Z
UID:9498242027-03-28 17:30:00+01:00achurchnearyou
CATEGORIES:
DESCRIPTION:Join us on Sunday evenings from 5:30pm to 7pm for our friendly
  and informal gathering where we come together to listen to God's word and
  talk over pizza afterwards.
GEO:0.014805;51.543187
LOCATION:St Matthew\, West Ham
URL:https://www.achurchnearyou.com/church/6326/service-and-events/events/9
 49824/
END:VEVENT
BEGIN:VEVENT
SUMMARY:Evening Services
DTSTART;TZID=Europe/London:20270404T173000
DTEND;TZID=Europe/London:20270404T190000
DTSTAMP:20260421T050035Z
UID:9498242027-04-04 17:30:00+01:00achurchnearyou
CATEGORIES:
DESCRIPTION:Join us on Sunday evenings from 5:30pm to 7pm for our friendly
  and informal gathering where we come together to listen to God's word and
  talk over pizza afterwards.
GEO:0.014805;51.543187
LOCATION:St Matthew\, West Ham
URL:https://www.achurchnearyou.com/church/6326/service-and-events/events/9
 49824/
END:VEVENT
BEGIN:VEVENT
SUMMARY:Evening Services
DTSTART;TZID=Europe/London:20270411T173000
DTEND;TZID=Europe/London:20270411T190000
DTSTAMP:20260421T050035Z
UID:9498242027-04-11 17:30:00+01:00achurchnearyou
CATEGORIES:
DESCRIPTION:Join us on Sunday evenings from 5:30pm to 7pm for our friendly
  and informal gathering where we come together to listen to God's word and
  talk over pizza afterwards.
GEO:0.014805;51.543187
LOCATION:St Matthew\, West Ham
URL:https://www.achurchnearyou.com/church/6326/service-and-events/events/9
 49824/
END:VEVENT
BEGIN:VEVENT
SUMMARY:Evening Services
DTSTART;TZID=Europe/London:20270418T173000
DTEND;TZID=Europe/London:20270418T190000
DTSTAMP:20260421T050035Z
UID:9498242027-04-18 17:30:00+01:00achurchnearyou
CATEGORIES:
DESCRIPTION:Join us on Sunday evenings from 5:30pm to 7pm for our friendly
  and informal gathering where we come together to listen to God's word and
  talk over pizza afterwards.
GEO:0.014805;51.543187
LOCATION:St Matthew\, West Ham
URL:https://www.achurchnearyou.com/church/6326/service-and-events/events/9
 49824/
END:VEVENT
END:VCALENDAR
