BEGIN:VCALENDAR
VERSION:2.0
PRODID:-//achurchnearyou.com//eventfeed//EN
CALSCALE:GREGORIAN
METHOD:PUBLISH
X-WR-TIMEZONE:UTC
BEGIN:VEVENT
SUMMARY:Rogation Day
DTSTART:20250816T093000Z
DTEND:20250816T134500Z
DTSTAMP:20260424T161742Z
UID:12129002025-08-16 09:30:00+00:00achurchnearyou
CATEGORIES:
DESCRIPTION:Rogation Day is a traditional Christian observance that typica
 lly falls on a Sunday between Ascension Day and Pentecost. It has deep his
 torical roots\, dating back to the Middle Ages\, and is primarily focused 
 on praying for God’s blessings for the fruits of the earth\, the labours
  of those who produce our food and the overall well-being of the community
 . Many churches celebrate Rogation Day by holding outdoor services that of
 ten involve walking or visiting various locations around the church and lo
 cal area\, incorporating a pilgrimage aspect that encourages prayer and re
 flection. These walks may include the ancient practice of "beating the bou
 nds\," where parish boundaries are walked to foster a spirit of care and c
 onnection\, often referred to as a "parish pilgrimage." The celebrations e
 mphasise community involvement\, warmth\, and hospitality\, inviting every
 one to participate. And we are delighted to invite you to join us for a sp
 ecial Rogation Celebration with St Michael's East Wickham. This ancient tr
 adition is a time for prayer\, reflection\, and community connection.
GEO:0.112682;51.471918
LOCATION:East Wickham\, St Michael
URL:https://www.achurchnearyou.com/church/633/service-and-events/events/12
 12900/
END:VEVENT
END:VCALENDAR
