BEGIN:VCALENDAR
VERSION:2.0
PRODID:-//achurchnearyou.com//eventfeed//EN
CALSCALE:GREGORIAN
METHOD:PUBLISH
X-WR-TIMEZONE:UTC
BEGIN:VEVENT
SUMMARY:Reflective Lent Group
DTSTART;TZID=Europe/London:20260225T190000
DTEND;TZID=Europe/London:20260225T200000
DTSTAMP:20260423T120206Z
UID:12837192026-02-25 19:00:00+00:00achurchnearyou
CATEGORIES:
DESCRIPTION:This Lent you are warmly invited to slow down\, pause and refl
 ect.\nStop and Stare is a gentle\, prayerful course\, about finding oursel
 ves in God as we take time to notice\, reflect\, and be still in God’s p
 resence.
GEO:0.112682;51.471918
LOCATION:East Wickham\, St Michael
URL:https://www.achurchnearyou.com/church/633/service-and-events/events/12
 83719/
END:VEVENT
BEGIN:VEVENT
SUMMARY:Reflective Lent Group
DTSTART;TZID=Europe/London:20260304T190000
DTEND;TZID=Europe/London:20260304T200000
DTSTAMP:20260423T120206Z
UID:12837192026-03-04 19:00:00+00:00achurchnearyou
CATEGORIES:
DESCRIPTION:This Lent you are warmly invited to slow down\, pause and refl
 ect.\nStop and Stare is a gentle\, prayerful course\, about finding oursel
 ves in God as we take time to notice\, reflect\, and be still in God’s p
 resence.
GEO:0.112682;51.471918
LOCATION:East Wickham\, St Michael
URL:https://www.achurchnearyou.com/church/633/service-and-events/events/12
 83719/
END:VEVENT
BEGIN:VEVENT
SUMMARY:Reflective Lent Group
DTSTART;TZID=Europe/London:20260311T190000
DTEND;TZID=Europe/London:20260311T200000
DTSTAMP:20260423T120206Z
UID:12837192026-03-11 19:00:00+00:00achurchnearyou
CATEGORIES:
DESCRIPTION:This Lent you are warmly invited to slow down\, pause and refl
 ect.\nStop and Stare is a gentle\, prayerful course\, about finding oursel
 ves in God as we take time to notice\, reflect\, and be still in God’s p
 resence.
GEO:0.112682;51.471918
LOCATION:East Wickham\, St Michael
URL:https://www.achurchnearyou.com/church/633/service-and-events/events/12
 83719/
END:VEVENT
BEGIN:VEVENT
SUMMARY:Reflective Lent Group
DTSTART;TZID=Europe/London:20260318T190000
DTEND;TZID=Europe/London:20260318T200000
DTSTAMP:20260423T120206Z
UID:12837192026-03-18 19:00:00+00:00achurchnearyou
CATEGORIES:
DESCRIPTION:This Lent you are warmly invited to slow down\, pause and refl
 ect.\nStop and Stare is a gentle\, prayerful course\, about finding oursel
 ves in God as we take time to notice\, reflect\, and be still in God’s p
 resence.
GEO:0.112682;51.471918
LOCATION:East Wickham\, St Michael
URL:https://www.achurchnearyou.com/church/633/service-and-events/events/12
 83719/
END:VEVENT
BEGIN:VEVENT
SUMMARY:Reflective Lent Group
DTSTART;TZID=Europe/London:20260325T190000
DTEND;TZID=Europe/London:20260325T200000
DTSTAMP:20260423T120206Z
UID:12837192026-03-25 19:00:00+00:00achurchnearyou
CATEGORIES:
DESCRIPTION:This Lent you are warmly invited to slow down\, pause and refl
 ect.\nStop and Stare is a gentle\, prayerful course\, about finding oursel
 ves in God as we take time to notice\, reflect\, and be still in God’s p
 resence.
GEO:0.112682;51.471918
LOCATION:East Wickham\, St Michael
URL:https://www.achurchnearyou.com/church/633/service-and-events/events/12
 83719/
END:VEVENT
END:VCALENDAR
