BEGIN:VCALENDAR
VERSION:2.0
PRODID:-//achurchnearyou.com//eventfeed//EN
CALSCALE:GREGORIAN
METHOD:PUBLISH
X-WR-TIMEZONE:UTC
BEGIN:VEVENT
SUMMARY:Service of Holy Communion (Said)
DTSTART;TZID=Europe/London:20260405T080000
DTEND;TZID=Europe/London:20260405T090000
DTSTAMP:20260420T194212Z
UID:4251411775372400.0achurchnearyou
CATEGORIES:
DESCRIPTION:Currently\, whilst in interregnum some Sundays. Please check o
 ur website for up to date information.
GEO:0.110584;51.560187
LOCATION:Goodmayes: All Saints
URL:https://allsaintsgoodmayes.org.uk
END:VEVENT
BEGIN:VEVENT
SUMMARY:Principal  Family Service
DTSTART;TZID=Europe/London:20260405T103000
DTEND;TZID=Europe/London:20260405T120000
DTSTAMP:20260420T194212Z
UID:5996061775381400.0achurchnearyou
CATEGORIES:
DESCRIPTION:Our principal service.\nPlease check our website for up to dat
 e information about our services during our interregnum.
GEO:0.110584;51.560187
LOCATION:Goodmayes: All Saints
URL:https://allsaintsgoodmayes.org.uk
END:VEVENT
BEGIN:VEVENT
SUMMARY:Service of Holy Communion (Said)
DTSTART;TZID=Europe/London:20260412T080000
DTEND;TZID=Europe/London:20260412T090000
DTSTAMP:20260420T194212Z
UID:4251411775977200.0achurchnearyou
CATEGORIES:
DESCRIPTION:Currently\, whilst in interregnum some Sundays. Please check o
 ur website for up to date information.
GEO:0.110584;51.560187
LOCATION:Goodmayes: All Saints
URL:https://allsaintsgoodmayes.org.uk
END:VEVENT
BEGIN:VEVENT
SUMMARY:Service of Holy Communion
DTSTART;TZID=Europe/London:20260412T103000
DTEND;TZID=Europe/London:20260412T121500
DTSTAMP:20260420T194212Z
UID:5916361775986200.0achurchnearyou
CATEGORIES:
DESCRIPTION:Our main family service.  Please check our website for up-to-d
 ate information about forthcoming services.
GEO:0.110584;51.560187
LOCATION:Goodmayes: All Saints
URL:https://allsaintsgoodmayes.org.uk
END:VEVENT
BEGIN:VEVENT
SUMMARY:Service of Holy Communion (Said)
DTSTART;TZID=Europe/London:20260419T080000
DTEND;TZID=Europe/London:20260419T090000
DTSTAMP:20260420T194212Z
UID:4251411776582000.0achurchnearyou
CATEGORIES:
DESCRIPTION:Currently\, whilst in interregnum some Sundays. Please check o
 ur website for up to date information.
GEO:0.110584;51.560187
LOCATION:Goodmayes: All Saints
URL:https://allsaintsgoodmayes.org.uk
END:VEVENT
BEGIN:VEVENT
SUMMARY:Principal  Family Service
DTSTART;TZID=Europe/London:20260419T103000
DTEND;TZID=Europe/London:20260419T120000
DTSTAMP:20260420T194212Z
UID:5996061776591000.0achurchnearyou
CATEGORIES:
DESCRIPTION:Our principal service.\nPlease check our website for up to dat
 e information about our services during our interregnum.
GEO:0.110584;51.560187
LOCATION:Goodmayes: All Saints
URL:https://allsaintsgoodmayes.org.uk
END:VEVENT
BEGIN:VEVENT
SUMMARY:Service of Holy Communion (Said)
DTSTART;TZID=Europe/London:20260426T080000
DTEND;TZID=Europe/London:20260426T090000
DTSTAMP:20260420T194212Z
UID:4251411777186800.0achurchnearyou
CATEGORIES:
DESCRIPTION:Currently\, whilst in interregnum some Sundays. Please check o
 ur website for up to date information.
GEO:0.110584;51.560187
LOCATION:Goodmayes: All Saints
URL:https://allsaintsgoodmayes.org.uk
END:VEVENT
BEGIN:VEVENT
SUMMARY:Service of Holy Communion
DTSTART;TZID=Europe/London:20260426T103000
DTEND;TZID=Europe/London:20260426T121500
DTSTAMP:20260420T194212Z
UID:5916361777195800.0achurchnearyou
CATEGORIES:
DESCRIPTION:Our main family service.  Please check our website for up-to-d
 ate information about forthcoming services.
GEO:0.110584;51.560187
LOCATION:Goodmayes: All Saints
URL:https://allsaintsgoodmayes.org.uk
END:VEVENT
BEGIN:VEVENT
SUMMARY:Service of Holy Communion (Said)
DTSTART;TZID=Europe/London:20260503T080000
DTEND;TZID=Europe/London:20260503T090000
DTSTAMP:20260420T194212Z
UID:4251411777791600.0achurchnearyou
CATEGORIES:
DESCRIPTION:Currently\, whilst in interregnum some Sundays. Please check o
 ur website for up to date information.
GEO:0.110584;51.560187
LOCATION:Goodmayes: All Saints
URL:https://allsaintsgoodmayes.org.uk
END:VEVENT
BEGIN:VEVENT
SUMMARY:Principal  Family Service
DTSTART;TZID=Europe/London:20260503T103000
DTEND;TZID=Europe/London:20260503T120000
DTSTAMP:20260420T194212Z
UID:5996061777800600.0achurchnearyou
CATEGORIES:
DESCRIPTION:Our principal service.\nPlease check our website for up to dat
 e information about our services during our interregnum.
GEO:0.110584;51.560187
LOCATION:Goodmayes: All Saints
URL:https://allsaintsgoodmayes.org.uk
END:VEVENT
BEGIN:VEVENT
SUMMARY:Service of Holy Communion (Said)
DTSTART;TZID=Europe/London:20260510T080000
DTEND;TZID=Europe/London:20260510T090000
DTSTAMP:20260420T194212Z
UID:4251411778396400.0achurchnearyou
CATEGORIES:
DESCRIPTION:Currently\, whilst in interregnum some Sundays. Please check o
 ur website for up to date information.
GEO:0.110584;51.560187
LOCATION:Goodmayes: All Saints
URL:https://allsaintsgoodmayes.org.uk
END:VEVENT
BEGIN:VEVENT
SUMMARY:Service of Holy Communion
DTSTART;TZID=Europe/London:20260510T103000
DTEND;TZID=Europe/London:20260510T121500
DTSTAMP:20260420T194212Z
UID:5916361778405400.0achurchnearyou
CATEGORIES:
DESCRIPTION:Our main family service.  Please check our website for up-to-d
 ate information about forthcoming services.
GEO:0.110584;51.560187
LOCATION:Goodmayes: All Saints
URL:https://allsaintsgoodmayes.org.uk
END:VEVENT
BEGIN:VEVENT
SUMMARY:Service of Holy Communion (Said)
DTSTART;TZID=Europe/London:20260517T080000
DTEND;TZID=Europe/London:20260517T090000
DTSTAMP:20260420T194212Z
UID:4251411779001200.0achurchnearyou
CATEGORIES:
DESCRIPTION:Currently\, whilst in interregnum some Sundays. Please check o
 ur website for up to date information.
GEO:0.110584;51.560187
LOCATION:Goodmayes: All Saints
URL:https://allsaintsgoodmayes.org.uk
END:VEVENT
BEGIN:VEVENT
SUMMARY:Principal  Family Service
DTSTART;TZID=Europe/London:20260517T103000
DTEND;TZID=Europe/London:20260517T120000
DTSTAMP:20260420T194212Z
UID:5996061779010200.0achurchnearyou
CATEGORIES:
DESCRIPTION:Our principal service.\nPlease check our website for up to dat
 e information about our services during our interregnum.
GEO:0.110584;51.560187
LOCATION:Goodmayes: All Saints
URL:https://allsaintsgoodmayes.org.uk
END:VEVENT
BEGIN:VEVENT
SUMMARY:Service of Holy Communion (Said)
DTSTART;TZID=Europe/London:20260524T080000
DTEND;TZID=Europe/London:20260524T090000
DTSTAMP:20260420T194212Z
UID:4251411779606000.0achurchnearyou
CATEGORIES:
DESCRIPTION:Currently\, whilst in interregnum some Sundays. Please check o
 ur website for up to date information.
GEO:0.110584;51.560187
LOCATION:Goodmayes: All Saints
URL:https://allsaintsgoodmayes.org.uk
END:VEVENT
BEGIN:VEVENT
SUMMARY:Service of Holy Communion
DTSTART;TZID=Europe/London:20260524T103000
DTEND;TZID=Europe/London:20260524T121500
DTSTAMP:20260420T194212Z
UID:5916361779615000.0achurchnearyou
CATEGORIES:
DESCRIPTION:Our main family service.  Please check our website for up-to-d
 ate information about forthcoming services.
GEO:0.110584;51.560187
LOCATION:Goodmayes: All Saints
URL:https://allsaintsgoodmayes.org.uk
END:VEVENT
BEGIN:VEVENT
SUMMARY:Service of Holy Communion (Said)
DTSTART;TZID=Europe/London:20260531T080000
DTEND;TZID=Europe/London:20260531T090000
DTSTAMP:20260420T194212Z
UID:4251411780210800.0achurchnearyou
CATEGORIES:
DESCRIPTION:Currently\, whilst in interregnum some Sundays. Please check o
 ur website for up to date information.
GEO:0.110584;51.560187
LOCATION:Goodmayes: All Saints
URL:https://allsaintsgoodmayes.org.uk
END:VEVENT
BEGIN:VEVENT
SUMMARY:Principal  Family Service
DTSTART;TZID=Europe/London:20260531T103000
DTEND;TZID=Europe/London:20260531T120000
DTSTAMP:20260420T194212Z
UID:5996061780219800.0achurchnearyou
CATEGORIES:
DESCRIPTION:Our principal service.\nPlease check our website for up to dat
 e information about our services during our interregnum.
GEO:0.110584;51.560187
LOCATION:Goodmayes: All Saints
URL:https://allsaintsgoodmayes.org.uk
END:VEVENT
BEGIN:VEVENT
SUMMARY:Service of Holy Communion (Said)
DTSTART;TZID=Europe/London:20260607T080000
DTEND;TZID=Europe/London:20260607T090000
DTSTAMP:20260420T194212Z
UID:4251411780815600.0achurchnearyou
CATEGORIES:
DESCRIPTION:Currently\, whilst in interregnum some Sundays. Please check o
 ur website for up to date information.
GEO:0.110584;51.560187
LOCATION:Goodmayes: All Saints
URL:https://allsaintsgoodmayes.org.uk
END:VEVENT
BEGIN:VEVENT
SUMMARY:Principal  Family Service
DTSTART;TZID=Europe/London:20260607T103000
DTEND;TZID=Europe/London:20260607T120000
DTSTAMP:20260420T194212Z
UID:5996061780824600.0achurchnearyou
CATEGORIES:
DESCRIPTION:Our principal service.\nPlease check our website for up to dat
 e information about our services during our interregnum.
GEO:0.110584;51.560187
LOCATION:Goodmayes: All Saints
URL:https://allsaintsgoodmayes.org.uk
END:VEVENT
BEGIN:VEVENT
SUMMARY:Service of Holy Communion (Said)
DTSTART;TZID=Europe/London:20260614T080000
DTEND;TZID=Europe/London:20260614T090000
DTSTAMP:20260420T194212Z
UID:4251411781420400.0achurchnearyou
CATEGORIES:
DESCRIPTION:Currently\, whilst in interregnum some Sundays. Please check o
 ur website for up to date information.
GEO:0.110584;51.560187
LOCATION:Goodmayes: All Saints
URL:https://allsaintsgoodmayes.org.uk
END:VEVENT
BEGIN:VEVENT
SUMMARY:Service of Holy Communion
DTSTART;TZID=Europe/London:20260614T103000
DTEND;TZID=Europe/London:20260614T121500
DTSTAMP:20260420T194212Z
UID:5916361781429400.0achurchnearyou
CATEGORIES:
DESCRIPTION:Our main family service.  Please check our website for up-to-d
 ate information about forthcoming services.
GEO:0.110584;51.560187
LOCATION:Goodmayes: All Saints
URL:https://allsaintsgoodmayes.org.uk
END:VEVENT
BEGIN:VEVENT
SUMMARY:Service of Holy Communion (Said)
DTSTART;TZID=Europe/London:20260621T080000
DTEND;TZID=Europe/London:20260621T090000
DTSTAMP:20260420T194212Z
UID:4251411782025200.0achurchnearyou
CATEGORIES:
DESCRIPTION:Currently\, whilst in interregnum some Sundays. Please check o
 ur website for up to date information.
GEO:0.110584;51.560187
LOCATION:Goodmayes: All Saints
URL:https://allsaintsgoodmayes.org.uk
END:VEVENT
BEGIN:VEVENT
SUMMARY:Principal  Family Service
DTSTART;TZID=Europe/London:20260621T103000
DTEND;TZID=Europe/London:20260621T120000
DTSTAMP:20260420T194212Z
UID:5996061782034200.0achurchnearyou
CATEGORIES:
DESCRIPTION:Our principal service.\nPlease check our website for up to dat
 e information about our services during our interregnum.
GEO:0.110584;51.560187
LOCATION:Goodmayes: All Saints
URL:https://allsaintsgoodmayes.org.uk
END:VEVENT
BEGIN:VEVENT
SUMMARY:Service of Holy Communion (Said)
DTSTART;TZID=Europe/London:20260628T080000
DTEND;TZID=Europe/London:20260628T090000
DTSTAMP:20260420T194212Z
UID:4251411782630000.0achurchnearyou
CATEGORIES:
DESCRIPTION:Currently\, whilst in interregnum some Sundays. Please check o
 ur website for up to date information.
GEO:0.110584;51.560187
LOCATION:Goodmayes: All Saints
URL:https://allsaintsgoodmayes.org.uk
END:VEVENT
BEGIN:VEVENT
SUMMARY:Service of Holy Communion
DTSTART;TZID=Europe/London:20260628T103000
DTEND;TZID=Europe/London:20260628T121500
DTSTAMP:20260420T194212Z
UID:5916361782639000.0achurchnearyou
CATEGORIES:
DESCRIPTION:Our main family service.  Please check our website for up-to-d
 ate information about forthcoming services.
GEO:0.110584;51.560187
LOCATION:Goodmayes: All Saints
URL:https://allsaintsgoodmayes.org.uk
END:VEVENT
BEGIN:VEVENT
SUMMARY:Service of Holy Communion (Said)
DTSTART;TZID=Europe/London:20260705T080000
DTEND;TZID=Europe/London:20260705T090000
DTSTAMP:20260420T194212Z
UID:4251411783234800.0achurchnearyou
CATEGORIES:
DESCRIPTION:Currently\, whilst in interregnum some Sundays. Please check o
 ur website for up to date information.
GEO:0.110584;51.560187
LOCATION:Goodmayes: All Saints
URL:https://allsaintsgoodmayes.org.uk
END:VEVENT
BEGIN:VEVENT
SUMMARY:Principal  Family Service
DTSTART;TZID=Europe/London:20260705T103000
DTEND;TZID=Europe/London:20260705T120000
DTSTAMP:20260420T194212Z
UID:5996061783243800.0achurchnearyou
CATEGORIES:
DESCRIPTION:Our principal service.\nPlease check our website for up to dat
 e information about our services during our interregnum.
GEO:0.110584;51.560187
LOCATION:Goodmayes: All Saints
URL:https://allsaintsgoodmayes.org.uk
END:VEVENT
BEGIN:VEVENT
SUMMARY:Service of Holy Communion (Said)
DTSTART;TZID=Europe/London:20260712T080000
DTEND;TZID=Europe/London:20260712T090000
DTSTAMP:20260420T194212Z
UID:4251411783839600.0achurchnearyou
CATEGORIES:
DESCRIPTION:Currently\, whilst in interregnum some Sundays. Please check o
 ur website for up to date information.
GEO:0.110584;51.560187
LOCATION:Goodmayes: All Saints
URL:https://allsaintsgoodmayes.org.uk
END:VEVENT
BEGIN:VEVENT
SUMMARY:Service of Holy Communion
DTSTART;TZID=Europe/London:20260712T103000
DTEND;TZID=Europe/London:20260712T121500
DTSTAMP:20260420T194212Z
UID:5916361783848600.0achurchnearyou
CATEGORIES:
DESCRIPTION:Our main family service.  Please check our website for up-to-d
 ate information about forthcoming services.
GEO:0.110584;51.560187
LOCATION:Goodmayes: All Saints
URL:https://allsaintsgoodmayes.org.uk
END:VEVENT
BEGIN:VEVENT
SUMMARY:Service of Holy Communion (Said)
DTSTART;TZID=Europe/London:20260719T080000
DTEND;TZID=Europe/London:20260719T090000
DTSTAMP:20260420T194212Z
UID:4251411784444400.0achurchnearyou
CATEGORIES:
DESCRIPTION:Currently\, whilst in interregnum some Sundays. Please check o
 ur website for up to date information.
GEO:0.110584;51.560187
LOCATION:Goodmayes: All Saints
URL:https://allsaintsgoodmayes.org.uk
END:VEVENT
BEGIN:VEVENT
SUMMARY:Principal  Family Service
DTSTART;TZID=Europe/London:20260719T103000
DTEND;TZID=Europe/London:20260719T120000
DTSTAMP:20260420T194212Z
UID:5996061784453400.0achurchnearyou
CATEGORIES:
DESCRIPTION:Our principal service.\nPlease check our website for up to dat
 e information about our services during our interregnum.
GEO:0.110584;51.560187
LOCATION:Goodmayes: All Saints
URL:https://allsaintsgoodmayes.org.uk
END:VEVENT
BEGIN:VEVENT
SUMMARY:Service of Holy Communion (Said)
DTSTART;TZID=Europe/London:20260726T080000
DTEND;TZID=Europe/London:20260726T090000
DTSTAMP:20260420T194212Z
UID:4251411785049200.0achurchnearyou
CATEGORIES:
DESCRIPTION:Currently\, whilst in interregnum some Sundays. Please check o
 ur website for up to date information.
GEO:0.110584;51.560187
LOCATION:Goodmayes: All Saints
URL:https://allsaintsgoodmayes.org.uk
END:VEVENT
BEGIN:VEVENT
SUMMARY:Service of Holy Communion
DTSTART;TZID=Europe/London:20260726T103000
DTEND;TZID=Europe/London:20260726T121500
DTSTAMP:20260420T194212Z
UID:5916361785058200.0achurchnearyou
CATEGORIES:
DESCRIPTION:Our main family service.  Please check our website for up-to-d
 ate information about forthcoming services.
GEO:0.110584;51.560187
LOCATION:Goodmayes: All Saints
URL:https://allsaintsgoodmayes.org.uk
END:VEVENT
BEGIN:VEVENT
SUMMARY:Service of Holy Communion (Said)
DTSTART;TZID=Europe/London:20260802T080000
DTEND;TZID=Europe/London:20260802T090000
DTSTAMP:20260420T194212Z
UID:4251411785654000.0achurchnearyou
CATEGORIES:
DESCRIPTION:Currently\, whilst in interregnum some Sundays. Please check o
 ur website for up to date information.
GEO:0.110584;51.560187
LOCATION:Goodmayes: All Saints
URL:https://allsaintsgoodmayes.org.uk
END:VEVENT
BEGIN:VEVENT
SUMMARY:Principal  Family Service
DTSTART;TZID=Europe/London:20260802T103000
DTEND;TZID=Europe/London:20260802T120000
DTSTAMP:20260420T194212Z
UID:5996061785663000.0achurchnearyou
CATEGORIES:
DESCRIPTION:Our principal service.\nPlease check our website for up to dat
 e information about our services during our interregnum.
GEO:0.110584;51.560187
LOCATION:Goodmayes: All Saints
URL:https://allsaintsgoodmayes.org.uk
END:VEVENT
BEGIN:VEVENT
SUMMARY:Service of Holy Communion (Said)
DTSTART;TZID=Europe/London:20260809T080000
DTEND;TZID=Europe/London:20260809T090000
DTSTAMP:20260420T194212Z
UID:4251411786258800.0achurchnearyou
CATEGORIES:
DESCRIPTION:Currently\, whilst in interregnum some Sundays. Please check o
 ur website for up to date information.
GEO:0.110584;51.560187
LOCATION:Goodmayes: All Saints
URL:https://allsaintsgoodmayes.org.uk
END:VEVENT
BEGIN:VEVENT
SUMMARY:Service of Holy Communion
DTSTART;TZID=Europe/London:20260809T103000
DTEND;TZID=Europe/London:20260809T121500
DTSTAMP:20260420T194212Z
UID:5916361786267800.0achurchnearyou
CATEGORIES:
DESCRIPTION:Our main family service.  Please check our website for up-to-d
 ate information about forthcoming services.
GEO:0.110584;51.560187
LOCATION:Goodmayes: All Saints
URL:https://allsaintsgoodmayes.org.uk
END:VEVENT
BEGIN:VEVENT
SUMMARY:Service of Holy Communion (Said)
DTSTART;TZID=Europe/London:20260816T080000
DTEND;TZID=Europe/London:20260816T090000
DTSTAMP:20260420T194212Z
UID:4251411786863600.0achurchnearyou
CATEGORIES:
DESCRIPTION:Currently\, whilst in interregnum some Sundays. Please check o
 ur website for up to date information.
GEO:0.110584;51.560187
LOCATION:Goodmayes: All Saints
URL:https://allsaintsgoodmayes.org.uk
END:VEVENT
BEGIN:VEVENT
SUMMARY:Principal  Family Service
DTSTART;TZID=Europe/London:20260816T103000
DTEND;TZID=Europe/London:20260816T120000
DTSTAMP:20260420T194212Z
UID:5996061786872600.0achurchnearyou
CATEGORIES:
DESCRIPTION:Our principal service.\nPlease check our website for up to dat
 e information about our services during our interregnum.
GEO:0.110584;51.560187
LOCATION:Goodmayes: All Saints
URL:https://allsaintsgoodmayes.org.uk
END:VEVENT
BEGIN:VEVENT
SUMMARY:Service of Holy Communion (Said)
DTSTART;TZID=Europe/London:20260823T080000
DTEND;TZID=Europe/London:20260823T090000
DTSTAMP:20260420T194212Z
UID:4251411787468400.0achurchnearyou
CATEGORIES:
DESCRIPTION:Currently\, whilst in interregnum some Sundays. Please check o
 ur website for up to date information.
GEO:0.110584;51.560187
LOCATION:Goodmayes: All Saints
URL:https://allsaintsgoodmayes.org.uk
END:VEVENT
BEGIN:VEVENT
SUMMARY:Service of Holy Communion
DTSTART;TZID=Europe/London:20260823T103000
DTEND;TZID=Europe/London:20260823T121500
DTSTAMP:20260420T194212Z
UID:5916361787477400.0achurchnearyou
CATEGORIES:
DESCRIPTION:Our main family service.  Please check our website for up-to-d
 ate information about forthcoming services.
GEO:0.110584;51.560187
LOCATION:Goodmayes: All Saints
URL:https://allsaintsgoodmayes.org.uk
END:VEVENT
BEGIN:VEVENT
SUMMARY:Service of Holy Communion (Said)
DTSTART;TZID=Europe/London:20260830T080000
DTEND;TZID=Europe/London:20260830T090000
DTSTAMP:20260420T194212Z
UID:4251411788073200.0achurchnearyou
CATEGORIES:
DESCRIPTION:Currently\, whilst in interregnum some Sundays. Please check o
 ur website for up to date information.
GEO:0.110584;51.560187
LOCATION:Goodmayes: All Saints
URL:https://allsaintsgoodmayes.org.uk
END:VEVENT
BEGIN:VEVENT
SUMMARY:Principal  Family Service
DTSTART;TZID=Europe/London:20260830T103000
DTEND;TZID=Europe/London:20260830T120000
DTSTAMP:20260420T194212Z
UID:5996061788082200.0achurchnearyou
CATEGORIES:
DESCRIPTION:Our principal service.\nPlease check our website for up to dat
 e information about our services during our interregnum.
GEO:0.110584;51.560187
LOCATION:Goodmayes: All Saints
URL:https://allsaintsgoodmayes.org.uk
END:VEVENT
BEGIN:VEVENT
SUMMARY:Service of Holy Communion (Said)
DTSTART;TZID=Europe/London:20260906T080000
DTEND;TZID=Europe/London:20260906T090000
DTSTAMP:20260420T194212Z
UID:4251411788678000.0achurchnearyou
CATEGORIES:
DESCRIPTION:Currently\, whilst in interregnum some Sundays. Please check o
 ur website for up to date information.
GEO:0.110584;51.560187
LOCATION:Goodmayes: All Saints
URL:https://allsaintsgoodmayes.org.uk
END:VEVENT
BEGIN:VEVENT
SUMMARY:Principal  Family Service
DTSTART;TZID=Europe/London:20260906T103000
DTEND;TZID=Europe/London:20260906T120000
DTSTAMP:20260420T194212Z
UID:5996061788687000.0achurchnearyou
CATEGORIES:
DESCRIPTION:Our principal service.\nPlease check our website for up to dat
 e information about our services during our interregnum.
GEO:0.110584;51.560187
LOCATION:Goodmayes: All Saints
URL:https://allsaintsgoodmayes.org.uk
END:VEVENT
BEGIN:VEVENT
SUMMARY:Service of Holy Communion (Said)
DTSTART;TZID=Europe/London:20260913T080000
DTEND;TZID=Europe/London:20260913T090000
DTSTAMP:20260420T194212Z
UID:4251411789282800.0achurchnearyou
CATEGORIES:
DESCRIPTION:Currently\, whilst in interregnum some Sundays. Please check o
 ur website for up to date information.
GEO:0.110584;51.560187
LOCATION:Goodmayes: All Saints
URL:https://allsaintsgoodmayes.org.uk
END:VEVENT
BEGIN:VEVENT
SUMMARY:Service of Holy Communion
DTSTART;TZID=Europe/London:20260913T103000
DTEND;TZID=Europe/London:20260913T121500
DTSTAMP:20260420T194212Z
UID:5916361789291800.0achurchnearyou
CATEGORIES:
DESCRIPTION:Our main family service.  Please check our website for up-to-d
 ate information about forthcoming services.
GEO:0.110584;51.560187
LOCATION:Goodmayes: All Saints
URL:https://allsaintsgoodmayes.org.uk
END:VEVENT
BEGIN:VEVENT
SUMMARY:Service of Holy Communion (Said)
DTSTART;TZID=Europe/London:20260920T080000
DTEND;TZID=Europe/London:20260920T090000
DTSTAMP:20260420T194212Z
UID:4251411789887600.0achurchnearyou
CATEGORIES:
DESCRIPTION:Currently\, whilst in interregnum some Sundays. Please check o
 ur website for up to date information.
GEO:0.110584;51.560187
LOCATION:Goodmayes: All Saints
URL:https://allsaintsgoodmayes.org.uk
END:VEVENT
BEGIN:VEVENT
SUMMARY:Principal  Family Service
DTSTART;TZID=Europe/London:20260920T103000
DTEND;TZID=Europe/London:20260920T120000
DTSTAMP:20260420T194212Z
UID:5996061789896600.0achurchnearyou
CATEGORIES:
DESCRIPTION:Our principal service.\nPlease check our website for up to dat
 e information about our services during our interregnum.
GEO:0.110584;51.560187
LOCATION:Goodmayes: All Saints
URL:https://allsaintsgoodmayes.org.uk
END:VEVENT
BEGIN:VEVENT
SUMMARY:Service of Holy Communion (Said)
DTSTART;TZID=Europe/London:20260927T080000
DTEND;TZID=Europe/London:20260927T090000
DTSTAMP:20260420T194212Z
UID:4251411790492400.0achurchnearyou
CATEGORIES:
DESCRIPTION:Currently\, whilst in interregnum some Sundays. Please check o
 ur website for up to date information.
GEO:0.110584;51.560187
LOCATION:Goodmayes: All Saints
URL:https://allsaintsgoodmayes.org.uk
END:VEVENT
BEGIN:VEVENT
SUMMARY:Service of Holy Communion
DTSTART;TZID=Europe/London:20260927T103000
DTEND;TZID=Europe/London:20260927T121500
DTSTAMP:20260420T194212Z
UID:5916361790501400.0achurchnearyou
CATEGORIES:
DESCRIPTION:Our main family service.  Please check our website for up-to-d
 ate information about forthcoming services.
GEO:0.110584;51.560187
LOCATION:Goodmayes: All Saints
URL:https://allsaintsgoodmayes.org.uk
END:VEVENT
END:VCALENDAR
