BEGIN:VCALENDAR
VERSION:2.0
PRODID:-//achurchnearyou.com//eventfeed//EN
CALSCALE:GREGORIAN
METHOD:PUBLISH
X-WR-TIMEZONE:UTC
BEGIN:VEVENT
SUMMARY:Good Friday Solemn Liturgy
DTSTART:20250418T130000Z
DTEND:20250418T140000Z
DTSTAMP:20260419T190202Z
UID:11896242025-04-18 13:00:00+00:00achurchnearyou
CATEGORIES:
DESCRIPTION:Sung Eucharist.\n10-minute sermon.
GEO:0.110959;51.568274
LOCATION:St Paul's Church\, Goodmayes
URL:https://www.achurchnearyou.com/church/6338/service-and-events/events/1
 189624/
END:VEVENT
END:VCALENDAR
