BEGIN:VCALENDAR
VERSION:2.0
PRODID:-//achurchnearyou.com//eventfeed//EN
CALSCALE:GREGORIAN
METHOD:PUBLISH
X-WR-TIMEZONE:UTC
BEGIN:VEVENT
SUMMARY:Plough Service
DTSTART:20251204T103000Z
DTEND:20251204T113000Z
DTSTAMP:20260426T052634Z
UID:12669802025-12-04 10:30:00+00:00achurchnearyou
CATEGORIES:
DESCRIPTION:Plough Sunday\n\nPlough Sunday is a traditional English celebr
 ation of the beginning of the agricultural year. Plough Sunday celebration
 s often involves bringing a ploughshare into church\, along with prayers f
 or the blessing of the land. It is traditionally held in the season of Epi
 phany\, Accordingly\, work in the fields did not begin until the day after
  Plough Sunday: Plough Monday. Although the nature of farming has changed 
 over the centuries\, Plough Sunday is seen as a way of generally celebrati
 ng farming and the work of farmers. As long as the weather is fit\, we sha
 ll be spending some of the service outside!
GEO:0.745969;51.879804
LOCATION:Little Tey: St James the Less
URL:https://www.achurchnearyou.com/church/6345/service-and-events/events/1
 266980/
END:VEVENT
END:VCALENDAR
