BEGIN:VCALENDAR
VERSION:2.0
PRODID:-//achurchnearyou.com//eventfeed//EN
CALSCALE:GREGORIAN
METHOD:PUBLISH
X-WR-TIMEZONE:UTC
BEGIN:VEVENT
SUMMARY:Family Worship at the Orchards
DTSTART;TZID=Europe/London:20260405T103000
DTEND;TZID=Europe/London:20260405T120000
DTSTAMP:20260426T032528Z
UID:3924751775381400.0achurchnearyou
CATEGORIES:
DESCRIPTION:Family worship\nAlternate weeks junior church /all Stage worsh
 ip\nFull details of our Monthly Service pattern can be found by clicking o
 n the MORE INFO box below
GEO:0.493075;51.724676
LOCATION:Great Baddow: Meadgate Church
URL:https://www.meadgatechurch.org.uk/services/
END:VEVENT
BEGIN:VEVENT
SUMMARY:Family Worship at the Orchards
DTSTART;TZID=Europe/London:20260412T103000
DTEND;TZID=Europe/London:20260412T120000
DTSTAMP:20260426T032528Z
UID:3924751775986200.0achurchnearyou
CATEGORIES:
DESCRIPTION:Family worship\nAlternate weeks junior church /all Stage worsh
 ip\nFull details of our Monthly Service pattern can be found by clicking o
 n the MORE INFO box below
GEO:0.493075;51.724676
LOCATION:Great Baddow: Meadgate Church
URL:https://www.meadgatechurch.org.uk/services/
END:VEVENT
BEGIN:VEVENT
SUMMARY:Family Worship at the Orchards
DTSTART;TZID=Europe/London:20260419T103000
DTEND;TZID=Europe/London:20260419T120000
DTSTAMP:20260426T032528Z
UID:3924751776591000.0achurchnearyou
CATEGORIES:
DESCRIPTION:Family worship\nAlternate weeks junior church /all Stage worsh
 ip\nFull details of our Monthly Service pattern can be found by clicking o
 n the MORE INFO box below
GEO:0.493075;51.724676
LOCATION:Great Baddow: Meadgate Church
URL:https://www.meadgatechurch.org.uk/services/
END:VEVENT
BEGIN:VEVENT
SUMMARY:Family Worship at the Orchards
DTSTART;TZID=Europe/London:20260426T103000
DTEND;TZID=Europe/London:20260426T120000
DTSTAMP:20260426T032528Z
UID:3924751777195800.0achurchnearyou
CATEGORIES:
DESCRIPTION:Family worship\nAlternate weeks junior church /all Stage worsh
 ip\nFull details of our Monthly Service pattern can be found by clicking o
 n the MORE INFO box below
GEO:0.493075;51.724676
LOCATION:Great Baddow: Meadgate Church
URL:https://www.meadgatechurch.org.uk/services/
END:VEVENT
BEGIN:VEVENT
SUMMARY:Family Worship at the Orchards
DTSTART;TZID=Europe/London:20260503T103000
DTEND;TZID=Europe/London:20260503T120000
DTSTAMP:20260426T032528Z
UID:3924751777800600.0achurchnearyou
CATEGORIES:
DESCRIPTION:Family worship\nAlternate weeks junior church /all Stage worsh
 ip\nFull details of our Monthly Service pattern can be found by clicking o
 n the MORE INFO box below
GEO:0.493075;51.724676
LOCATION:Great Baddow: Meadgate Church
URL:https://www.meadgatechurch.org.uk/services/
END:VEVENT
BEGIN:VEVENT
SUMMARY:Family Worship at the Orchards
DTSTART;TZID=Europe/London:20260510T103000
DTEND;TZID=Europe/London:20260510T120000
DTSTAMP:20260426T032528Z
UID:3924751778405400.0achurchnearyou
CATEGORIES:
DESCRIPTION:Family worship\nAlternate weeks junior church /all Stage worsh
 ip\nFull details of our Monthly Service pattern can be found by clicking o
 n the MORE INFO box below
GEO:0.493075;51.724676
LOCATION:Great Baddow: Meadgate Church
URL:https://www.meadgatechurch.org.uk/services/
END:VEVENT
BEGIN:VEVENT
SUMMARY:Family Worship at the Orchards
DTSTART;TZID=Europe/London:20260517T103000
DTEND;TZID=Europe/London:20260517T120000
DTSTAMP:20260426T032528Z
UID:3924751779010200.0achurchnearyou
CATEGORIES:
DESCRIPTION:Family worship\nAlternate weeks junior church /all Stage worsh
 ip\nFull details of our Monthly Service pattern can be found by clicking o
 n the MORE INFO box below
GEO:0.493075;51.724676
LOCATION:Great Baddow: Meadgate Church
URL:https://www.meadgatechurch.org.uk/services/
END:VEVENT
BEGIN:VEVENT
SUMMARY:Family Worship at the Orchards
DTSTART;TZID=Europe/London:20260524T103000
DTEND;TZID=Europe/London:20260524T120000
DTSTAMP:20260426T032528Z
UID:3924751779615000.0achurchnearyou
CATEGORIES:
DESCRIPTION:Family worship\nAlternate weeks junior church /all Stage worsh
 ip\nFull details of our Monthly Service pattern can be found by clicking o
 n the MORE INFO box below
GEO:0.493075;51.724676
LOCATION:Great Baddow: Meadgate Church
URL:https://www.meadgatechurch.org.uk/services/
END:VEVENT
BEGIN:VEVENT
SUMMARY:Family Worship at the Orchards
DTSTART;TZID=Europe/London:20260531T103000
DTEND;TZID=Europe/London:20260531T120000
DTSTAMP:20260426T032528Z
UID:3924751780219800.0achurchnearyou
CATEGORIES:
DESCRIPTION:Family worship\nAlternate weeks junior church /all Stage worsh
 ip\nFull details of our Monthly Service pattern can be found by clicking o
 n the MORE INFO box below
GEO:0.493075;51.724676
LOCATION:Great Baddow: Meadgate Church
URL:https://www.meadgatechurch.org.uk/services/
END:VEVENT
BEGIN:VEVENT
SUMMARY:Family Worship at the Orchards
DTSTART;TZID=Europe/London:20260607T103000
DTEND;TZID=Europe/London:20260607T120000
DTSTAMP:20260426T032528Z
UID:3924751780824600.0achurchnearyou
CATEGORIES:
DESCRIPTION:Family worship\nAlternate weeks junior church /all Stage worsh
 ip\nFull details of our Monthly Service pattern can be found by clicking o
 n the MORE INFO box below
GEO:0.493075;51.724676
LOCATION:Great Baddow: Meadgate Church
URL:https://www.meadgatechurch.org.uk/services/
END:VEVENT
BEGIN:VEVENT
SUMMARY:Family Worship at the Orchards
DTSTART;TZID=Europe/London:20260614T103000
DTEND;TZID=Europe/London:20260614T120000
DTSTAMP:20260426T032528Z
UID:3924751781429400.0achurchnearyou
CATEGORIES:
DESCRIPTION:Family worship\nAlternate weeks junior church /all Stage worsh
 ip\nFull details of our Monthly Service pattern can be found by clicking o
 n the MORE INFO box below
GEO:0.493075;51.724676
LOCATION:Great Baddow: Meadgate Church
URL:https://www.meadgatechurch.org.uk/services/
END:VEVENT
BEGIN:VEVENT
SUMMARY:Family Worship at the Orchards
DTSTART;TZID=Europe/London:20260621T103000
DTEND;TZID=Europe/London:20260621T120000
DTSTAMP:20260426T032528Z
UID:3924751782034200.0achurchnearyou
CATEGORIES:
DESCRIPTION:Family worship\nAlternate weeks junior church /all Stage worsh
 ip\nFull details of our Monthly Service pattern can be found by clicking o
 n the MORE INFO box below
GEO:0.493075;51.724676
LOCATION:Great Baddow: Meadgate Church
URL:https://www.meadgatechurch.org.uk/services/
END:VEVENT
BEGIN:VEVENT
SUMMARY:Family Worship at the Orchards
DTSTART;TZID=Europe/London:20260628T103000
DTEND;TZID=Europe/London:20260628T120000
DTSTAMP:20260426T032528Z
UID:3924751782639000.0achurchnearyou
CATEGORIES:
DESCRIPTION:Family worship\nAlternate weeks junior church /all Stage worsh
 ip\nFull details of our Monthly Service pattern can be found by clicking o
 n the MORE INFO box below
GEO:0.493075;51.724676
LOCATION:Great Baddow: Meadgate Church
URL:https://www.meadgatechurch.org.uk/services/
END:VEVENT
BEGIN:VEVENT
SUMMARY:Family Worship at the Orchards
DTSTART;TZID=Europe/London:20260705T103000
DTEND;TZID=Europe/London:20260705T120000
DTSTAMP:20260426T032528Z
UID:3924751783243800.0achurchnearyou
CATEGORIES:
DESCRIPTION:Family worship\nAlternate weeks junior church /all Stage worsh
 ip\nFull details of our Monthly Service pattern can be found by clicking o
 n the MORE INFO box below
GEO:0.493075;51.724676
LOCATION:Great Baddow: Meadgate Church
URL:https://www.meadgatechurch.org.uk/services/
END:VEVENT
BEGIN:VEVENT
SUMMARY:Family Worship at the Orchards
DTSTART;TZID=Europe/London:20260712T103000
DTEND;TZID=Europe/London:20260712T120000
DTSTAMP:20260426T032528Z
UID:3924751783848600.0achurchnearyou
CATEGORIES:
DESCRIPTION:Family worship\nAlternate weeks junior church /all Stage worsh
 ip\nFull details of our Monthly Service pattern can be found by clicking o
 n the MORE INFO box below
GEO:0.493075;51.724676
LOCATION:Great Baddow: Meadgate Church
URL:https://www.meadgatechurch.org.uk/services/
END:VEVENT
BEGIN:VEVENT
SUMMARY:Family Worship at the Orchards
DTSTART;TZID=Europe/London:20260719T103000
DTEND;TZID=Europe/London:20260719T120000
DTSTAMP:20260426T032528Z
UID:3924751784453400.0achurchnearyou
CATEGORIES:
DESCRIPTION:Family worship\nAlternate weeks junior church /all Stage worsh
 ip\nFull details of our Monthly Service pattern can be found by clicking o
 n the MORE INFO box below
GEO:0.493075;51.724676
LOCATION:Great Baddow: Meadgate Church
URL:https://www.meadgatechurch.org.uk/services/
END:VEVENT
BEGIN:VEVENT
SUMMARY:Family Worship at the Orchards
DTSTART;TZID=Europe/London:20260726T103000
DTEND;TZID=Europe/London:20260726T120000
DTSTAMP:20260426T032528Z
UID:3924751785058200.0achurchnearyou
CATEGORIES:
DESCRIPTION:Family worship\nAlternate weeks junior church /all Stage worsh
 ip\nFull details of our Monthly Service pattern can be found by clicking o
 n the MORE INFO box below
GEO:0.493075;51.724676
LOCATION:Great Baddow: Meadgate Church
URL:https://www.meadgatechurch.org.uk/services/
END:VEVENT
BEGIN:VEVENT
SUMMARY:Family Worship at the Orchards
DTSTART;TZID=Europe/London:20260802T103000
DTEND;TZID=Europe/London:20260802T120000
DTSTAMP:20260426T032528Z
UID:3924751785663000.0achurchnearyou
CATEGORIES:
DESCRIPTION:Family worship\nAlternate weeks junior church /all Stage worsh
 ip\nFull details of our Monthly Service pattern can be found by clicking o
 n the MORE INFO box below
GEO:0.493075;51.724676
LOCATION:Great Baddow: Meadgate Church
URL:https://www.meadgatechurch.org.uk/services/
END:VEVENT
BEGIN:VEVENT
SUMMARY:Family Worship at the Orchards
DTSTART;TZID=Europe/London:20260809T103000
DTEND;TZID=Europe/London:20260809T120000
DTSTAMP:20260426T032528Z
UID:3924751786267800.0achurchnearyou
CATEGORIES:
DESCRIPTION:Family worship\nAlternate weeks junior church /all Stage worsh
 ip\nFull details of our Monthly Service pattern can be found by clicking o
 n the MORE INFO box below
GEO:0.493075;51.724676
LOCATION:Great Baddow: Meadgate Church
URL:https://www.meadgatechurch.org.uk/services/
END:VEVENT
BEGIN:VEVENT
SUMMARY:Family Worship at the Orchards
DTSTART;TZID=Europe/London:20260816T103000
DTEND;TZID=Europe/London:20260816T120000
DTSTAMP:20260426T032528Z
UID:3924751786872600.0achurchnearyou
CATEGORIES:
DESCRIPTION:Family worship\nAlternate weeks junior church /all Stage worsh
 ip\nFull details of our Monthly Service pattern can be found by clicking o
 n the MORE INFO box below
GEO:0.493075;51.724676
LOCATION:Great Baddow: Meadgate Church
URL:https://www.meadgatechurch.org.uk/services/
END:VEVENT
BEGIN:VEVENT
SUMMARY:Family Worship at the Orchards
DTSTART;TZID=Europe/London:20260823T103000
DTEND;TZID=Europe/London:20260823T120000
DTSTAMP:20260426T032528Z
UID:3924751787477400.0achurchnearyou
CATEGORIES:
DESCRIPTION:Family worship\nAlternate weeks junior church /all Stage worsh
 ip\nFull details of our Monthly Service pattern can be found by clicking o
 n the MORE INFO box below
GEO:0.493075;51.724676
LOCATION:Great Baddow: Meadgate Church
URL:https://www.meadgatechurch.org.uk/services/
END:VEVENT
BEGIN:VEVENT
SUMMARY:Family Worship at the Orchards
DTSTART;TZID=Europe/London:20260830T103000
DTEND;TZID=Europe/London:20260830T120000
DTSTAMP:20260426T032528Z
UID:3924751788082200.0achurchnearyou
CATEGORIES:
DESCRIPTION:Family worship\nAlternate weeks junior church /all Stage worsh
 ip\nFull details of our Monthly Service pattern can be found by clicking o
 n the MORE INFO box below
GEO:0.493075;51.724676
LOCATION:Great Baddow: Meadgate Church
URL:https://www.meadgatechurch.org.uk/services/
END:VEVENT
BEGIN:VEVENT
SUMMARY:Family Worship at the Orchards
DTSTART;TZID=Europe/London:20260906T103000
DTEND;TZID=Europe/London:20260906T120000
DTSTAMP:20260426T032528Z
UID:3924751788687000.0achurchnearyou
CATEGORIES:
DESCRIPTION:Family worship\nAlternate weeks junior church /all Stage worsh
 ip\nFull details of our Monthly Service pattern can be found by clicking o
 n the MORE INFO box below
GEO:0.493075;51.724676
LOCATION:Great Baddow: Meadgate Church
URL:https://www.meadgatechurch.org.uk/services/
END:VEVENT
BEGIN:VEVENT
SUMMARY:Family Worship at the Orchards
DTSTART;TZID=Europe/London:20260913T103000
DTEND;TZID=Europe/London:20260913T120000
DTSTAMP:20260426T032528Z
UID:3924751789291800.0achurchnearyou
CATEGORIES:
DESCRIPTION:Family worship\nAlternate weeks junior church /all Stage worsh
 ip\nFull details of our Monthly Service pattern can be found by clicking o
 n the MORE INFO box below
GEO:0.493075;51.724676
LOCATION:Great Baddow: Meadgate Church
URL:https://www.meadgatechurch.org.uk/services/
END:VEVENT
BEGIN:VEVENT
SUMMARY:Family Worship at the Orchards
DTSTART;TZID=Europe/London:20260920T103000
DTEND;TZID=Europe/London:20260920T120000
DTSTAMP:20260426T032528Z
UID:3924751789896600.0achurchnearyou
CATEGORIES:
DESCRIPTION:Family worship\nAlternate weeks junior church /all Stage worsh
 ip\nFull details of our Monthly Service pattern can be found by clicking o
 n the MORE INFO box below
GEO:0.493075;51.724676
LOCATION:Great Baddow: Meadgate Church
URL:https://www.meadgatechurch.org.uk/services/
END:VEVENT
BEGIN:VEVENT
SUMMARY:Family Worship at the Orchards
DTSTART;TZID=Europe/London:20260927T103000
DTEND;TZID=Europe/London:20260927T120000
DTSTAMP:20260426T032528Z
UID:3924751790501400.0achurchnearyou
CATEGORIES:
DESCRIPTION:Family worship\nAlternate weeks junior church /all Stage worsh
 ip\nFull details of our Monthly Service pattern can be found by clicking o
 n the MORE INFO box below
GEO:0.493075;51.724676
LOCATION:Great Baddow: Meadgate Church
URL:https://www.meadgatechurch.org.uk/services/
END:VEVENT
END:VCALENDAR
