BEGIN:VCALENDAR
VERSION:2.0
PRODID:-//achurchnearyou.com//eventfeed//EN
CALSCALE:GREGORIAN
METHOD:PUBLISH
X-WR-TIMEZONE:UTC
BEGIN:VEVENT
SUMMARY:Benefice Foot Washing Service
DTSTART:20260401T183000Z
DTEND:20260401T193000Z
DTSTAMP:20260421T071441Z
UID:10575692026-04-01 18:30:00+00:00achurchnearyou
CATEGORIES:
DESCRIPTION:A service to remember Christ washing the disciples' feet
LOCATION:Elmstead Parish Church
URL:https://www.achurchnearyou.com/church/6360/service-and-events/events/1
 057569/
END:VEVENT
END:VCALENDAR
