BEGIN:VCALENDAR
VERSION:2.0
PRODID:-//achurchnearyou.com//eventfeed//EN
CALSCALE:GREGORIAN
METHOD:PUBLISH
X-WR-TIMEZONE:UTC
BEGIN:VEVENT
SUMMARY:Easter Trail
DTSTART:20260404T130000Z
DTEND:20260404T143000Z
DTSTAMP:20260421T071344Z
UID:10575992026-04-04 13:00:00+00:00achurchnearyou
CATEGORIES:
DESCRIPTION:A family friendly trail with activities\, craft and refreshmen
 ts.
LOCATION:St Andrew's\, Alresford
URL:https://www.achurchnearyou.com/church/6360/service-and-events/events/1
 057599/
END:VEVENT
END:VCALENDAR
