BEGIN:VCALENDAR
VERSION:2.0
PRODID:-//achurchnearyou.com//eventfeed//EN
CALSCALE:GREGORIAN
METHOD:PUBLISH
X-WR-TIMEZONE:UTC
BEGIN:VEVENT
SUMMARY:United Benefice Communion
DTSTART;TZID=Europe/London:20260329T100000
DTEND;TZID=Europe/London:20260329T110000
DTSTAMP:20260421T071209Z
UID:12947492026-03-29 10:00:00+01:00achurchnearyou
CATEGORIES:
DESCRIPTION:Every Fifth Sunday we meet and worship together at one of our 
 churchesby rotation. Frequenty we will follow this by sharing a simple mea
 l together. It gives a chance to catch up with friends\, old and new\, acr
 oss the benefice. \nPlease check the calendar to find out where the next w
 ill be held.
GEO:1.043789;51.835596
LOCATION:Elmstead Parish Church
URL:https://www.achurchnearyou.com/church/6360/service-and-events/events/1
 294749/
END:VEVENT
END:VCALENDAR
