BEGIN:VCALENDAR
VERSION:2.0
PRODID:-//achurchnearyou.com//eventfeed//EN
CALSCALE:GREGORIAN
METHOD:PUBLISH
X-WR-TIMEZONE:UTC
BEGIN:VEVENT
SUMMARY:Easter Communion
DTSTART:20260405T083000Z
DTEND:20260405T093000Z
DTSTAMP:20260420T042816Z
UID:13218292026-04-05 08:30:00+00:00achurchnearyou
CATEGORIES:
DESCRIPTION:All welcome to our Easter Communion service.
GEO:0.312259;51.837868
LOCATION:Great Canfield: St Mary
URL:https://www.regc.org.uk/weekly-church-services
END:VEVENT
END:VCALENDAR
