BEGIN:VCALENDAR
VERSION:2.0
PRODID:-//achurchnearyou.com//eventfeed//EN
CALSCALE:GREGORIAN
METHOD:PUBLISH
X-WR-TIMEZONE:UTC
BEGIN:VEVENT
SUMMARY:Christingle Service
DTSTART:20251207T160000Z
DTEND:20251207T164500Z
DTSTAMP:20260420T191040Z
UID:12525412025-12-07 16:00:00+00:00achurchnearyou
CATEGORIES:
DESCRIPTION:A service for all ages with carols and the chance to make and 
 light a Christingle
GEO:1.156325;51.804746
LOCATION:Great Clacton: St John the Baptist
URL:http://www.gtclactonparish.co.uk
END:VEVENT
END:VCALENDAR
