BEGIN:VCALENDAR
VERSION:2.0
PRODID:-//achurchnearyou.com//eventfeed//EN
CALSCALE:GREGORIAN
METHOD:PUBLISH
X-WR-TIMEZONE:UTC
BEGIN:VEVENT
SUMMARY:Family Carol Service
DTSTART:20251214T103000Z
DTEND:20251214T120000Z
DTSTAMP:20260420T191049Z
UID:12525432025-12-14 10:30:00+00:00achurchnearyou
CATEGORIES:
DESCRIPTION:Family Carol service for all ages with Carols\, Crafts for the
  children and festive refreshments
LOCATION:Great Clacton: St Mark
URL:http://www.gtclactonparish.co.uk
END:VEVENT
END:VCALENDAR
