BEGIN:VCALENDAR
VERSION:2.0
PRODID:-//achurchnearyou.com//eventfeed//EN
CALSCALE:GREGORIAN
METHOD:PUBLISH
X-WR-TIMEZONE:UTC
BEGIN:VEVENT
SUMMARY:Childrens Candlelit Carols
DTSTART:20251224T160000Z
DTEND:20251224T170000Z
DTSTAMP:20260420T191039Z
UID:12525652025-12-24 16:00:00+00:00achurchnearyou
CATEGORIES:
DESCRIPTION:A Family Carol service especially for the young\, with carols 
 and the Christmas story.
GEO:1.156325;51.804746
LOCATION:Great Clacton: St John the Baptist
URL:http://www.gtclactonparish.co.uk
END:VEVENT
END:VCALENDAR
