BEGIN:VCALENDAR
VERSION:2.0
PRODID:-//achurchnearyou.com//eventfeed//EN
CALSCALE:GREGORIAN
METHOD:PUBLISH
X-WR-TIMEZONE:UTC
BEGIN:VEVENT
SUMMARY:PILGRIMAGE of GRACE
DTSTART:20250816T080000Z
DTEND:20250816T150000Z
DTSTAMP:20260424T144646Z
UID:12134792025-08-16 08:00:00+00:00achurchnearyou
CATEGORIES:
DESCRIPTION:A prayer walk across the Benfleet\, Thundersley\, Hadleigh gro
 up of churches.  \nDon't worry if you may struggle with the walk .  You ca
 n walk some of the way or all of the way - or drive to one / some/ all of 
 the venues.  At each church we will meet for prayer\, focussing upon the s
 pecific needs and opportunities of that part of our Church family.
LOCATION:starts at ST\, GEORGE'S church   (will be at St. James about 14:3
 0pm)
URL:https://www.achurchnearyou.com/church/6384/service-and-events/events/1
 213479/
END:VEVENT
END:VCALENDAR
