BEGIN:VCALENDAR
VERSION:2.0
PRODID:-//achurchnearyou.com//eventfeed//EN
CALSCALE:GREGORIAN
METHOD:PUBLISH
X-WR-TIMEZONE:UTC
BEGIN:VEVENT
SUMMARY:Blue Christmas
DTSTART:20251207T183000Z
DTEND:20251207T193000Z
DTSTAMP:20260424T100629Z
UID:12479272025-12-07 18:30:00+00:00achurchnearyou
CATEGORIES:
DESCRIPTION:This service in church  offers a quiet\, reflective space for 
 those who find the Christmas season difficult due to grief\, loss\, loneli
 ness\, or other struggles.  It acknowledges pain while still offering hope
  and comfort - a sacred space in which to grieve but also find hope.
GEO:0.609518;51.55308
LOCATION:Hadleigh: St James the Less
URL:https://www.achurchnearyou.com/church/6384/service-and-events/events/1
 247927/
END:VEVENT
END:VCALENDAR
