BEGIN:VCALENDAR
VERSION:2.0
PRODID:-//achurchnearyou.com//eventfeed//EN
CALSCALE:GREGORIAN
METHOD:PUBLISH
X-WR-TIMEZONE:UTC
BEGIN:VEVENT
SUMMARY:Good Friday devotion
DTSTART:20260403T110000Z
DTEND:20260403T140000Z
DTSTAMP:20260424T042257Z
UID:5003492026-04-03 11:00:00+00:00achurchnearyou
CATEGORIES:
DESCRIPTION:Join us this Good Friday for a time of reflection at the foot 
 of the Cross — you’re welcome to come at any time between 12 noon and 
 3pm on Friday 3rd April.\n\nThe devotion will include silence\, Bible read
 ings\, hymns\, and guided reflections\, arranged in six 25-minute blocks. 
 You can stay for a full hour\, or simply come and go as you please during 
 the afternoon.
GEO:0.609518;51.55308
LOCATION:Hadleigh: St James the Less
URL:https://www.achurchnearyou.com/church/6384/service-and-events/events/5
 00349/
END:VEVENT
END:VCALENDAR
