BEGIN:VCALENDAR
VERSION:2.0
PRODID:-//achurchnearyou.com//eventfeed//EN
CALSCALE:GREGORIAN
METHOD:PUBLISH
X-WR-TIMEZONE:UTC
BEGIN:VEVENT
SUMMARY:Lent Meetings [evening]
DTSTART;TZID=Europe/London:20260226T193000
DTEND;TZID=Europe/London:20260226T203000
DTSTAMP:20260424T025209Z
UID:9097362026-02-26 19:30:00+00:00achurchnearyou
CATEGORIES:
DESCRIPTION:An inter-Church weekly meeting\, every Thursday and Tuesday in
  Lent from February 26th\, for a time of Bible study and prayer.  The meet
 ings are held at the Baptist church on the corner of Beresford Gardens and
  Falbro Crescent (SS7 2SE) and refreshments are available before the meeti
 ngs\, which start at 7:30pm on Thursdays and repeated at 1:30pm the follow
 ing Tuesday.   This year we shall be studying the book of Lamentations  Al
 l are welcome.
LOCATION:Baptist church
URL:https://www.achurchnearyou.com/church/6384/service-and-events/events/9
 09736/
END:VEVENT
BEGIN:VEVENT
SUMMARY:Lent Meetings [evening]
DTSTART;TZID=Europe/London:20260305T193000
DTEND;TZID=Europe/London:20260305T203000
DTSTAMP:20260424T025209Z
UID:9097362026-03-05 19:30:00+00:00achurchnearyou
CATEGORIES:
DESCRIPTION:An inter-Church weekly meeting\, every Thursday and Tuesday in
  Lent from February 26th\, for a time of Bible study and prayer.  The meet
 ings are held at the Baptist church on the corner of Beresford Gardens and
  Falbro Crescent (SS7 2SE) and refreshments are available before the meeti
 ngs\, which start at 7:30pm on Thursdays and repeated at 1:30pm the follow
 ing Tuesday.   This year we shall be studying the book of Lamentations  Al
 l are welcome.
LOCATION:Baptist church
URL:https://www.achurchnearyou.com/church/6384/service-and-events/events/9
 09736/
END:VEVENT
BEGIN:VEVENT
SUMMARY:Lent Meetings [evening]
DTSTART;TZID=Europe/London:20260312T193000
DTEND;TZID=Europe/London:20260312T203000
DTSTAMP:20260424T025209Z
UID:9097362026-03-12 19:30:00+00:00achurchnearyou
CATEGORIES:
DESCRIPTION:An inter-Church weekly meeting\, every Thursday and Tuesday in
  Lent from February 26th\, for a time of Bible study and prayer.  The meet
 ings are held at the Baptist church on the corner of Beresford Gardens and
  Falbro Crescent (SS7 2SE) and refreshments are available before the meeti
 ngs\, which start at 7:30pm on Thursdays and repeated at 1:30pm the follow
 ing Tuesday.   This year we shall be studying the book of Lamentations  Al
 l are welcome.
LOCATION:Baptist church
URL:https://www.achurchnearyou.com/church/6384/service-and-events/events/9
 09736/
END:VEVENT
BEGIN:VEVENT
SUMMARY:Lent Meetings [evening]
DTSTART;TZID=Europe/London:20260319T193000
DTEND;TZID=Europe/London:20260319T203000
DTSTAMP:20260424T025209Z
UID:9097362026-03-19 19:30:00+00:00achurchnearyou
CATEGORIES:
DESCRIPTION:An inter-Church weekly meeting\, every Thursday and Tuesday in
  Lent from February 26th\, for a time of Bible study and prayer.  The meet
 ings are held at the Baptist church on the corner of Beresford Gardens and
  Falbro Crescent (SS7 2SE) and refreshments are available before the meeti
 ngs\, which start at 7:30pm on Thursdays and repeated at 1:30pm the follow
 ing Tuesday.   This year we shall be studying the book of Lamentations  Al
 l are welcome.
LOCATION:Baptist church
URL:https://www.achurchnearyou.com/church/6384/service-and-events/events/9
 09736/
END:VEVENT
BEGIN:VEVENT
SUMMARY:Lent Meetings [evening]
DTSTART;TZID=Europe/London:20260326T193000
DTEND;TZID=Europe/London:20260326T203000
DTSTAMP:20260424T025209Z
UID:9097362026-03-26 19:30:00+00:00achurchnearyou
CATEGORIES:
DESCRIPTION:An inter-Church weekly meeting\, every Thursday and Tuesday in
  Lent from February 26th\, for a time of Bible study and prayer.  The meet
 ings are held at the Baptist church on the corner of Beresford Gardens and
  Falbro Crescent (SS7 2SE) and refreshments are available before the meeti
 ngs\, which start at 7:30pm on Thursdays and repeated at 1:30pm the follow
 ing Tuesday.   This year we shall be studying the book of Lamentations  Al
 l are welcome.
LOCATION:Baptist church
URL:https://www.achurchnearyou.com/church/6384/service-and-events/events/9
 09736/
END:VEVENT
END:VCALENDAR
