BEGIN:VCALENDAR
VERSION:2.0
PRODID:-//achurchnearyou.com//eventfeed//EN
CALSCALE:GREGORIAN
METHOD:PUBLISH
X-WR-TIMEZONE:UTC
BEGIN:VEVENT
SUMMARY:Mothering Sunday service
DTSTART:20260315T110000Z
DTEND:20260315T120000Z
DTSTAMP:20260423T235615Z
UID:9169282026-03-15 11:00:00+00:00achurchnearyou
CATEGORIES:
DESCRIPTION:A service when we give thanks for all mothers. Refreshments se
 rved both before [10:30am] and after the service.
GEO:0.609518;51.55308
LOCATION:Hadleigh: St James the Less
URL:https://www.achurchnearyou.com/church/6384/service-and-events/events/9
 16928/
END:VEVENT
END:VCALENDAR
