BEGIN:VCALENDAR
VERSION:2.0
PRODID:-//achurchnearyou.com//eventfeed//EN
CALSCALE:GREGORIAN
METHOD:PUBLISH
X-WR-TIMEZONE:UTC
BEGIN:VEVENT
SUMMARY:Healing Service
DTSTART;TZID=Europe/London:20230420T183000
DTEND;TZID=Europe/London:20230420T193000
DTSTAMP:20260426T013824Z
UID:9246832023-04-20 18:30:00+01:00achurchnearyou
CATEGORIES:
DESCRIPTION:A service with a particular emphasis on healing - prayerful\, 
 meditative\, reflective.
GEO:-0.048308;51.438108
LOCATION:Christ Church Chapel
URL:https://www.achurchnearyou.com/church/640/service-and-events/events/92
 4683/
END:VEVENT
BEGIN:VEVENT
SUMMARY:Healing Service
DTSTART;TZID=Europe/London:20230518T183000
DTEND;TZID=Europe/London:20230518T193000
DTSTAMP:20260426T013824Z
UID:9246832023-05-18 18:30:00+01:00achurchnearyou
CATEGORIES:
DESCRIPTION:A service with a particular emphasis on healing - prayerful\, 
 meditative\, reflective.
GEO:-0.048308;51.438108
LOCATION:Christ Church Chapel
URL:https://www.achurchnearyou.com/church/640/service-and-events/events/92
 4683/
END:VEVENT
BEGIN:VEVENT
SUMMARY:Healing Service
DTSTART;TZID=Europe/London:20230615T183000
DTEND;TZID=Europe/London:20230615T193000
DTSTAMP:20260426T013824Z
UID:9246832023-06-15 18:30:00+01:00achurchnearyou
CATEGORIES:
DESCRIPTION:A service with a particular emphasis on healing - prayerful\, 
 meditative\, reflective.
GEO:-0.048308;51.438108
LOCATION:Christ Church Chapel
URL:https://www.achurchnearyou.com/church/640/service-and-events/events/92
 4683/
END:VEVENT
BEGIN:VEVENT
SUMMARY:Healing Service
DTSTART;TZID=Europe/London:20230720T183000
DTEND;TZID=Europe/London:20230720T193000
DTSTAMP:20260426T013824Z
UID:9246832023-07-20 18:30:00+01:00achurchnearyou
CATEGORIES:
DESCRIPTION:A service with a particular emphasis on healing - prayerful\, 
 meditative\, reflective.
GEO:-0.048308;51.438108
LOCATION:Christ Church Chapel
URL:https://www.achurchnearyou.com/church/640/service-and-events/events/92
 4683/
END:VEVENT
BEGIN:VEVENT
SUMMARY:Healing Service
DTSTART;TZID=Europe/London:20230817T183000
DTEND;TZID=Europe/London:20230817T193000
DTSTAMP:20260426T013824Z
UID:9246832023-08-17 18:30:00+01:00achurchnearyou
CATEGORIES:
DESCRIPTION:A service with a particular emphasis on healing - prayerful\, 
 meditative\, reflective.
GEO:-0.048308;51.438108
LOCATION:Christ Church Chapel
URL:https://www.achurchnearyou.com/church/640/service-and-events/events/92
 4683/
END:VEVENT
BEGIN:VEVENT
SUMMARY:Healing Service
DTSTART;TZID=Europe/London:20230921T183000
DTEND;TZID=Europe/London:20230921T193000
DTSTAMP:20260426T013824Z
UID:9246832023-09-21 18:30:00+01:00achurchnearyou
CATEGORIES:
DESCRIPTION:A service with a particular emphasis on healing - prayerful\, 
 meditative\, reflective.
GEO:-0.048308;51.438108
LOCATION:Christ Church Chapel
URL:https://www.achurchnearyou.com/church/640/service-and-events/events/92
 4683/
END:VEVENT
BEGIN:VEVENT
SUMMARY:Healing Service
DTSTART;TZID=Europe/London:20231019T183000
DTEND;TZID=Europe/London:20231019T193000
DTSTAMP:20260426T013824Z
UID:9246832023-10-19 18:30:00+01:00achurchnearyou
CATEGORIES:
DESCRIPTION:A service with a particular emphasis on healing - prayerful\, 
 meditative\, reflective.
GEO:-0.048308;51.438108
LOCATION:Christ Church Chapel
URL:https://www.achurchnearyou.com/church/640/service-and-events/events/92
 4683/
END:VEVENT
BEGIN:VEVENT
SUMMARY:Healing Service
DTSTART;TZID=Europe/London:20231116T183000
DTEND;TZID=Europe/London:20231116T193000
DTSTAMP:20260426T013824Z
UID:9246832023-11-16 18:30:00+00:00achurchnearyou
CATEGORIES:
DESCRIPTION:A service with a particular emphasis on healing - prayerful\, 
 meditative\, reflective.
GEO:-0.048308;51.438108
LOCATION:Christ Church Chapel
URL:https://www.achurchnearyou.com/church/640/service-and-events/events/92
 4683/
END:VEVENT
BEGIN:VEVENT
SUMMARY:Healing Service
DTSTART;TZID=Europe/London:20231221T183000
DTEND;TZID=Europe/London:20231221T193000
DTSTAMP:20260426T013824Z
UID:9246832023-12-21 18:30:00+00:00achurchnearyou
CATEGORIES:
DESCRIPTION:A service with a particular emphasis on healing - prayerful\, 
 meditative\, reflective.
GEO:-0.048308;51.438108
LOCATION:Christ Church Chapel
URL:https://www.achurchnearyou.com/church/640/service-and-events/events/92
 4683/
END:VEVENT
BEGIN:VEVENT
SUMMARY:Healing Service
DTSTART;TZID=Europe/London:20240118T183000
DTEND;TZID=Europe/London:20240118T193000
DTSTAMP:20260426T013824Z
UID:9246832024-01-18 18:30:00+00:00achurchnearyou
CATEGORIES:
DESCRIPTION:A service with a particular emphasis on healing - prayerful\, 
 meditative\, reflective.
GEO:-0.048308;51.438108
LOCATION:Christ Church Chapel
URL:https://www.achurchnearyou.com/church/640/service-and-events/events/92
 4683/
END:VEVENT
BEGIN:VEVENT
SUMMARY:Healing Service
DTSTART;TZID=Europe/London:20240215T183000
DTEND;TZID=Europe/London:20240215T193000
DTSTAMP:20260426T013824Z
UID:9246832024-02-15 18:30:00+00:00achurchnearyou
CATEGORIES:
DESCRIPTION:A service with a particular emphasis on healing - prayerful\, 
 meditative\, reflective.
GEO:-0.048308;51.438108
LOCATION:Christ Church Chapel
URL:https://www.achurchnearyou.com/church/640/service-and-events/events/92
 4683/
END:VEVENT
BEGIN:VEVENT
SUMMARY:Healing Service
DTSTART;TZID=Europe/London:20240321T183000
DTEND;TZID=Europe/London:20240321T193000
DTSTAMP:20260426T013824Z
UID:9246832024-03-21 18:30:00+00:00achurchnearyou
CATEGORIES:
DESCRIPTION:A service with a particular emphasis on healing - prayerful\, 
 meditative\, reflective.
GEO:-0.048308;51.438108
LOCATION:Christ Church Chapel
URL:https://www.achurchnearyou.com/church/640/service-and-events/events/92
 4683/
END:VEVENT
BEGIN:VEVENT
SUMMARY:Healing Service
DTSTART;TZID=Europe/London:20240418T183000
DTEND;TZID=Europe/London:20240418T193000
DTSTAMP:20260426T013824Z
UID:9246832024-04-18 18:30:00+01:00achurchnearyou
CATEGORIES:
DESCRIPTION:A service with a particular emphasis on healing - prayerful\, 
 meditative\, reflective.
GEO:-0.048308;51.438108
LOCATION:Christ Church Chapel
URL:https://www.achurchnearyou.com/church/640/service-and-events/events/92
 4683/
END:VEVENT
BEGIN:VEVENT
SUMMARY:Healing Service
DTSTART;TZID=Europe/London:20240516T183000
DTEND;TZID=Europe/London:20240516T193000
DTSTAMP:20260426T013824Z
UID:9246832024-05-16 18:30:00+01:00achurchnearyou
CATEGORIES:
DESCRIPTION:A service with a particular emphasis on healing - prayerful\, 
 meditative\, reflective.
GEO:-0.048308;51.438108
LOCATION:Christ Church Chapel
URL:https://www.achurchnearyou.com/church/640/service-and-events/events/92
 4683/
END:VEVENT
BEGIN:VEVENT
SUMMARY:Healing Service
DTSTART;TZID=Europe/London:20240620T183000
DTEND;TZID=Europe/London:20240620T193000
DTSTAMP:20260426T013824Z
UID:9246832024-06-20 18:30:00+01:00achurchnearyou
CATEGORIES:
DESCRIPTION:A service with a particular emphasis on healing - prayerful\, 
 meditative\, reflective.
GEO:-0.048308;51.438108
LOCATION:Christ Church Chapel
URL:https://www.achurchnearyou.com/church/640/service-and-events/events/92
 4683/
END:VEVENT
BEGIN:VEVENT
SUMMARY:Healing Service
DTSTART;TZID=Europe/London:20240718T183000
DTEND;TZID=Europe/London:20240718T193000
DTSTAMP:20260426T013824Z
UID:9246832024-07-18 18:30:00+01:00achurchnearyou
CATEGORIES:
DESCRIPTION:A service with a particular emphasis on healing - prayerful\, 
 meditative\, reflective.
GEO:-0.048308;51.438108
LOCATION:Christ Church Chapel
URL:https://www.achurchnearyou.com/church/640/service-and-events/events/92
 4683/
END:VEVENT
BEGIN:VEVENT
SUMMARY:Healing Service
DTSTART;TZID=Europe/London:20240815T183000
DTEND;TZID=Europe/London:20240815T193000
DTSTAMP:20260426T013824Z
UID:9246832024-08-15 18:30:00+01:00achurchnearyou
CATEGORIES:
DESCRIPTION:A service with a particular emphasis on healing - prayerful\, 
 meditative\, reflective.
GEO:-0.048308;51.438108
LOCATION:Christ Church Chapel
URL:https://www.achurchnearyou.com/church/640/service-and-events/events/92
 4683/
END:VEVENT
BEGIN:VEVENT
SUMMARY:Healing Service
DTSTART;TZID=Europe/London:20240919T183000
DTEND;TZID=Europe/London:20240919T193000
DTSTAMP:20260426T013824Z
UID:9246832024-09-19 18:30:00+01:00achurchnearyou
CATEGORIES:
DESCRIPTION:A service with a particular emphasis on healing - prayerful\, 
 meditative\, reflective.
GEO:-0.048308;51.438108
LOCATION:Christ Church Chapel
URL:https://www.achurchnearyou.com/church/640/service-and-events/events/92
 4683/
END:VEVENT
BEGIN:VEVENT
SUMMARY:Healing Service
DTSTART;TZID=Europe/London:20241017T183000
DTEND;TZID=Europe/London:20241017T193000
DTSTAMP:20260426T013824Z
UID:9246832024-10-17 18:30:00+01:00achurchnearyou
CATEGORIES:
DESCRIPTION:A service with a particular emphasis on healing - prayerful\, 
 meditative\, reflective.
GEO:-0.048308;51.438108
LOCATION:Christ Church Chapel
URL:https://www.achurchnearyou.com/church/640/service-and-events/events/92
 4683/
END:VEVENT
BEGIN:VEVENT
SUMMARY:Healing Service
DTSTART;TZID=Europe/London:20241121T183000
DTEND;TZID=Europe/London:20241121T193000
DTSTAMP:20260426T013824Z
UID:9246832024-11-21 18:30:00+00:00achurchnearyou
CATEGORIES:
DESCRIPTION:A service with a particular emphasis on healing - prayerful\, 
 meditative\, reflective.
GEO:-0.048308;51.438108
LOCATION:Christ Church Chapel
URL:https://www.achurchnearyou.com/church/640/service-and-events/events/92
 4683/
END:VEVENT
BEGIN:VEVENT
SUMMARY:Healing Service
DTSTART;TZID=Europe/London:20241219T183000
DTEND;TZID=Europe/London:20241219T193000
DTSTAMP:20260426T013824Z
UID:9246832024-12-19 18:30:00+00:00achurchnearyou
CATEGORIES:
DESCRIPTION:A service with a particular emphasis on healing - prayerful\, 
 meditative\, reflective.
GEO:-0.048308;51.438108
LOCATION:Christ Church Chapel
URL:https://www.achurchnearyou.com/church/640/service-and-events/events/92
 4683/
END:VEVENT
BEGIN:VEVENT
SUMMARY:Healing Service
DTSTART;TZID=Europe/London:20250116T183000
DTEND;TZID=Europe/London:20250116T193000
DTSTAMP:20260426T013824Z
UID:9246832025-01-16 18:30:00+00:00achurchnearyou
CATEGORIES:
DESCRIPTION:A service with a particular emphasis on healing - prayerful\, 
 meditative\, reflective.
GEO:-0.048308;51.438108
LOCATION:Christ Church Chapel
URL:https://www.achurchnearyou.com/church/640/service-and-events/events/92
 4683/
END:VEVENT
BEGIN:VEVENT
SUMMARY:Healing Service
DTSTART;TZID=Europe/London:20250220T183000
DTEND;TZID=Europe/London:20250220T193000
DTSTAMP:20260426T013824Z
UID:9246832025-02-20 18:30:00+00:00achurchnearyou
CATEGORIES:
DESCRIPTION:A service with a particular emphasis on healing - prayerful\, 
 meditative\, reflective.
GEO:-0.048308;51.438108
LOCATION:Christ Church Chapel
URL:https://www.achurchnearyou.com/church/640/service-and-events/events/92
 4683/
END:VEVENT
BEGIN:VEVENT
SUMMARY:Healing Service
DTSTART;TZID=Europe/London:20250320T183000
DTEND;TZID=Europe/London:20250320T193000
DTSTAMP:20260426T013824Z
UID:9246832025-03-20 18:30:00+00:00achurchnearyou
CATEGORIES:
DESCRIPTION:A service with a particular emphasis on healing - prayerful\, 
 meditative\, reflective.
GEO:-0.048308;51.438108
LOCATION:Christ Church Chapel
URL:https://www.achurchnearyou.com/church/640/service-and-events/events/92
 4683/
END:VEVENT
BEGIN:VEVENT
SUMMARY:Healing Service
DTSTART;TZID=Europe/London:20250417T183000
DTEND;TZID=Europe/London:20250417T193000
DTSTAMP:20260426T013824Z
UID:9246832025-04-17 18:30:00+01:00achurchnearyou
CATEGORIES:
DESCRIPTION:A service with a particular emphasis on healing - prayerful\, 
 meditative\, reflective.
GEO:-0.048308;51.438108
LOCATION:Christ Church Chapel
URL:https://www.achurchnearyou.com/church/640/service-and-events/events/92
 4683/
END:VEVENT
BEGIN:VEVENT
SUMMARY:Healing Service
DTSTART;TZID=Europe/London:20250515T183000
DTEND;TZID=Europe/London:20250515T193000
DTSTAMP:20260426T013824Z
UID:9246832025-05-15 18:30:00+01:00achurchnearyou
CATEGORIES:
DESCRIPTION:A service with a particular emphasis on healing - prayerful\, 
 meditative\, reflective.
GEO:-0.048308;51.438108
LOCATION:Christ Church Chapel
URL:https://www.achurchnearyou.com/church/640/service-and-events/events/92
 4683/
END:VEVENT
BEGIN:VEVENT
SUMMARY:Healing Service
DTSTART;TZID=Europe/London:20250619T183000
DTEND;TZID=Europe/London:20250619T193000
DTSTAMP:20260426T013824Z
UID:9246832025-06-19 18:30:00+01:00achurchnearyou
CATEGORIES:
DESCRIPTION:A service with a particular emphasis on healing - prayerful\, 
 meditative\, reflective.
GEO:-0.048308;51.438108
LOCATION:Christ Church Chapel
URL:https://www.achurchnearyou.com/church/640/service-and-events/events/92
 4683/
END:VEVENT
BEGIN:VEVENT
SUMMARY:Healing Service
DTSTART;TZID=Europe/London:20250717T183000
DTEND;TZID=Europe/London:20250717T193000
DTSTAMP:20260426T013824Z
UID:9246832025-07-17 18:30:00+01:00achurchnearyou
CATEGORIES:
DESCRIPTION:A service with a particular emphasis on healing - prayerful\, 
 meditative\, reflective.
GEO:-0.048308;51.438108
LOCATION:Christ Church Chapel
URL:https://www.achurchnearyou.com/church/640/service-and-events/events/92
 4683/
END:VEVENT
BEGIN:VEVENT
SUMMARY:Healing Service
DTSTART;TZID=Europe/London:20250821T183000
DTEND;TZID=Europe/London:20250821T193000
DTSTAMP:20260426T013824Z
UID:9246832025-08-21 18:30:00+01:00achurchnearyou
CATEGORIES:
DESCRIPTION:A service with a particular emphasis on healing - prayerful\, 
 meditative\, reflective.
GEO:-0.048308;51.438108
LOCATION:Christ Church Chapel
URL:https://www.achurchnearyou.com/church/640/service-and-events/events/92
 4683/
END:VEVENT
BEGIN:VEVENT
SUMMARY:Healing Service
DTSTART;TZID=Europe/London:20250918T183000
DTEND;TZID=Europe/London:20250918T193000
DTSTAMP:20260426T013824Z
UID:9246832025-09-18 18:30:00+01:00achurchnearyou
CATEGORIES:
DESCRIPTION:A service with a particular emphasis on healing - prayerful\, 
 meditative\, reflective.
GEO:-0.048308;51.438108
LOCATION:Christ Church Chapel
URL:https://www.achurchnearyou.com/church/640/service-and-events/events/92
 4683/
END:VEVENT
BEGIN:VEVENT
SUMMARY:Healing Service
DTSTART;TZID=Europe/London:20251016T183000
DTEND;TZID=Europe/London:20251016T193000
DTSTAMP:20260426T013824Z
UID:9246832025-10-16 18:30:00+01:00achurchnearyou
CATEGORIES:
DESCRIPTION:A service with a particular emphasis on healing - prayerful\, 
 meditative\, reflective.
GEO:-0.048308;51.438108
LOCATION:Christ Church Chapel
URL:https://www.achurchnearyou.com/church/640/service-and-events/events/92
 4683/
END:VEVENT
BEGIN:VEVENT
SUMMARY:Healing Service
DTSTART;TZID=Europe/London:20251120T183000
DTEND;TZID=Europe/London:20251120T193000
DTSTAMP:20260426T013824Z
UID:9246832025-11-20 18:30:00+00:00achurchnearyou
CATEGORIES:
DESCRIPTION:A service with a particular emphasis on healing - prayerful\, 
 meditative\, reflective.
GEO:-0.048308;51.438108
LOCATION:Christ Church Chapel
URL:https://www.achurchnearyou.com/church/640/service-and-events/events/92
 4683/
END:VEVENT
BEGIN:VEVENT
SUMMARY:Healing Service
DTSTART;TZID=Europe/London:20251218T183000
DTEND;TZID=Europe/London:20251218T193000
DTSTAMP:20260426T013824Z
UID:9246832025-12-18 18:30:00+00:00achurchnearyou
CATEGORIES:
DESCRIPTION:A service with a particular emphasis on healing - prayerful\, 
 meditative\, reflective.
GEO:-0.048308;51.438108
LOCATION:Christ Church Chapel
URL:https://www.achurchnearyou.com/church/640/service-and-events/events/92
 4683/
END:VEVENT
BEGIN:VEVENT
SUMMARY:Healing Service
DTSTART;TZID=Europe/London:20260115T183000
DTEND;TZID=Europe/London:20260115T193000
DTSTAMP:20260426T013824Z
UID:9246832026-01-15 18:30:00+00:00achurchnearyou
CATEGORIES:
DESCRIPTION:A service with a particular emphasis on healing - prayerful\, 
 meditative\, reflective.
GEO:-0.048308;51.438108
LOCATION:Christ Church Chapel
URL:https://www.achurchnearyou.com/church/640/service-and-events/events/92
 4683/
END:VEVENT
BEGIN:VEVENT
SUMMARY:Healing Service
DTSTART;TZID=Europe/London:20260219T183000
DTEND;TZID=Europe/London:20260219T193000
DTSTAMP:20260426T013824Z
UID:9246832026-02-19 18:30:00+00:00achurchnearyou
CATEGORIES:
DESCRIPTION:A service with a particular emphasis on healing - prayerful\, 
 meditative\, reflective.
GEO:-0.048308;51.438108
LOCATION:Christ Church Chapel
URL:https://www.achurchnearyou.com/church/640/service-and-events/events/92
 4683/
END:VEVENT
BEGIN:VEVENT
SUMMARY:Healing Service
DTSTART;TZID=Europe/London:20260319T183000
DTEND;TZID=Europe/London:20260319T193000
DTSTAMP:20260426T013824Z
UID:9246832026-03-19 18:30:00+00:00achurchnearyou
CATEGORIES:
DESCRIPTION:A service with a particular emphasis on healing - prayerful\, 
 meditative\, reflective.
GEO:-0.048308;51.438108
LOCATION:Christ Church Chapel
URL:https://www.achurchnearyou.com/church/640/service-and-events/events/92
 4683/
END:VEVENT
BEGIN:VEVENT
SUMMARY:Healing Service
DTSTART;TZID=Europe/London:20260416T183000
DTEND;TZID=Europe/London:20260416T193000
DTSTAMP:20260426T013824Z
UID:9246832026-04-16 18:30:00+01:00achurchnearyou
CATEGORIES:
DESCRIPTION:A service with a particular emphasis on healing - prayerful\, 
 meditative\, reflective.
GEO:-0.048308;51.438108
LOCATION:Christ Church Chapel
URL:https://www.achurchnearyou.com/church/640/service-and-events/events/92
 4683/
END:VEVENT
BEGIN:VEVENT
SUMMARY:Healing Service
DTSTART;TZID=Europe/London:20260521T183000
DTEND;TZID=Europe/London:20260521T193000
DTSTAMP:20260426T013824Z
UID:9246832026-05-21 18:30:00+01:00achurchnearyou
CATEGORIES:
DESCRIPTION:A service with a particular emphasis on healing - prayerful\, 
 meditative\, reflective.
GEO:-0.048308;51.438108
LOCATION:Christ Church Chapel
URL:https://www.achurchnearyou.com/church/640/service-and-events/events/92
 4683/
END:VEVENT
BEGIN:VEVENT
SUMMARY:Healing Service
DTSTART;TZID=Europe/London:20260618T183000
DTEND;TZID=Europe/London:20260618T193000
DTSTAMP:20260426T013824Z
UID:9246832026-06-18 18:30:00+01:00achurchnearyou
CATEGORIES:
DESCRIPTION:A service with a particular emphasis on healing - prayerful\, 
 meditative\, reflective.
GEO:-0.048308;51.438108
LOCATION:Christ Church Chapel
URL:https://www.achurchnearyou.com/church/640/service-and-events/events/92
 4683/
END:VEVENT
BEGIN:VEVENT
SUMMARY:Healing Service
DTSTART;TZID=Europe/London:20260716T183000
DTEND;TZID=Europe/London:20260716T193000
DTSTAMP:20260426T013824Z
UID:9246832026-07-16 18:30:00+01:00achurchnearyou
CATEGORIES:
DESCRIPTION:A service with a particular emphasis on healing - prayerful\, 
 meditative\, reflective.
GEO:-0.048308;51.438108
LOCATION:Christ Church Chapel
URL:https://www.achurchnearyou.com/church/640/service-and-events/events/92
 4683/
END:VEVENT
BEGIN:VEVENT
SUMMARY:Healing Service
DTSTART;TZID=Europe/London:20260820T183000
DTEND;TZID=Europe/London:20260820T193000
DTSTAMP:20260426T013824Z
UID:9246832026-08-20 18:30:00+01:00achurchnearyou
CATEGORIES:
DESCRIPTION:A service with a particular emphasis on healing - prayerful\, 
 meditative\, reflective.
GEO:-0.048308;51.438108
LOCATION:Christ Church Chapel
URL:https://www.achurchnearyou.com/church/640/service-and-events/events/92
 4683/
END:VEVENT
BEGIN:VEVENT
SUMMARY:Healing Service
DTSTART;TZID=Europe/London:20260917T183000
DTEND;TZID=Europe/London:20260917T193000
DTSTAMP:20260426T013824Z
UID:9246832026-09-17 18:30:00+01:00achurchnearyou
CATEGORIES:
DESCRIPTION:A service with a particular emphasis on healing - prayerful\, 
 meditative\, reflective.
GEO:-0.048308;51.438108
LOCATION:Christ Church Chapel
URL:https://www.achurchnearyou.com/church/640/service-and-events/events/92
 4683/
END:VEVENT
BEGIN:VEVENT
SUMMARY:Healing Service
DTSTART;TZID=Europe/London:20261015T183000
DTEND;TZID=Europe/London:20261015T193000
DTSTAMP:20260426T013824Z
UID:9246832026-10-15 18:30:00+01:00achurchnearyou
CATEGORIES:
DESCRIPTION:A service with a particular emphasis on healing - prayerful\, 
 meditative\, reflective.
GEO:-0.048308;51.438108
LOCATION:Christ Church Chapel
URL:https://www.achurchnearyou.com/church/640/service-and-events/events/92
 4683/
END:VEVENT
BEGIN:VEVENT
SUMMARY:Healing Service
DTSTART;TZID=Europe/London:20261119T183000
DTEND;TZID=Europe/London:20261119T193000
DTSTAMP:20260426T013824Z
UID:9246832026-11-19 18:30:00+00:00achurchnearyou
CATEGORIES:
DESCRIPTION:A service with a particular emphasis on healing - prayerful\, 
 meditative\, reflective.
GEO:-0.048308;51.438108
LOCATION:Christ Church Chapel
URL:https://www.achurchnearyou.com/church/640/service-and-events/events/92
 4683/
END:VEVENT
BEGIN:VEVENT
SUMMARY:Healing Service
DTSTART;TZID=Europe/London:20261217T183000
DTEND;TZID=Europe/London:20261217T193000
DTSTAMP:20260426T013824Z
UID:9246832026-12-17 18:30:00+00:00achurchnearyou
CATEGORIES:
DESCRIPTION:A service with a particular emphasis on healing - prayerful\, 
 meditative\, reflective.
GEO:-0.048308;51.438108
LOCATION:Christ Church Chapel
URL:https://www.achurchnearyou.com/church/640/service-and-events/events/92
 4683/
END:VEVENT
BEGIN:VEVENT
SUMMARY:Healing Service
DTSTART;TZID=Europe/London:20270121T183000
DTEND;TZID=Europe/London:20270121T193000
DTSTAMP:20260426T013824Z
UID:9246832027-01-21 18:30:00+00:00achurchnearyou
CATEGORIES:
DESCRIPTION:A service with a particular emphasis on healing - prayerful\, 
 meditative\, reflective.
GEO:-0.048308;51.438108
LOCATION:Christ Church Chapel
URL:https://www.achurchnearyou.com/church/640/service-and-events/events/92
 4683/
END:VEVENT
BEGIN:VEVENT
SUMMARY:Healing Service
DTSTART;TZID=Europe/London:20270218T183000
DTEND;TZID=Europe/London:20270218T193000
DTSTAMP:20260426T013824Z
UID:9246832027-02-18 18:30:00+00:00achurchnearyou
CATEGORIES:
DESCRIPTION:A service with a particular emphasis on healing - prayerful\, 
 meditative\, reflective.
GEO:-0.048308;51.438108
LOCATION:Christ Church Chapel
URL:https://www.achurchnearyou.com/church/640/service-and-events/events/92
 4683/
END:VEVENT
BEGIN:VEVENT
SUMMARY:Healing Service
DTSTART;TZID=Europe/London:20270318T183000
DTEND;TZID=Europe/London:20270318T193000
DTSTAMP:20260426T013824Z
UID:9246832027-03-18 18:30:00+00:00achurchnearyou
CATEGORIES:
DESCRIPTION:A service with a particular emphasis on healing - prayerful\, 
 meditative\, reflective.
GEO:-0.048308;51.438108
LOCATION:Christ Church Chapel
URL:https://www.achurchnearyou.com/church/640/service-and-events/events/92
 4683/
END:VEVENT
BEGIN:VEVENT
SUMMARY:Healing Service
DTSTART;TZID=Europe/London:20270415T183000
DTEND;TZID=Europe/London:20270415T193000
DTSTAMP:20260426T013824Z
UID:9246832027-04-15 18:30:00+01:00achurchnearyou
CATEGORIES:
DESCRIPTION:A service with a particular emphasis on healing - prayerful\, 
 meditative\, reflective.
GEO:-0.048308;51.438108
LOCATION:Christ Church Chapel
URL:https://www.achurchnearyou.com/church/640/service-and-events/events/92
 4683/
END:VEVENT
END:VCALENDAR
