BEGIN:VCALENDAR
VERSION:2.0
PRODID:-//achurchnearyou.com//eventfeed//EN
CALSCALE:GREGORIAN
METHOD:PUBLISH
X-WR-TIMEZONE:UTC
BEGIN:VEVENT
SUMMARY:Light Party
DTSTART:20251031T160000Z
DTEND:20251031T173000Z
DTSTAMP:20260424T000708Z
UID:12319362025-10-31 16:00:00+00:00achurchnearyou
CATEGORIES:
DESCRIPTION:Christian alternative to Halloween - for reception up to year 
 7 children\nTheme "The calming of the storm"\nYou must register for this e
 vent as spaces are limited
GEO:0.659643;51.598492
LOCATION:Hawkwell: Emmanuel
URL:https://www.achurchnearyou.com/church/6403/service-and-events/events/1
 231936/
END:VEVENT
END:VCALENDAR
