BEGIN:VCALENDAR
VERSION:2.0
PRODID:-//achurchnearyou.com//eventfeed//EN
CALSCALE:GREGORIAN
METHOD:PUBLISH
X-WR-TIMEZONE:UTC
BEGIN:VEVENT
SUMMARY:Christingle children's event
DTSTART:20251224T160000Z
DTEND:20251224T170000Z
DTSTAMP:20260423T221750Z
UID:12759412025-12-24 16:00:00+00:00achurchnearyou
CATEGORIES:
DESCRIPTION:Christingle
GEO:0.659643;51.598492
LOCATION:Hawkwell: Emmanuel
URL:https://www.achurchnearyou.com/church/6403/service-and-events/events/1
 275941/
END:VEVENT
END:VCALENDAR
