BEGIN:VCALENDAR
VERSION:2.0
PRODID:-//achurchnearyou.com//eventfeed//EN
CALSCALE:GREGORIAN
METHOD:PUBLISH
X-WR-TIMEZONE:UTC
BEGIN:VEVENT
SUMMARY:Good Friday Churches Together Act of Witness
DTSTART:20250418T094500Z
DTEND:20250418T104500Z
DTSTAMP:20260424T163551Z
UID:11879142025-04-18 09:45:00+00:00achurchnearyou
CATEGORIES:
DESCRIPTION:Hymns\, readings and prayers at Crystal Palace triangle.
LOCATION:Outside Sainsbury's\, Crystal Palace triangle
URL:https://www.achurchnearyou.com/church/642/service-and-events/events/11
 87914/
END:VEVENT
END:VCALENDAR
