BEGIN:VCALENDAR
VERSION:2.0
PRODID:-//achurchnearyou.com//eventfeed//EN
CALSCALE:GREGORIAN
METHOD:PUBLISH
X-WR-TIMEZONE:UTC
BEGIN:VEVENT
SUMMARY:Midnight Communion
DTSTART:20251224T233000Z
DTEND:20251225T003000Z
DTSTAMP:20260423T222331Z
UID:12427602025-12-24 23:30:00+00:00achurchnearyou
CATEGORIES:
DESCRIPTION:We gather to celebrate the moment that Christmas Eve tips over
  into Christmas Day\, and we rejoice that God is with us. We share carols\
 , readings\, prayers\, bread and wine\, remembering Jesus\, Light of the w
 orld. All welcome.
GEO:-0.083963;51.42161
LOCATION:Christ Church\, Gipsy Hill
URL:https://www.gipsyhill.org.uk/christmas
END:VEVENT
END:VCALENDAR
