BEGIN:VCALENDAR
VERSION:2.0
PRODID:-//achurchnearyou.com//eventfeed//EN
CALSCALE:GREGORIAN
METHOD:PUBLISH
X-WR-TIMEZONE:UTC
BEGIN:VEVENT
SUMMARY:Messy Church
DTSTART;TZID=Europe/London:20260301T160000
DTEND;TZID=Europe/London:20260301T180000
DTSTAMP:20260423T103836Z
UID:12910662026-03-01 16:00:00+00:00achurchnearyou
CATEGORIES:
DESCRIPTION:Launching Sunday 1 March\, 4pm-6pm\nFaith\, fun and a whole lo
 t of mess!\nGames and activities from gardening to baking\, science to cra
 fts\, and much more.  A celebration with songs\, a story and prayers\, and
  a shared meal to end.
GEO:-0.083963;51.42161
LOCATION:Christ Church\, Gipsy Hill
URL:http://www.gipsyhill.org.uk/messy-church
END:VEVENT
BEGIN:VEVENT
SUMMARY:Messy Church
DTSTART;TZID=Europe/London:20260405T160000
DTEND;TZID=Europe/London:20260405T180000
DTSTAMP:20260423T103836Z
UID:12910662026-04-05 16:00:00+01:00achurchnearyou
CATEGORIES:
DESCRIPTION:Launching Sunday 1 March\, 4pm-6pm\nFaith\, fun and a whole lo
 t of mess!\nGames and activities from gardening to baking\, science to cra
 fts\, and much more.  A celebration with songs\, a story and prayers\, and
  a shared meal to end.
GEO:-0.083963;51.42161
LOCATION:Christ Church\, Gipsy Hill
URL:http://www.gipsyhill.org.uk/messy-church
END:VEVENT
BEGIN:VEVENT
SUMMARY:Messy Church
DTSTART;TZID=Europe/London:20260503T160000
DTEND;TZID=Europe/London:20260503T180000
DTSTAMP:20260423T103836Z
UID:12910662026-05-03 16:00:00+01:00achurchnearyou
CATEGORIES:
DESCRIPTION:Launching Sunday 1 March\, 4pm-6pm\nFaith\, fun and a whole lo
 t of mess!\nGames and activities from gardening to baking\, science to cra
 fts\, and much more.  A celebration with songs\, a story and prayers\, and
  a shared meal to end.
GEO:-0.083963;51.42161
LOCATION:Christ Church\, Gipsy Hill
URL:http://www.gipsyhill.org.uk/messy-church
END:VEVENT
BEGIN:VEVENT
SUMMARY:Messy Church
DTSTART;TZID=Europe/London:20260607T160000
DTEND;TZID=Europe/London:20260607T180000
DTSTAMP:20260423T103836Z
UID:12910662026-06-07 16:00:00+01:00achurchnearyou
CATEGORIES:
DESCRIPTION:Launching Sunday 1 March\, 4pm-6pm\nFaith\, fun and a whole lo
 t of mess!\nGames and activities from gardening to baking\, science to cra
 fts\, and much more.  A celebration with songs\, a story and prayers\, and
  a shared meal to end.
GEO:-0.083963;51.42161
LOCATION:Christ Church\, Gipsy Hill
URL:http://www.gipsyhill.org.uk/messy-church
END:VEVENT
BEGIN:VEVENT
SUMMARY:Messy Church
DTSTART;TZID=Europe/London:20260705T160000
DTEND;TZID=Europe/London:20260705T180000
DTSTAMP:20260423T103836Z
UID:12910662026-07-05 16:00:00+01:00achurchnearyou
CATEGORIES:
DESCRIPTION:Launching Sunday 1 March\, 4pm-6pm\nFaith\, fun and a whole lo
 t of mess!\nGames and activities from gardening to baking\, science to cra
 fts\, and much more.  A celebration with songs\, a story and prayers\, and
  a shared meal to end.
GEO:-0.083963;51.42161
LOCATION:Christ Church\, Gipsy Hill
URL:http://www.gipsyhill.org.uk/messy-church
END:VEVENT
BEGIN:VEVENT
SUMMARY:Messy Church
DTSTART;TZID=Europe/London:20260906T160000
DTEND;TZID=Europe/London:20260906T180000
DTSTAMP:20260423T103836Z
UID:12910662026-09-06 16:00:00+01:00achurchnearyou
CATEGORIES:
DESCRIPTION:Launching Sunday 1 March\, 4pm-6pm\nFaith\, fun and a whole lo
 t of mess!\nGames and activities from gardening to baking\, science to cra
 fts\, and much more.  A celebration with songs\, a story and prayers\, and
  a shared meal to end.
GEO:-0.083963;51.42161
LOCATION:Christ Church\, Gipsy Hill
URL:http://www.gipsyhill.org.uk/messy-church
END:VEVENT
BEGIN:VEVENT
SUMMARY:Messy Church
DTSTART;TZID=Europe/London:20261004T160000
DTEND;TZID=Europe/London:20261004T180000
DTSTAMP:20260423T103836Z
UID:12910662026-10-04 16:00:00+01:00achurchnearyou
CATEGORIES:
DESCRIPTION:Launching Sunday 1 March\, 4pm-6pm\nFaith\, fun and a whole lo
 t of mess!\nGames and activities from gardening to baking\, science to cra
 fts\, and much more.  A celebration with songs\, a story and prayers\, and
  a shared meal to end.
GEO:-0.083963;51.42161
LOCATION:Christ Church\, Gipsy Hill
URL:http://www.gipsyhill.org.uk/messy-church
END:VEVENT
BEGIN:VEVENT
SUMMARY:Messy Church
DTSTART;TZID=Europe/London:20261101T160000
DTEND;TZID=Europe/London:20261101T180000
DTSTAMP:20260423T103836Z
UID:12910662026-11-01 16:00:00+00:00achurchnearyou
CATEGORIES:
DESCRIPTION:Launching Sunday 1 March\, 4pm-6pm\nFaith\, fun and a whole lo
 t of mess!\nGames and activities from gardening to baking\, science to cra
 fts\, and much more.  A celebration with songs\, a story and prayers\, and
  a shared meal to end.
GEO:-0.083963;51.42161
LOCATION:Christ Church\, Gipsy Hill
URL:http://www.gipsyhill.org.uk/messy-church
END:VEVENT
BEGIN:VEVENT
SUMMARY:Messy Church
DTSTART;TZID=Europe/London:20261206T160000
DTEND;TZID=Europe/London:20261206T180000
DTSTAMP:20260423T103836Z
UID:12910662026-12-06 16:00:00+00:00achurchnearyou
CATEGORIES:
DESCRIPTION:Launching Sunday 1 March\, 4pm-6pm\nFaith\, fun and a whole lo
 t of mess!\nGames and activities from gardening to baking\, science to cra
 fts\, and much more.  A celebration with songs\, a story and prayers\, and
  a shared meal to end.
GEO:-0.083963;51.42161
LOCATION:Christ Church\, Gipsy Hill
URL:http://www.gipsyhill.org.uk/messy-church
END:VEVENT
BEGIN:VEVENT
SUMMARY:Messy Church
DTSTART;TZID=Europe/London:20270103T160000
DTEND;TZID=Europe/London:20270103T180000
DTSTAMP:20260423T103836Z
UID:12910662027-01-03 16:00:00+00:00achurchnearyou
CATEGORIES:
DESCRIPTION:Launching Sunday 1 March\, 4pm-6pm\nFaith\, fun and a whole lo
 t of mess!\nGames and activities from gardening to baking\, science to cra
 fts\, and much more.  A celebration with songs\, a story and prayers\, and
  a shared meal to end.
GEO:-0.083963;51.42161
LOCATION:Christ Church\, Gipsy Hill
URL:http://www.gipsyhill.org.uk/messy-church
END:VEVENT
BEGIN:VEVENT
SUMMARY:Messy Church
DTSTART;TZID=Europe/London:20270207T160000
DTEND;TZID=Europe/London:20270207T180000
DTSTAMP:20260423T103836Z
UID:12910662027-02-07 16:00:00+00:00achurchnearyou
CATEGORIES:
DESCRIPTION:Launching Sunday 1 March\, 4pm-6pm\nFaith\, fun and a whole lo
 t of mess!\nGames and activities from gardening to baking\, science to cra
 fts\, and much more.  A celebration with songs\, a story and prayers\, and
  a shared meal to end.
GEO:-0.083963;51.42161
LOCATION:Christ Church\, Gipsy Hill
URL:http://www.gipsyhill.org.uk/messy-church
END:VEVENT
BEGIN:VEVENT
SUMMARY:Messy Church
DTSTART;TZID=Europe/London:20270307T160000
DTEND;TZID=Europe/London:20270307T180000
DTSTAMP:20260423T103836Z
UID:12910662027-03-07 16:00:00+00:00achurchnearyou
CATEGORIES:
DESCRIPTION:Launching Sunday 1 March\, 4pm-6pm\nFaith\, fun and a whole lo
 t of mess!\nGames and activities from gardening to baking\, science to cra
 fts\, and much more.  A celebration with songs\, a story and prayers\, and
  a shared meal to end.
GEO:-0.083963;51.42161
LOCATION:Christ Church\, Gipsy Hill
URL:http://www.gipsyhill.org.uk/messy-church
END:VEVENT
BEGIN:VEVENT
SUMMARY:Messy Church
DTSTART;TZID=Europe/London:20270404T160000
DTEND;TZID=Europe/London:20270404T180000
DTSTAMP:20260423T103836Z
UID:12910662027-04-04 16:00:00+01:00achurchnearyou
CATEGORIES:
DESCRIPTION:Launching Sunday 1 March\, 4pm-6pm\nFaith\, fun and a whole lo
 t of mess!\nGames and activities from gardening to baking\, science to cra
 fts\, and much more.  A celebration with songs\, a story and prayers\, and
  a shared meal to end.
GEO:-0.083963;51.42161
LOCATION:Christ Church\, Gipsy Hill
URL:http://www.gipsyhill.org.uk/messy-church
END:VEVENT
END:VCALENDAR
