BEGIN:VCALENDAR
VERSION:2.0
PRODID:-//achurchnearyou.com//eventfeed//EN
CALSCALE:GREGORIAN
METHOD:PUBLISH
X-WR-TIMEZONE:UTC
BEGIN:VEVENT
SUMMARY:Palm Sunday
DTSTART:20260329T093000Z
DTEND:20260329T103000Z
DTSTAMP:20260423T115249Z
UID:11719262026-03-29 09:30:00+00:00achurchnearyou
CATEGORIES:
DESCRIPTION:Join us to celebrate Jesus' entry into Jerusalem
GEO:-0.056714;51.246606
LOCATION:Godstone\, St Nicholas
URL:https://www.achurchnearyou.com/church/645/service-and-events/events/11
 71926/
END:VEVENT
END:VCALENDAR
