BEGIN:VCALENDAR
VERSION:2.0
PRODID:-//achurchnearyou.com//eventfeed//EN
CALSCALE:GREGORIAN
METHOD:PUBLISH
X-WR-TIMEZONE:UTC
BEGIN:VEVENT
SUMMARY:Good Friday
DTSTART:20250418T093000Z
DTEND:20250418T101500Z
DTSTAMP:20260425T185706Z
UID:12874672025-04-18 09:30:00+00:00achurchnearyou
CATEGORIES:
DESCRIPTION:Come and reflect on the events of Good Friday\, followed by a 
 procession down to the Green.
LOCATION:Godstone\, St Nicholas
URL:https://www.achurchnearyou.com/church/645/service-and-events/events/12
 87467/
END:VEVENT
END:VCALENDAR
