BEGIN:VCALENDAR
VERSION:2.0
PRODID:-//achurchnearyou.com//eventfeed//EN
CALSCALE:GREGORIAN
METHOD:PUBLISH
X-WR-TIMEZONE:UTC
BEGIN:VEVENT
SUMMARY:Christmas Day Family Service
DTSTART:20251225T100000Z
DTEND:20251225T110000Z
DTSTAMP:20260424T144833Z
UID:4210802025-12-25 10:00:00+00:00achurchnearyou
CATEGORIES:
DESCRIPTION:Expect a warming Christmas welcome at St Nicholas' Church\, Go
 dstone\, with a traditional Christmas Day Family Service\, including class
 ic carols on this very special day. Everyone welcome.
GEO:-0.056714;51.246606
LOCATION:Godstone\, St Nicholas
URL:https://www.achurchnearyou.com/church/645/service-and-events/events/42
 1080/
END:VEVENT
END:VCALENDAR
