BEGIN:VCALENDAR
VERSION:2.0
PRODID:-//achurchnearyou.com//eventfeed//EN
CALSCALE:GREGORIAN
METHOD:PUBLISH
X-WR-TIMEZONE:UTC
BEGIN:VEVENT
SUMMARY:Sunday Worship (on Youtube)
DTSTART;TZID=Europe/London:20260405T090000
DTEND;TZID=Europe/London:20260405T094500
DTSTAMP:20260423T100636Z
UID:6523921775376000.0achurchnearyou
CATEGORIES:
DESCRIPTION:Join us each Sunday on the Youtube channel for a live service
LOCATION:St Stephen\, South Godstone
URL:https://www.youtube.com/channel/UC0bAjADxp65kn7Quh12mEgg
END:VEVENT
BEGIN:VEVENT
SUMMARY:Easter
DTSTART;TZID=Europe/London:20260405T090000
DTEND;TZID=Europe/London:20260405T100000
DTSTAMP:20260423T100636Z
UID:11719301775376000.0achurchnearyou
CATEGORIES:
DESCRIPTION:Join us to celebrate the Resurrection!
GEO:-0.049112;51.21968
LOCATION:St Stephen\, South Godstone
URL:https://www.achurchnearyou.com/church/646/service-and-events/events/11
 71930/
END:VEVENT
BEGIN:VEVENT
SUMMARY:Family Service
DTSTART;TZID=Europe/London:20260405T103000
DTEND;TZID=Europe/London:20260405T113000
DTSTAMP:20260423T100636Z
UID:3793221775381400.0achurchnearyou
CATEGORIES:
DESCRIPTION:Led by our church family
GEO:-0.049112;51.21968
LOCATION:St Stephen\, South Godstone
URL:https://www.achurchnearyou.com/church/646/service-and-events/events/37
 9322/
END:VEVENT
BEGIN:VEVENT
SUMMARY:Holy Communion (CW) streamed onto Youtube
DTSTART;TZID=Europe/London:20260412T090000
DTEND;TZID=Europe/London:20260412T094500
DTSTAMP:20260423T100636Z
UID:1233231775980800.0achurchnearyou
CATEGORIES:
DESCRIPTION:This is a Common Worship service.
GEO:-0.049112;51.21968
LOCATION:St Stephen\, South Godstone
URL:https://www.youtube.com/channel/UC0bAjADxp65kn7Quh12mEgg
END:VEVENT
BEGIN:VEVENT
SUMMARY:Sunday Worship (on Youtube)
DTSTART;TZID=Europe/London:20260412T090000
DTEND;TZID=Europe/London:20260412T094500
DTSTAMP:20260423T100636Z
UID:6523921775980800.0achurchnearyou
CATEGORIES:
DESCRIPTION:Join us each Sunday on the Youtube channel for a live service
LOCATION:St Stephen\, South Godstone
URL:https://www.youtube.com/channel/UC0bAjADxp65kn7Quh12mEgg
END:VEVENT
BEGIN:VEVENT
SUMMARY:Holy Communion (CW) streamed onto Youtube
DTSTART;TZID=Europe/London:20260419T090000
DTEND;TZID=Europe/London:20260419T094500
DTSTAMP:20260423T100636Z
UID:1233231776585600.0achurchnearyou
CATEGORIES:
DESCRIPTION:This is a Common Worship service.
GEO:-0.049112;51.21968
LOCATION:St Stephen\, South Godstone
URL:https://www.youtube.com/channel/UC0bAjADxp65kn7Quh12mEgg
END:VEVENT
BEGIN:VEVENT
SUMMARY:Sunday Worship (on Youtube)
DTSTART;TZID=Europe/London:20260419T090000
DTEND;TZID=Europe/London:20260419T094500
DTSTAMP:20260423T100636Z
UID:6523921776585600.0achurchnearyou
CATEGORIES:
DESCRIPTION:Join us each Sunday on the Youtube channel for a live service
LOCATION:St Stephen\, South Godstone
URL:https://www.youtube.com/channel/UC0bAjADxp65kn7Quh12mEgg
END:VEVENT
BEGIN:VEVENT
SUMMARY:Holy Communion (CW) streamed onto Youtube
DTSTART;TZID=Europe/London:20260426T090000
DTEND;TZID=Europe/London:20260426T094500
DTSTAMP:20260423T100636Z
UID:1233231777190400.0achurchnearyou
CATEGORIES:
DESCRIPTION:This is a Common Worship service.
GEO:-0.049112;51.21968
LOCATION:St Stephen\, South Godstone
URL:https://www.youtube.com/channel/UC0bAjADxp65kn7Quh12mEgg
END:VEVENT
BEGIN:VEVENT
SUMMARY:Sunday Worship (on Youtube)
DTSTART;TZID=Europe/London:20260426T090000
DTEND;TZID=Europe/London:20260426T094500
DTSTAMP:20260423T100636Z
UID:6523921777190400.0achurchnearyou
CATEGORIES:
DESCRIPTION:Join us each Sunday on the Youtube channel for a live service
LOCATION:St Stephen\, South Godstone
URL:https://www.youtube.com/channel/UC0bAjADxp65kn7Quh12mEgg
END:VEVENT
BEGIN:VEVENT
SUMMARY:Sunday Worship (on Youtube)
DTSTART;TZID=Europe/London:20260503T090000
DTEND;TZID=Europe/London:20260503T094500
DTSTAMP:20260423T100636Z
UID:6523921777795200.0achurchnearyou
CATEGORIES:
DESCRIPTION:Join us each Sunday on the Youtube channel for a live service
LOCATION:St Stephen\, South Godstone
URL:https://www.youtube.com/channel/UC0bAjADxp65kn7Quh12mEgg
END:VEVENT
BEGIN:VEVENT
SUMMARY:Family Service
DTSTART;TZID=Europe/London:20260503T103000
DTEND;TZID=Europe/London:20260503T113000
DTSTAMP:20260423T100636Z
UID:3793221777800600.0achurchnearyou
CATEGORIES:
DESCRIPTION:Led by our church family
GEO:-0.049112;51.21968
LOCATION:St Stephen\, South Godstone
URL:https://www.achurchnearyou.com/church/646/service-and-events/events/37
 9322/
END:VEVENT
BEGIN:VEVENT
SUMMARY:Holy Communion (CW) streamed onto Youtube
DTSTART;TZID=Europe/London:20260510T090000
DTEND;TZID=Europe/London:20260510T094500
DTSTAMP:20260423T100636Z
UID:1233231778400000.0achurchnearyou
CATEGORIES:
DESCRIPTION:This is a Common Worship service.
GEO:-0.049112;51.21968
LOCATION:St Stephen\, South Godstone
URL:https://www.youtube.com/channel/UC0bAjADxp65kn7Quh12mEgg
END:VEVENT
BEGIN:VEVENT
SUMMARY:Sunday Worship (on Youtube)
DTSTART;TZID=Europe/London:20260510T090000
DTEND;TZID=Europe/London:20260510T094500
DTSTAMP:20260423T100636Z
UID:6523921778400000.0achurchnearyou
CATEGORIES:
DESCRIPTION:Join us each Sunday on the Youtube channel for a live service
LOCATION:St Stephen\, South Godstone
URL:https://www.youtube.com/channel/UC0bAjADxp65kn7Quh12mEgg
END:VEVENT
BEGIN:VEVENT
SUMMARY:Holy Communion (CW) streamed onto Youtube
DTSTART;TZID=Europe/London:20260517T090000
DTEND;TZID=Europe/London:20260517T094500
DTSTAMP:20260423T100636Z
UID:1233231779004800.0achurchnearyou
CATEGORIES:
DESCRIPTION:This is a Common Worship service.
GEO:-0.049112;51.21968
LOCATION:St Stephen\, South Godstone
URL:https://www.youtube.com/channel/UC0bAjADxp65kn7Quh12mEgg
END:VEVENT
BEGIN:VEVENT
SUMMARY:Sunday Worship (on Youtube)
DTSTART;TZID=Europe/London:20260517T090000
DTEND;TZID=Europe/London:20260517T094500
DTSTAMP:20260423T100636Z
UID:6523921779004800.0achurchnearyou
CATEGORIES:
DESCRIPTION:Join us each Sunday on the Youtube channel for a live service
LOCATION:St Stephen\, South Godstone
URL:https://www.youtube.com/channel/UC0bAjADxp65kn7Quh12mEgg
END:VEVENT
BEGIN:VEVENT
SUMMARY:Holy Communion (CW) streamed onto Youtube
DTSTART;TZID=Europe/London:20260524T090000
DTEND;TZID=Europe/London:20260524T094500
DTSTAMP:20260423T100636Z
UID:1233231779609600.0achurchnearyou
CATEGORIES:
DESCRIPTION:This is a Common Worship service.
GEO:-0.049112;51.21968
LOCATION:St Stephen\, South Godstone
URL:https://www.youtube.com/channel/UC0bAjADxp65kn7Quh12mEgg
END:VEVENT
BEGIN:VEVENT
SUMMARY:Sunday Worship (on Youtube)
DTSTART;TZID=Europe/London:20260524T090000
DTEND;TZID=Europe/London:20260524T094500
DTSTAMP:20260423T100636Z
UID:6523921779609600.0achurchnearyou
CATEGORIES:
DESCRIPTION:Join us each Sunday on the Youtube channel for a live service
LOCATION:St Stephen\, South Godstone
URL:https://www.youtube.com/channel/UC0bAjADxp65kn7Quh12mEgg
END:VEVENT
BEGIN:VEVENT
SUMMARY:Holy Communion (CW) streamed onto Youtube
DTSTART;TZID=Europe/London:20260531T090000
DTEND;TZID=Europe/London:20260531T094500
DTSTAMP:20260423T100636Z
UID:1233231780214400.0achurchnearyou
CATEGORIES:
DESCRIPTION:This is a Common Worship service.
GEO:-0.049112;51.21968
LOCATION:St Stephen\, South Godstone
URL:https://www.youtube.com/channel/UC0bAjADxp65kn7Quh12mEgg
END:VEVENT
BEGIN:VEVENT
SUMMARY:Sunday Worship (on Youtube)
DTSTART;TZID=Europe/London:20260531T090000
DTEND;TZID=Europe/London:20260531T094500
DTSTAMP:20260423T100636Z
UID:6523921780214400.0achurchnearyou
CATEGORIES:
DESCRIPTION:Join us each Sunday on the Youtube channel for a live service
LOCATION:St Stephen\, South Godstone
URL:https://www.youtube.com/channel/UC0bAjADxp65kn7Quh12mEgg
END:VEVENT
BEGIN:VEVENT
SUMMARY:Sunday Worship (on Youtube)
DTSTART;TZID=Europe/London:20260607T090000
DTEND;TZID=Europe/London:20260607T094500
DTSTAMP:20260423T100636Z
UID:6523921780819200.0achurchnearyou
CATEGORIES:
DESCRIPTION:Join us each Sunday on the Youtube channel for a live service
LOCATION:St Stephen\, South Godstone
URL:https://www.youtube.com/channel/UC0bAjADxp65kn7Quh12mEgg
END:VEVENT
BEGIN:VEVENT
SUMMARY:Family Service
DTSTART;TZID=Europe/London:20260607T103000
DTEND;TZID=Europe/London:20260607T113000
DTSTAMP:20260423T100636Z
UID:3793221780824600.0achurchnearyou
CATEGORIES:
DESCRIPTION:Led by our church family
GEO:-0.049112;51.21968
LOCATION:St Stephen\, South Godstone
URL:https://www.achurchnearyou.com/church/646/service-and-events/events/37
 9322/
END:VEVENT
BEGIN:VEVENT
SUMMARY:Holy Communion (CW) streamed onto Youtube
DTSTART;TZID=Europe/London:20260614T090000
DTEND;TZID=Europe/London:20260614T094500
DTSTAMP:20260423T100636Z
UID:1233231781424000.0achurchnearyou
CATEGORIES:
DESCRIPTION:This is a Common Worship service.
GEO:-0.049112;51.21968
LOCATION:St Stephen\, South Godstone
URL:https://www.youtube.com/channel/UC0bAjADxp65kn7Quh12mEgg
END:VEVENT
BEGIN:VEVENT
SUMMARY:Sunday Worship (on Youtube)
DTSTART;TZID=Europe/London:20260614T090000
DTEND;TZID=Europe/London:20260614T094500
DTSTAMP:20260423T100636Z
UID:6523921781424000.0achurchnearyou
CATEGORIES:
DESCRIPTION:Join us each Sunday on the Youtube channel for a live service
LOCATION:St Stephen\, South Godstone
URL:https://www.youtube.com/channel/UC0bAjADxp65kn7Quh12mEgg
END:VEVENT
BEGIN:VEVENT
SUMMARY:Holy Communion (CW) streamed onto Youtube
DTSTART;TZID=Europe/London:20260621T090000
DTEND;TZID=Europe/London:20260621T094500
DTSTAMP:20260423T100636Z
UID:1233231782028800.0achurchnearyou
CATEGORIES:
DESCRIPTION:This is a Common Worship service.
GEO:-0.049112;51.21968
LOCATION:St Stephen\, South Godstone
URL:https://www.youtube.com/channel/UC0bAjADxp65kn7Quh12mEgg
END:VEVENT
BEGIN:VEVENT
SUMMARY:Sunday Worship (on Youtube)
DTSTART;TZID=Europe/London:20260621T090000
DTEND;TZID=Europe/London:20260621T094500
DTSTAMP:20260423T100636Z
UID:6523921782028800.0achurchnearyou
CATEGORIES:
DESCRIPTION:Join us each Sunday on the Youtube channel for a live service
LOCATION:St Stephen\, South Godstone
URL:https://www.youtube.com/channel/UC0bAjADxp65kn7Quh12mEgg
END:VEVENT
BEGIN:VEVENT
SUMMARY:Holy Communion (CW) streamed onto Youtube
DTSTART;TZID=Europe/London:20260628T090000
DTEND;TZID=Europe/London:20260628T094500
DTSTAMP:20260423T100636Z
UID:1233231782633600.0achurchnearyou
CATEGORIES:
DESCRIPTION:This is a Common Worship service.
GEO:-0.049112;51.21968
LOCATION:St Stephen\, South Godstone
URL:https://www.youtube.com/channel/UC0bAjADxp65kn7Quh12mEgg
END:VEVENT
BEGIN:VEVENT
SUMMARY:Sunday Worship (on Youtube)
DTSTART;TZID=Europe/London:20260628T090000
DTEND;TZID=Europe/London:20260628T094500
DTSTAMP:20260423T100636Z
UID:6523921782633600.0achurchnearyou
CATEGORIES:
DESCRIPTION:Join us each Sunday on the Youtube channel for a live service
LOCATION:St Stephen\, South Godstone
URL:https://www.youtube.com/channel/UC0bAjADxp65kn7Quh12mEgg
END:VEVENT
BEGIN:VEVENT
SUMMARY:Sunday Worship (on Youtube)
DTSTART;TZID=Europe/London:20260705T090000
DTEND;TZID=Europe/London:20260705T094500
DTSTAMP:20260423T100636Z
UID:6523921783238400.0achurchnearyou
CATEGORIES:
DESCRIPTION:Join us each Sunday on the Youtube channel for a live service
LOCATION:St Stephen\, South Godstone
URL:https://www.youtube.com/channel/UC0bAjADxp65kn7Quh12mEgg
END:VEVENT
BEGIN:VEVENT
SUMMARY:Family Service
DTSTART;TZID=Europe/London:20260705T103000
DTEND;TZID=Europe/London:20260705T113000
DTSTAMP:20260423T100636Z
UID:3793221783243800.0achurchnearyou
CATEGORIES:
DESCRIPTION:Led by our church family
GEO:-0.049112;51.21968
LOCATION:St Stephen\, South Godstone
URL:https://www.achurchnearyou.com/church/646/service-and-events/events/37
 9322/
END:VEVENT
BEGIN:VEVENT
SUMMARY:Holy Communion (CW) streamed onto Youtube
DTSTART;TZID=Europe/London:20260712T090000
DTEND;TZID=Europe/London:20260712T094500
DTSTAMP:20260423T100636Z
UID:1233231783843200.0achurchnearyou
CATEGORIES:
DESCRIPTION:This is a Common Worship service.
GEO:-0.049112;51.21968
LOCATION:St Stephen\, South Godstone
URL:https://www.youtube.com/channel/UC0bAjADxp65kn7Quh12mEgg
END:VEVENT
BEGIN:VEVENT
SUMMARY:Sunday Worship (on Youtube)
DTSTART;TZID=Europe/London:20260712T090000
DTEND;TZID=Europe/London:20260712T094500
DTSTAMP:20260423T100636Z
UID:6523921783843200.0achurchnearyou
CATEGORIES:
DESCRIPTION:Join us each Sunday on the Youtube channel for a live service
LOCATION:St Stephen\, South Godstone
URL:https://www.youtube.com/channel/UC0bAjADxp65kn7Quh12mEgg
END:VEVENT
BEGIN:VEVENT
SUMMARY:Holy Communion (CW) streamed onto Youtube
DTSTART;TZID=Europe/London:20260719T090000
DTEND;TZID=Europe/London:20260719T094500
DTSTAMP:20260423T100636Z
UID:1233231784448000.0achurchnearyou
CATEGORIES:
DESCRIPTION:This is a Common Worship service.
GEO:-0.049112;51.21968
LOCATION:St Stephen\, South Godstone
URL:https://www.youtube.com/channel/UC0bAjADxp65kn7Quh12mEgg
END:VEVENT
BEGIN:VEVENT
SUMMARY:Sunday Worship (on Youtube)
DTSTART;TZID=Europe/London:20260719T090000
DTEND;TZID=Europe/London:20260719T094500
DTSTAMP:20260423T100636Z
UID:6523921784448000.0achurchnearyou
CATEGORIES:
DESCRIPTION:Join us each Sunday on the Youtube channel for a live service
LOCATION:St Stephen\, South Godstone
URL:https://www.youtube.com/channel/UC0bAjADxp65kn7Quh12mEgg
END:VEVENT
BEGIN:VEVENT
SUMMARY:Holy Communion (CW) streamed onto Youtube
DTSTART;TZID=Europe/London:20260726T090000
DTEND;TZID=Europe/London:20260726T094500
DTSTAMP:20260423T100636Z
UID:1233231785052800.0achurchnearyou
CATEGORIES:
DESCRIPTION:This is a Common Worship service.
GEO:-0.049112;51.21968
LOCATION:St Stephen\, South Godstone
URL:https://www.youtube.com/channel/UC0bAjADxp65kn7Quh12mEgg
END:VEVENT
BEGIN:VEVENT
SUMMARY:Sunday Worship (on Youtube)
DTSTART;TZID=Europe/London:20260726T090000
DTEND;TZID=Europe/London:20260726T094500
DTSTAMP:20260423T100636Z
UID:6523921785052800.0achurchnearyou
CATEGORIES:
DESCRIPTION:Join us each Sunday on the Youtube channel for a live service
LOCATION:St Stephen\, South Godstone
URL:https://www.youtube.com/channel/UC0bAjADxp65kn7Quh12mEgg
END:VEVENT
BEGIN:VEVENT
SUMMARY:Sunday Worship (on Youtube)
DTSTART;TZID=Europe/London:20260802T090000
DTEND;TZID=Europe/London:20260802T094500
DTSTAMP:20260423T100636Z
UID:6523921785657600.0achurchnearyou
CATEGORIES:
DESCRIPTION:Join us each Sunday on the Youtube channel for a live service
LOCATION:St Stephen\, South Godstone
URL:https://www.youtube.com/channel/UC0bAjADxp65kn7Quh12mEgg
END:VEVENT
BEGIN:VEVENT
SUMMARY:Family Service
DTSTART;TZID=Europe/London:20260802T103000
DTEND;TZID=Europe/London:20260802T113000
DTSTAMP:20260423T100636Z
UID:3793221785663000.0achurchnearyou
CATEGORIES:
DESCRIPTION:Led by our church family
GEO:-0.049112;51.21968
LOCATION:St Stephen\, South Godstone
URL:https://www.achurchnearyou.com/church/646/service-and-events/events/37
 9322/
END:VEVENT
BEGIN:VEVENT
SUMMARY:Holy Communion (CW) streamed onto Youtube
DTSTART;TZID=Europe/London:20260809T090000
DTEND;TZID=Europe/London:20260809T094500
DTSTAMP:20260423T100636Z
UID:1233231786262400.0achurchnearyou
CATEGORIES:
DESCRIPTION:This is a Common Worship service.
GEO:-0.049112;51.21968
LOCATION:St Stephen\, South Godstone
URL:https://www.youtube.com/channel/UC0bAjADxp65kn7Quh12mEgg
END:VEVENT
BEGIN:VEVENT
SUMMARY:Sunday Worship (on Youtube)
DTSTART;TZID=Europe/London:20260809T090000
DTEND;TZID=Europe/London:20260809T094500
DTSTAMP:20260423T100636Z
UID:6523921786262400.0achurchnearyou
CATEGORIES:
DESCRIPTION:Join us each Sunday on the Youtube channel for a live service
LOCATION:St Stephen\, South Godstone
URL:https://www.youtube.com/channel/UC0bAjADxp65kn7Quh12mEgg
END:VEVENT
BEGIN:VEVENT
SUMMARY:Holy Communion (CW) streamed onto Youtube
DTSTART;TZID=Europe/London:20260816T090000
DTEND;TZID=Europe/London:20260816T094500
DTSTAMP:20260423T100636Z
UID:1233231786867200.0achurchnearyou
CATEGORIES:
DESCRIPTION:This is a Common Worship service.
GEO:-0.049112;51.21968
LOCATION:St Stephen\, South Godstone
URL:https://www.youtube.com/channel/UC0bAjADxp65kn7Quh12mEgg
END:VEVENT
BEGIN:VEVENT
SUMMARY:Sunday Worship (on Youtube)
DTSTART;TZID=Europe/London:20260816T090000
DTEND;TZID=Europe/London:20260816T094500
DTSTAMP:20260423T100636Z
UID:6523921786867200.0achurchnearyou
CATEGORIES:
DESCRIPTION:Join us each Sunday on the Youtube channel for a live service
LOCATION:St Stephen\, South Godstone
URL:https://www.youtube.com/channel/UC0bAjADxp65kn7Quh12mEgg
END:VEVENT
BEGIN:VEVENT
SUMMARY:Holy Communion (CW) streamed onto Youtube
DTSTART;TZID=Europe/London:20260823T090000
DTEND;TZID=Europe/London:20260823T094500
DTSTAMP:20260423T100636Z
UID:1233231787472000.0achurchnearyou
CATEGORIES:
DESCRIPTION:This is a Common Worship service.
GEO:-0.049112;51.21968
LOCATION:St Stephen\, South Godstone
URL:https://www.youtube.com/channel/UC0bAjADxp65kn7Quh12mEgg
END:VEVENT
BEGIN:VEVENT
SUMMARY:Sunday Worship (on Youtube)
DTSTART;TZID=Europe/London:20260823T090000
DTEND;TZID=Europe/London:20260823T094500
DTSTAMP:20260423T100636Z
UID:6523921787472000.0achurchnearyou
CATEGORIES:
DESCRIPTION:Join us each Sunday on the Youtube channel for a live service
LOCATION:St Stephen\, South Godstone
URL:https://www.youtube.com/channel/UC0bAjADxp65kn7Quh12mEgg
END:VEVENT
BEGIN:VEVENT
SUMMARY:Holy Communion (CW) streamed onto Youtube
DTSTART;TZID=Europe/London:20260830T090000
DTEND;TZID=Europe/London:20260830T094500
DTSTAMP:20260423T100636Z
UID:1233231788076800.0achurchnearyou
CATEGORIES:
DESCRIPTION:This is a Common Worship service.
GEO:-0.049112;51.21968
LOCATION:St Stephen\, South Godstone
URL:https://www.youtube.com/channel/UC0bAjADxp65kn7Quh12mEgg
END:VEVENT
BEGIN:VEVENT
SUMMARY:Sunday Worship (on Youtube)
DTSTART;TZID=Europe/London:20260830T090000
DTEND;TZID=Europe/London:20260830T094500
DTSTAMP:20260423T100636Z
UID:6523921788076800.0achurchnearyou
CATEGORIES:
DESCRIPTION:Join us each Sunday on the Youtube channel for a live service
LOCATION:St Stephen\, South Godstone
URL:https://www.youtube.com/channel/UC0bAjADxp65kn7Quh12mEgg
END:VEVENT
BEGIN:VEVENT
SUMMARY:Sunday Worship (on Youtube)
DTSTART;TZID=Europe/London:20260906T090000
DTEND;TZID=Europe/London:20260906T094500
DTSTAMP:20260423T100636Z
UID:6523921788681600.0achurchnearyou
CATEGORIES:
DESCRIPTION:Join us each Sunday on the Youtube channel for a live service
LOCATION:St Stephen\, South Godstone
URL:https://www.youtube.com/channel/UC0bAjADxp65kn7Quh12mEgg
END:VEVENT
BEGIN:VEVENT
SUMMARY:Family Service
DTSTART;TZID=Europe/London:20260906T103000
DTEND;TZID=Europe/London:20260906T113000
DTSTAMP:20260423T100636Z
UID:3793221788687000.0achurchnearyou
CATEGORIES:
DESCRIPTION:Led by our church family
GEO:-0.049112;51.21968
LOCATION:St Stephen\, South Godstone
URL:https://www.achurchnearyou.com/church/646/service-and-events/events/37
 9322/
END:VEVENT
BEGIN:VEVENT
SUMMARY:Holy Communion (CW) streamed onto Youtube
DTSTART;TZID=Europe/London:20260913T090000
DTEND;TZID=Europe/London:20260913T094500
DTSTAMP:20260423T100636Z
UID:1233231789286400.0achurchnearyou
CATEGORIES:
DESCRIPTION:This is a Common Worship service.
GEO:-0.049112;51.21968
LOCATION:St Stephen\, South Godstone
URL:https://www.youtube.com/channel/UC0bAjADxp65kn7Quh12mEgg
END:VEVENT
BEGIN:VEVENT
SUMMARY:Sunday Worship (on Youtube)
DTSTART;TZID=Europe/London:20260913T090000
DTEND;TZID=Europe/London:20260913T094500
DTSTAMP:20260423T100636Z
UID:6523921789286400.0achurchnearyou
CATEGORIES:
DESCRIPTION:Join us each Sunday on the Youtube channel for a live service
LOCATION:St Stephen\, South Godstone
URL:https://www.youtube.com/channel/UC0bAjADxp65kn7Quh12mEgg
END:VEVENT
BEGIN:VEVENT
SUMMARY:Holy Communion (CW) streamed onto Youtube
DTSTART;TZID=Europe/London:20260920T090000
DTEND;TZID=Europe/London:20260920T094500
DTSTAMP:20260423T100636Z
UID:1233231789891200.0achurchnearyou
CATEGORIES:
DESCRIPTION:This is a Common Worship service.
GEO:-0.049112;51.21968
LOCATION:St Stephen\, South Godstone
URL:https://www.youtube.com/channel/UC0bAjADxp65kn7Quh12mEgg
END:VEVENT
BEGIN:VEVENT
SUMMARY:Sunday Worship (on Youtube)
DTSTART;TZID=Europe/London:20260920T090000
DTEND;TZID=Europe/London:20260920T094500
DTSTAMP:20260423T100636Z
UID:6523921789891200.0achurchnearyou
CATEGORIES:
DESCRIPTION:Join us each Sunday on the Youtube channel for a live service
LOCATION:St Stephen\, South Godstone
URL:https://www.youtube.com/channel/UC0bAjADxp65kn7Quh12mEgg
END:VEVENT
BEGIN:VEVENT
SUMMARY:Holy Communion (CW) streamed onto Youtube
DTSTART;TZID=Europe/London:20260927T090000
DTEND;TZID=Europe/London:20260927T094500
DTSTAMP:20260423T100636Z
UID:1233231790496000.0achurchnearyou
CATEGORIES:
DESCRIPTION:This is a Common Worship service.
GEO:-0.049112;51.21968
LOCATION:St Stephen\, South Godstone
URL:https://www.youtube.com/channel/UC0bAjADxp65kn7Quh12mEgg
END:VEVENT
BEGIN:VEVENT
SUMMARY:Sunday Worship (on Youtube)
DTSTART;TZID=Europe/London:20260927T090000
DTEND;TZID=Europe/London:20260927T094500
DTSTAMP:20260423T100636Z
UID:6523921790496000.0achurchnearyou
CATEGORIES:
DESCRIPTION:Join us each Sunday on the Youtube channel for a live service
LOCATION:St Stephen\, South Godstone
URL:https://www.youtube.com/channel/UC0bAjADxp65kn7Quh12mEgg
END:VEVENT
END:VCALENDAR
