BEGIN:VCALENDAR
VERSION:2.0
PRODID:-//achurchnearyou.com//eventfeed//EN
CALSCALE:GREGORIAN
METHOD:PUBLISH
X-WR-TIMEZONE:UTC
BEGIN:VEVENT
SUMMARY:Stations of The Cross around Leigh-on-Sea
DTSTART:20260403T083000Z
DTEND:20260403T094500Z
DTSTAMP:20260424T174044Z
UID:13159072026-04-03 08:30:00+00:00achurchnearyou
CATEGORIES:
DESCRIPTION:Meet at St Clement's Church in Leigh-on-Sea\, and join us for 
 Stations outdoors\, in the local community.
GEO:0.653408;51.541072
LOCATION:Leigh-on-Sea: St Clement
URL:https://stclementschurch.org.uk/
END:VEVENT
END:VCALENDAR
