BEGIN:VCALENDAR
VERSION:2.0
PRODID:-//achurchnearyou.com//eventfeed//EN
CALSCALE:GREGORIAN
METHOD:PUBLISH
X-WR-TIMEZONE:UTC
BEGIN:VEVENT
SUMMARY:Praying  for Leigh
DTSTART:20250920T080000Z
DTEND:20250920T090000Z
DTSTAMP:20260422T133121Z
UID:12250412025-09-20 08:00:00+00:00achurchnearyou
CATEGORIES:
DESCRIPTION:Praying for Leigh\, in the Chapel - all very welcome!
GEO:0.643215;51.561832
LOCATION:St. Aidan's Parish Church\, Leigh-on-Sea
URL:https://www.achurchnearyou.com/church/6463/service-and-events/events/1
 225041/
END:VEVENT
END:VCALENDAR
