BEGIN:VCALENDAR
VERSION:2.0
PRODID:-//achurchnearyou.com//eventfeed//EN
CALSCALE:GREGORIAN
METHOD:PUBLISH
X-WR-TIMEZONE:UTC
BEGIN:VEVENT
SUMMARY:In Loving Memory Service
DTSTART:20251101T140000Z
DTEND:20251101T150000Z
DTSTAMP:20260422T095430Z
UID:12310842025-11-01 14:00:00+00:00achurchnearyou
CATEGORIES:
DESCRIPTION:2pm Saturday 1st November\nA service to remember those we love
  and see no more.
GEO:0.643215;51.561832
LOCATION:St. Aidan's Parish Church\, Leigh-on-Sea
URL:https://www.achurchnearyou.com/church/6463/service-and-events/events/1
 231084/
END:VEVENT
END:VCALENDAR
