BEGIN:VCALENDAR
VERSION:2.0
PRODID:-//achurchnearyou.com//eventfeed//EN
CALSCALE:GREGORIAN
METHOD:PUBLISH
X-WR-TIMEZONE:UTC
BEGIN:VEVENT
SUMMARY:Worship for All/Regeneration
DTSTART;TZID=Europe/London:20260503T093000
DTEND;TZID=Europe/London:20260503T103000
DTSTAMP:20260421T210649Z
UID:10848022026-05-03 09:30:00+01:00achurchnearyou
CATEGORIES:
DESCRIPTION:On the first Sunday of the month we leave the pews and worship
  cafe style. An informal\, interactive service designed to help families g
 row in faith alongside new friends and old. Everyone genuinely welcome.
GEO:0.676174;51.73212
LOCATION:All Saints\, Maldon
URL:https://www.achurchnearyou.com/church/6487/service-and-events/events/1
 084802/
END:VEVENT
BEGIN:VEVENT
SUMMARY:Worship for All/Regeneration
DTSTART;TZID=Europe/London:20260607T093000
DTEND;TZID=Europe/London:20260607T103000
DTSTAMP:20260421T210649Z
UID:10848022026-06-07 09:30:00+01:00achurchnearyou
CATEGORIES:
DESCRIPTION:On the first Sunday of the month we leave the pews and worship
  cafe style. An informal\, interactive service designed to help families g
 row in faith alongside new friends and old. Everyone genuinely welcome.
GEO:0.676174;51.73212
LOCATION:All Saints\, Maldon
URL:https://www.achurchnearyou.com/church/6487/service-and-events/events/1
 084802/
END:VEVENT
BEGIN:VEVENT
SUMMARY:Worship for All/Regeneration
DTSTART;TZID=Europe/London:20260705T093000
DTEND;TZID=Europe/London:20260705T103000
DTSTAMP:20260421T210649Z
UID:10848022026-07-05 09:30:00+01:00achurchnearyou
CATEGORIES:
DESCRIPTION:On the first Sunday of the month we leave the pews and worship
  cafe style. An informal\, interactive service designed to help families g
 row in faith alongside new friends and old. Everyone genuinely welcome.
GEO:0.676174;51.73212
LOCATION:All Saints\, Maldon
URL:https://www.achurchnearyou.com/church/6487/service-and-events/events/1
 084802/
END:VEVENT
BEGIN:VEVENT
SUMMARY:Worship for All/Regeneration
DTSTART;TZID=Europe/London:20260802T093000
DTEND;TZID=Europe/London:20260802T103000
DTSTAMP:20260421T210649Z
UID:10848022026-08-02 09:30:00+01:00achurchnearyou
CATEGORIES:
DESCRIPTION:On the first Sunday of the month we leave the pews and worship
  cafe style. An informal\, interactive service designed to help families g
 row in faith alongside new friends and old. Everyone genuinely welcome.
GEO:0.676174;51.73212
LOCATION:All Saints\, Maldon
URL:https://www.achurchnearyou.com/church/6487/service-and-events/events/1
 084802/
END:VEVENT
BEGIN:VEVENT
SUMMARY:Worship for All/Regeneration
DTSTART;TZID=Europe/London:20260906T093000
DTEND;TZID=Europe/London:20260906T103000
DTSTAMP:20260421T210649Z
UID:10848022026-09-06 09:30:00+01:00achurchnearyou
CATEGORIES:
DESCRIPTION:On the first Sunday of the month we leave the pews and worship
  cafe style. An informal\, interactive service designed to help families g
 row in faith alongside new friends and old. Everyone genuinely welcome.
GEO:0.676174;51.73212
LOCATION:All Saints\, Maldon
URL:https://www.achurchnearyou.com/church/6487/service-and-events/events/1
 084802/
END:VEVENT
BEGIN:VEVENT
SUMMARY:Worship for All/Regeneration
DTSTART;TZID=Europe/London:20261004T093000
DTEND;TZID=Europe/London:20261004T103000
DTSTAMP:20260421T210649Z
UID:10848022026-10-04 09:30:00+01:00achurchnearyou
CATEGORIES:
DESCRIPTION:On the first Sunday of the month we leave the pews and worship
  cafe style. An informal\, interactive service designed to help families g
 row in faith alongside new friends and old. Everyone genuinely welcome.
GEO:0.676174;51.73212
LOCATION:All Saints\, Maldon
URL:https://www.achurchnearyou.com/church/6487/service-and-events/events/1
 084802/
END:VEVENT
BEGIN:VEVENT
SUMMARY:Worship for All/Regeneration
DTSTART;TZID=Europe/London:20261101T093000
DTEND;TZID=Europe/London:20261101T103000
DTSTAMP:20260421T210649Z
UID:10848022026-11-01 09:30:00+00:00achurchnearyou
CATEGORIES:
DESCRIPTION:On the first Sunday of the month we leave the pews and worship
  cafe style. An informal\, interactive service designed to help families g
 row in faith alongside new friends and old. Everyone genuinely welcome.
GEO:0.676174;51.73212
LOCATION:All Saints\, Maldon
URL:https://www.achurchnearyou.com/church/6487/service-and-events/events/1
 084802/
END:VEVENT
BEGIN:VEVENT
SUMMARY:Worship for All/Regeneration
DTSTART;TZID=Europe/London:20261206T093000
DTEND;TZID=Europe/London:20261206T103000
DTSTAMP:20260421T210649Z
UID:10848022026-12-06 09:30:00+00:00achurchnearyou
CATEGORIES:
DESCRIPTION:On the first Sunday of the month we leave the pews and worship
  cafe style. An informal\, interactive service designed to help families g
 row in faith alongside new friends and old. Everyone genuinely welcome.
GEO:0.676174;51.73212
LOCATION:All Saints\, Maldon
URL:https://www.achurchnearyou.com/church/6487/service-and-events/events/1
 084802/
END:VEVENT
BEGIN:VEVENT
SUMMARY:Worship for All/Regeneration
DTSTART;TZID=Europe/London:20270103T093000
DTEND;TZID=Europe/London:20270103T103000
DTSTAMP:20260421T210649Z
UID:10848022027-01-03 09:30:00+00:00achurchnearyou
CATEGORIES:
DESCRIPTION:On the first Sunday of the month we leave the pews and worship
  cafe style. An informal\, interactive service designed to help families g
 row in faith alongside new friends and old. Everyone genuinely welcome.
GEO:0.676174;51.73212
LOCATION:All Saints\, Maldon
URL:https://www.achurchnearyou.com/church/6487/service-and-events/events/1
 084802/
END:VEVENT
BEGIN:VEVENT
SUMMARY:Worship for All/Regeneration
DTSTART;TZID=Europe/London:20270207T093000
DTEND;TZID=Europe/London:20270207T103000
DTSTAMP:20260421T210649Z
UID:10848022027-02-07 09:30:00+00:00achurchnearyou
CATEGORIES:
DESCRIPTION:On the first Sunday of the month we leave the pews and worship
  cafe style. An informal\, interactive service designed to help families g
 row in faith alongside new friends and old. Everyone genuinely welcome.
GEO:0.676174;51.73212
LOCATION:All Saints\, Maldon
URL:https://www.achurchnearyou.com/church/6487/service-and-events/events/1
 084802/
END:VEVENT
BEGIN:VEVENT
SUMMARY:Worship for All/Regeneration
DTSTART;TZID=Europe/London:20270307T093000
DTEND;TZID=Europe/London:20270307T103000
DTSTAMP:20260421T210649Z
UID:10848022027-03-07 09:30:00+00:00achurchnearyou
CATEGORIES:
DESCRIPTION:On the first Sunday of the month we leave the pews and worship
  cafe style. An informal\, interactive service designed to help families g
 row in faith alongside new friends and old. Everyone genuinely welcome.
GEO:0.676174;51.73212
LOCATION:All Saints\, Maldon
URL:https://www.achurchnearyou.com/church/6487/service-and-events/events/1
 084802/
END:VEVENT
BEGIN:VEVENT
SUMMARY:Worship for All/Regeneration
DTSTART;TZID=Europe/London:20270404T093000
DTEND;TZID=Europe/London:20270404T103000
DTSTAMP:20260421T210649Z
UID:10848022027-04-04 09:30:00+01:00achurchnearyou
CATEGORIES:
DESCRIPTION:On the first Sunday of the month we leave the pews and worship
  cafe style. An informal\, interactive service designed to help families g
 row in faith alongside new friends and old. Everyone genuinely welcome.
GEO:0.676174;51.73212
LOCATION:All Saints\, Maldon
URL:https://www.achurchnearyou.com/church/6487/service-and-events/events/1
 084802/
END:VEVENT
END:VCALENDAR
