BEGIN:VCALENDAR
VERSION:2.0
PRODID:-//achurchnearyou.com//eventfeed//EN
CALSCALE:GREGORIAN
METHOD:PUBLISH
X-WR-TIMEZONE:UTC
BEGIN:VEVENT
SUMMARY:Men's Group
DTSTART:20251208T193000Z
DTEND:20251208T213000Z
DTSTAMP:20260422T052816Z
UID:12361732025-12-08 19:30:00+00:00achurchnearyou
CATEGORIES:
DESCRIPTION:Christmas Indian meal when we will meet at Bengal Nights\, 4 T
 he Square\, CM9 4LT. Please contact Fr. Terry for information (his details
  are on the top of the bulletin which can be downloaded from our website).
LOCATION:Bengal Nights
URL:https://www.achurchnearyou.com/church/6488/service-and-events/events/1
 236173/
END:VEVENT
END:VCALENDAR
