BEGIN:VCALENDAR
VERSION:2.0
PRODID:-//achurchnearyou.com//eventfeed//EN
CALSCALE:GREGORIAN
METHOD:PUBLISH
X-WR-TIMEZONE:UTC
BEGIN:VEVENT
SUMMARY:Christmas Day Mass
DTSTART:20251225T103000Z
DTEND:20251225T120000Z
DTSTAMP:20260422T052759Z
UID:12533472025-12-25 10:30:00+00:00achurchnearyou
CATEGORIES:
DESCRIPTION:Come and celebrate the birth of Jesus.
GEO:0.68722;51.728718
LOCATION:Maldon: St Mary's
URL:https://www.achurchnearyou.com/church/6488/service-and-events/events/1
 253347/
END:VEVENT
END:VCALENDAR
