BEGIN:VCALENDAR
VERSION:2.0
PRODID:-//achurchnearyou.com//eventfeed//EN
CALSCALE:GREGORIAN
METHOD:PUBLISH
X-WR-TIMEZONE:UTC
BEGIN:VEVENT
SUMMARY:Christmas Eve Traditional Communion
DTSTART:20251224T094500Z
DTEND:20251224T104500Z
DTSTAMP:20260423T223827Z
UID:12538722025-12-24 09:45:00+00:00achurchnearyou
CATEGORIES:
DESCRIPTION:A traditional-style service of Holy Communion to start Christm
 as Eve
LOCATION:Lawford Church
URL:https://crossreachchurches.co.uk/index.php/christmas-at-cross-reach-ch
 urches/
END:VEVENT
END:VCALENDAR
