BEGIN:VCALENDAR
VERSION:2.0
PRODID:-//achurchnearyou.com//eventfeed//EN
CALSCALE:GREGORIAN
METHOD:PUBLISH
X-WR-TIMEZONE:UTC
BEGIN:VEVENT
SUMMARY:The Great Newport Bake Off
DTSTART:20250302T140000Z
DTEND:20250302T154500Z
DTSTAMP:20260424T181850Z
UID:11590332025-03-02 14:00:00+00:00achurchnearyou
CATEGORIES:
DESCRIPTION:Fancy entering our new Bake Off competition? Or just fancy a p
 iece of cake and a cuppa? Save the date!
GEO:0.213489;51.984548
LOCATION:St Mary the Virgin\, Newport\, Essex.
URL:https://www.stmarynewport.org.uk/Admin/Publisher/Document/DocumentEdit
 or.aspx?document_id=710252&GroupID=383638&tab=tbEditor
END:VEVENT
END:VCALENDAR
